BEGIN:VCALENDAR
VERSION:2.0
PRODID:-//Game Masters - ECPv6.15.20//NONSGML v1.0//EN
CALSCALE:GREGORIAN
METHOD:PUBLISH
X-WR-CALNAME:Game Masters
X-ORIGINAL-URL:https://gamemasterspgh.com
X-WR-CALDESC:Events for Game Masters
REFRESH-INTERVAL;VALUE=DURATION:PT1H
X-Robots-Tag:noindex
X-PUBLISHED-TTL:PT1H
BEGIN:VTIMEZONE
TZID:America/New_York
BEGIN:DAYLIGHT
TZOFFSETFROM:-0500
TZOFFSETTO:-0400
TZNAME:EDT
DTSTART:20250309T070000
END:DAYLIGHT
BEGIN:STANDARD
TZOFFSETFROM:-0400
TZOFFSETTO:-0500
TZNAME:EST
DTSTART:20251102T060000
END:STANDARD
BEGIN:DAYLIGHT
TZOFFSETFROM:-0500
TZOFFSETTO:-0400
TZNAME:EDT
DTSTART:20260308T070000
END:DAYLIGHT
BEGIN:STANDARD
TZOFFSETFROM:-0400
TZOFFSETTO:-0500
TZNAME:EST
DTSTART:20261101T060000
END:STANDARD
BEGIN:DAYLIGHT
TZOFFSETFROM:-0500
TZOFFSETTO:-0400
TZNAME:EDT
DTSTART:20270314T070000
END:DAYLIGHT
BEGIN:STANDARD
TZOFFSETFROM:-0400
TZOFFSETTO:-0500
TZNAME:EST
DTSTART:20271107T060000
END:STANDARD
BEGIN:DAYLIGHT
TZOFFSETFROM:-0500
TZOFFSETTO:-0400
TZNAME:EDT
DTSTART:20280312T070000
END:DAYLIGHT
BEGIN:STANDARD
TZOFFSETFROM:-0400
TZOFFSETTO:-0500
TZNAME:EST
DTSTART:20281105T060000
END:STANDARD
END:VTIMEZONE
BEGIN:VEVENT
DTSTART;TZID=America/New_York:20260505T183000
DTEND;TZID=America/New_York:20260505T220000
DTSTAMP:20260423T234519
CREATED:20250918T123730Z
LAST-MODIFIED:20250925T175734Z
UID:10016324-1778005800-1778018400@gamemasterspgh.com
SUMMARY:Tracie's Daggerheart Game
DESCRIPTION:Tracie runs a Daggerheart game every other Tuesday. \nPlaying on the tavern table.
URL:https://gamemasterspgh.com/event/tracies-daggerheart-game/2026-05-05/
LOCATION:Tavern Table\, 398 Perry Hwy\, Pittsburgh\, PA\, 15229\, United States
CATEGORIES:Closed,Tavern Table
ATTACH;FMTTYPE=image/jpeg:https://gamemasterspgh.com/wp-content/uploads/2025/09/daggerheart-banner.jpg
END:VEVENT
BEGIN:VEVENT
DTSTART;TZID=America/New_York:20260507T130000
DTEND;TZID=America/New_York:20260507T220000
DTSTAMP:20260423T234519
CREATED:20260401T123636Z
LAST-MODIFIED:20260401T123636Z
UID:10019274-1778158800-1778191200@gamemasterspgh.com
SUMMARY:Nikki's Strahd Campaign | Closed
DESCRIPTION:Closed game with a group of friends to play Strahd!
URL:https://gamemasterspgh.com/event/nikkis-strahd-campaign-closed/
LOCATION:Tavern Table\, 398 Perry Hwy\, Pittsburgh\, PA\, 15229\, United States
CATEGORIES:Closed,Tavern Table
END:VEVENT
BEGIN:VEVENT
DTSTART;TZID=America/New_York:20260519T183000
DTEND;TZID=America/New_York:20260519T220000
DTSTAMP:20260423T234519
CREATED:20250918T123730Z
LAST-MODIFIED:20250925T175734Z
UID:10016325-1779215400-1779228000@gamemasterspgh.com
SUMMARY:Tracie's Daggerheart Game
DESCRIPTION:Tracie runs a Daggerheart game every other Tuesday. \nPlaying on the tavern table.
URL:https://gamemasterspgh.com/event/tracies-daggerheart-game/2026-05-19/
LOCATION:Tavern Table\, 398 Perry Hwy\, Pittsburgh\, PA\, 15229\, United States
CATEGORIES:Closed,Tavern Table
ATTACH;FMTTYPE=image/jpeg:https://gamemasterspgh.com/wp-content/uploads/2025/09/daggerheart-banner.jpg
END:VEVENT
BEGIN:VEVENT
DTSTART;TZID=America/New_York:20260602T183000
DTEND;TZID=America/New_York:20260602T220000
DTSTAMP:20260423T234519
CREATED:20250918T123730Z
LAST-MODIFIED:20250925T175734Z
UID:10016326-1780425000-1780437600@gamemasterspgh.com
SUMMARY:Tracie's Daggerheart Game
DESCRIPTION:Tracie runs a Daggerheart game every other Tuesday. \nPlaying on the tavern table.
URL:https://gamemasterspgh.com/event/tracies-daggerheart-game/2026-06-02/
LOCATION:Tavern Table\, 398 Perry Hwy\, Pittsburgh\, PA\, 15229\, United States
CATEGORIES:Closed,Tavern Table
ATTACH;FMTTYPE=image/jpeg:https://gamemasterspgh.com/wp-content/uploads/2025/09/daggerheart-banner.jpg
END:VEVENT
BEGIN:VEVENT
DTSTART;TZID=America/New_York:20260616T183000
DTEND;TZID=America/New_York:20260616T220000
DTSTAMP:20260423T234519
CREATED:20250918T123730Z
LAST-MODIFIED:20250925T175734Z
UID:10016327-1781634600-1781647200@gamemasterspgh.com
SUMMARY:Tracie's Daggerheart Game
DESCRIPTION:Tracie runs a Daggerheart game every other Tuesday. \nPlaying on the tavern table.
URL:https://gamemasterspgh.com/event/tracies-daggerheart-game/2026-06-16/
LOCATION:Tavern Table\, 398 Perry Hwy\, Pittsburgh\, PA\, 15229\, United States
CATEGORIES:Closed,Tavern Table
ATTACH;FMTTYPE=image/jpeg:https://gamemasterspgh.com/wp-content/uploads/2025/09/daggerheart-banner.jpg
END:VEVENT
BEGIN:VEVENT
DTSTART;TZID=America/New_York:20260630T183000
DTEND;TZID=America/New_York:20260630T220000
DTSTAMP:20260423T234519
CREATED:20250918T123730Z
LAST-MODIFIED:20250925T175734Z
UID:10016328-1782844200-1782856800@gamemasterspgh.com
SUMMARY:Tracie's Daggerheart Game
DESCRIPTION:Tracie runs a Daggerheart game every other Tuesday. \nPlaying on the tavern table.
URL:https://gamemasterspgh.com/event/tracies-daggerheart-game/2026-06-30/
LOCATION:Tavern Table\, 398 Perry Hwy\, Pittsburgh\, PA\, 15229\, United States
CATEGORIES:Closed,Tavern Table
ATTACH;FMTTYPE=image/jpeg:https://gamemasterspgh.com/wp-content/uploads/2025/09/daggerheart-banner.jpg
END:VEVENT
BEGIN:VEVENT
DTSTART;TZID=America/New_York:20260714T183000
DTEND;TZID=America/New_York:20260714T220000
DTSTAMP:20260423T234519
CREATED:20250918T123730Z
LAST-MODIFIED:20250925T175734Z
UID:10016329-1784053800-1784066400@gamemasterspgh.com
SUMMARY:Tracie's Daggerheart Game
DESCRIPTION:Tracie runs a Daggerheart game every other Tuesday. \nPlaying on the tavern table.
URL:https://gamemasterspgh.com/event/tracies-daggerheart-game/2026-07-14/
LOCATION:Tavern Table\, 398 Perry Hwy\, Pittsburgh\, PA\, 15229\, United States
CATEGORIES:Closed,Tavern Table
ATTACH;FMTTYPE=image/jpeg:https://gamemasterspgh.com/wp-content/uploads/2025/09/daggerheart-banner.jpg
END:VEVENT
BEGIN:VEVENT
DTSTART;TZID=America/New_York:20260728T183000
DTEND;TZID=America/New_York:20260728T220000
DTSTAMP:20260423T234519
CREATED:20250918T123730Z
LAST-MODIFIED:20250925T175734Z
UID:10016330-1785263400-1785276000@gamemasterspgh.com
SUMMARY:Tracie's Daggerheart Game
DESCRIPTION:Tracie runs a Daggerheart game every other Tuesday. \nPlaying on the tavern table.
URL:https://gamemasterspgh.com/event/tracies-daggerheart-game/2026-07-28/
LOCATION:Tavern Table\, 398 Perry Hwy\, Pittsburgh\, PA\, 15229\, United States
CATEGORIES:Closed,Tavern Table
ATTACH;FMTTYPE=image/jpeg:https://gamemasterspgh.com/wp-content/uploads/2025/09/daggerheart-banner.jpg
END:VEVENT
BEGIN:VEVENT
DTSTART;TZID=America/New_York:20260811T183000
DTEND;TZID=America/New_York:20260811T220000
DTSTAMP:20260423T234519
CREATED:20250918T123730Z
LAST-MODIFIED:20250925T175734Z
UID:10016331-1786473000-1786485600@gamemasterspgh.com
SUMMARY:Tracie's Daggerheart Game
DESCRIPTION:Tracie runs a Daggerheart game every other Tuesday. \nPlaying on the tavern table.
URL:https://gamemasterspgh.com/event/tracies-daggerheart-game/2026-08-11/
LOCATION:Tavern Table\, 398 Perry Hwy\, Pittsburgh\, PA\, 15229\, United States
CATEGORIES:Closed,Tavern Table
ATTACH;FMTTYPE=image/jpeg:https://gamemasterspgh.com/wp-content/uploads/2025/09/daggerheart-banner.jpg
END:VEVENT
BEGIN:VEVENT
DTSTART;TZID=America/New_York:20260825T183000
DTEND;TZID=America/New_York:20260825T220000
DTSTAMP:20260423T234519
CREATED:20250918T123730Z
LAST-MODIFIED:20250925T175734Z
UID:10016332-1787682600-1787695200@gamemasterspgh.com
SUMMARY:Tracie's Daggerheart Game
DESCRIPTION:Tracie runs a Daggerheart game every other Tuesday. \nPlaying on the tavern table.
URL:https://gamemasterspgh.com/event/tracies-daggerheart-game/2026-08-25/
LOCATION:Tavern Table\, 398 Perry Hwy\, Pittsburgh\, PA\, 15229\, United States
CATEGORIES:Closed,Tavern Table
ATTACH;FMTTYPE=image/jpeg:https://gamemasterspgh.com/wp-content/uploads/2025/09/daggerheart-banner.jpg
END:VEVENT
BEGIN:VEVENT
DTSTART;TZID=America/New_York:20260908T183000
DTEND;TZID=America/New_York:20260908T220000
DTSTAMP:20260423T234519
CREATED:20250918T123730Z
LAST-MODIFIED:20250925T175734Z
UID:10016333-1788892200-1788904800@gamemasterspgh.com
SUMMARY:Tracie's Daggerheart Game
DESCRIPTION:Tracie runs a Daggerheart game every other Tuesday. \nPlaying on the tavern table.
URL:https://gamemasterspgh.com/event/tracies-daggerheart-game/2026-09-08/
LOCATION:Tavern Table\, 398 Perry Hwy\, Pittsburgh\, PA\, 15229\, United States
CATEGORIES:Closed,Tavern Table
ATTACH;FMTTYPE=image/jpeg:https://gamemasterspgh.com/wp-content/uploads/2025/09/daggerheart-banner.jpg
END:VEVENT
BEGIN:VEVENT
DTSTART;TZID=America/New_York:20260922T183000
DTEND;TZID=America/New_York:20260922T220000
DTSTAMP:20260423T234519
CREATED:20250918T123730Z
LAST-MODIFIED:20250925T175734Z
UID:10016334-1790101800-1790114400@gamemasterspgh.com
SUMMARY:Tracie's Daggerheart Game
DESCRIPTION:Tracie runs a Daggerheart game every other Tuesday. \nPlaying on the tavern table.
URL:https://gamemasterspgh.com/event/tracies-daggerheart-game/2026-09-22/
LOCATION:Tavern Table\, 398 Perry Hwy\, Pittsburgh\, PA\, 15229\, United States
CATEGORIES:Closed,Tavern Table
ATTACH;FMTTYPE=image/jpeg:https://gamemasterspgh.com/wp-content/uploads/2025/09/daggerheart-banner.jpg
END:VEVENT
BEGIN:VEVENT
DTSTART;TZID=America/New_York:20261006T183000
DTEND;TZID=America/New_York:20261006T220000
DTSTAMP:20260423T234519
CREATED:20250918T123730Z
LAST-MODIFIED:20250925T175734Z
UID:10016335-1791311400-1791324000@gamemasterspgh.com
SUMMARY:Tracie's Daggerheart Game
DESCRIPTION:Tracie runs a Daggerheart game every other Tuesday. \nPlaying on the tavern table.
URL:https://gamemasterspgh.com/event/tracies-daggerheart-game/2026-10-06/
LOCATION:Tavern Table\, 398 Perry Hwy\, Pittsburgh\, PA\, 15229\, United States
CATEGORIES:Closed,Tavern Table
ATTACH;FMTTYPE=image/jpeg:https://gamemasterspgh.com/wp-content/uploads/2025/09/daggerheart-banner.jpg
END:VEVENT
BEGIN:VEVENT
DTSTART;TZID=America/New_York:20261020T183000
DTEND;TZID=America/New_York:20261020T220000
DTSTAMP:20260423T234519
CREATED:20250918T123730Z
LAST-MODIFIED:20250925T175734Z
UID:10016336-1792521000-1792533600@gamemasterspgh.com
SUMMARY:Tracie's Daggerheart Game
DESCRIPTION:Tracie runs a Daggerheart game every other Tuesday. \nPlaying on the tavern table.
URL:https://gamemasterspgh.com/event/tracies-daggerheart-game/2026-10-20/
LOCATION:Tavern Table\, 398 Perry Hwy\, Pittsburgh\, PA\, 15229\, United States
CATEGORIES:Closed,Tavern Table
ATTACH;FMTTYPE=image/jpeg:https://gamemasterspgh.com/wp-content/uploads/2025/09/daggerheart-banner.jpg
END:VEVENT
BEGIN:VEVENT
DTSTART;TZID=America/New_York:20261103T183000
DTEND;TZID=America/New_York:20261103T220000
DTSTAMP:20260423T234519
CREATED:20250918T123730Z
LAST-MODIFIED:20250925T175734Z
UID:10016337-1793730600-1793743200@gamemasterspgh.com
SUMMARY:Tracie's Daggerheart Game
DESCRIPTION:Tracie runs a Daggerheart game every other Tuesday. \nPlaying on the tavern table.
URL:https://gamemasterspgh.com/event/tracies-daggerheart-game/2026-11-03/
LOCATION:Tavern Table\, 398 Perry Hwy\, Pittsburgh\, PA\, 15229\, United States
CATEGORIES:Closed,Tavern Table
ATTACH;FMTTYPE=image/jpeg:https://gamemasterspgh.com/wp-content/uploads/2025/09/daggerheart-banner.jpg
END:VEVENT
BEGIN:VEVENT
DTSTART;TZID=America/New_York:20261117T183000
DTEND;TZID=America/New_York:20261117T220000
DTSTAMP:20260423T234519
CREATED:20250918T123730Z
LAST-MODIFIED:20250925T175734Z
UID:10016338-1794940200-1794952800@gamemasterspgh.com
SUMMARY:Tracie's Daggerheart Game
DESCRIPTION:Tracie runs a Daggerheart game every other Tuesday. \nPlaying on the tavern table.
URL:https://gamemasterspgh.com/event/tracies-daggerheart-game/2026-11-17/
LOCATION:Tavern Table\, 398 Perry Hwy\, Pittsburgh\, PA\, 15229\, United States
CATEGORIES:Closed,Tavern Table
ATTACH;FMTTYPE=image/jpeg:https://gamemasterspgh.com/wp-content/uploads/2025/09/daggerheart-banner.jpg
END:VEVENT
BEGIN:VEVENT
DTSTART;TZID=America/New_York:20261201T183000
DTEND;TZID=America/New_York:20261201T220000
DTSTAMP:20260423T234519
CREATED:20250918T123730Z
LAST-MODIFIED:20250925T175734Z
UID:10016339-1796149800-1796162400@gamemasterspgh.com
SUMMARY:Tracie's Daggerheart Game
DESCRIPTION:Tracie runs a Daggerheart game every other Tuesday. \nPlaying on the tavern table.
URL:https://gamemasterspgh.com/event/tracies-daggerheart-game/2026-12-01/
LOCATION:Tavern Table\, 398 Perry Hwy\, Pittsburgh\, PA\, 15229\, United States
CATEGORIES:Closed,Tavern Table
ATTACH;FMTTYPE=image/jpeg:https://gamemasterspgh.com/wp-content/uploads/2025/09/daggerheart-banner.jpg
END:VEVENT
BEGIN:VEVENT
DTSTART;TZID=America/New_York:20261215T183000
DTEND;TZID=America/New_York:20261215T220000
DTSTAMP:20260423T234519
CREATED:20250918T123730Z
LAST-MODIFIED:20250925T175734Z
UID:10016340-1797359400-1797372000@gamemasterspgh.com
SUMMARY:Tracie's Daggerheart Game
DESCRIPTION:Tracie runs a Daggerheart game every other Tuesday. \nPlaying on the tavern table.
URL:https://gamemasterspgh.com/event/tracies-daggerheart-game/2026-12-15/
LOCATION:Tavern Table\, 398 Perry Hwy\, Pittsburgh\, PA\, 15229\, United States
CATEGORIES:Closed,Tavern Table
ATTACH;FMTTYPE=image/jpeg:https://gamemasterspgh.com/wp-content/uploads/2025/09/daggerheart-banner.jpg
END:VEVENT
BEGIN:VEVENT
DTSTART;TZID=America/New_York:20261229T183000
DTEND;TZID=America/New_York:20261229T220000
DTSTAMP:20260423T234519
CREATED:20250918T123730Z
LAST-MODIFIED:20250925T175734Z
UID:10016341-1798569000-1798581600@gamemasterspgh.com
SUMMARY:Tracie's Daggerheart Game
DESCRIPTION:Tracie runs a Daggerheart game every other Tuesday. \nPlaying on the tavern table.
URL:https://gamemasterspgh.com/event/tracies-daggerheart-game/2026-12-29/
LOCATION:Tavern Table\, 398 Perry Hwy\, Pittsburgh\, PA\, 15229\, United States
CATEGORIES:Closed,Tavern Table
ATTACH;FMTTYPE=image/jpeg:https://gamemasterspgh.com/wp-content/uploads/2025/09/daggerheart-banner.jpg
END:VEVENT
BEGIN:VEVENT
DTSTART;TZID=America/New_York:20270112T183000
DTEND;TZID=America/New_York:20270112T220000
DTSTAMP:20260423T234519
CREATED:20250918T123730Z
LAST-MODIFIED:20250925T175734Z
UID:10016342-1799778600-1799791200@gamemasterspgh.com
SUMMARY:Tracie's Daggerheart Game
DESCRIPTION:Tracie runs a Daggerheart game every other Tuesday. \nPlaying on the tavern table.
URL:https://gamemasterspgh.com/event/tracies-daggerheart-game/2027-01-12/
LOCATION:Tavern Table\, 398 Perry Hwy\, Pittsburgh\, PA\, 15229\, United States
CATEGORIES:Closed,Tavern Table
ATTACH;FMTTYPE=image/jpeg:https://gamemasterspgh.com/wp-content/uploads/2025/09/daggerheart-banner.jpg
END:VEVENT
BEGIN:VEVENT
DTSTART;TZID=America/New_York:20270126T183000
DTEND;TZID=America/New_York:20270126T220000
DTSTAMP:20260423T234519
CREATED:20250918T123730Z
LAST-MODIFIED:20250925T175734Z
UID:10016343-1800988200-1801000800@gamemasterspgh.com
SUMMARY:Tracie's Daggerheart Game
DESCRIPTION:Tracie runs a Daggerheart game every other Tuesday. \nPlaying on the tavern table.
URL:https://gamemasterspgh.com/event/tracies-daggerheart-game/2027-01-26/
LOCATION:Tavern Table\, 398 Perry Hwy\, Pittsburgh\, PA\, 15229\, United States
CATEGORIES:Closed,Tavern Table
ATTACH;FMTTYPE=image/jpeg:https://gamemasterspgh.com/wp-content/uploads/2025/09/daggerheart-banner.jpg
END:VEVENT
BEGIN:VEVENT
DTSTART;TZID=America/New_York:20270209T183000
DTEND;TZID=America/New_York:20270209T220000
DTSTAMP:20260423T234519
CREATED:20250918T123730Z
LAST-MODIFIED:20250925T175734Z
UID:10016344-1802197800-1802210400@gamemasterspgh.com
SUMMARY:Tracie's Daggerheart Game
DESCRIPTION:Tracie runs a Daggerheart game every other Tuesday. \nPlaying on the tavern table.
URL:https://gamemasterspgh.com/event/tracies-daggerheart-game/2027-02-09/
LOCATION:Tavern Table\, 398 Perry Hwy\, Pittsburgh\, PA\, 15229\, United States
CATEGORIES:Closed,Tavern Table
ATTACH;FMTTYPE=image/jpeg:https://gamemasterspgh.com/wp-content/uploads/2025/09/daggerheart-banner.jpg
END:VEVENT
BEGIN:VEVENT
DTSTART;TZID=America/New_York:20270223T183000
DTEND;TZID=America/New_York:20270223T220000
DTSTAMP:20260423T234519
CREATED:20250918T123730Z
LAST-MODIFIED:20250925T175734Z
UID:10016345-1803407400-1803420000@gamemasterspgh.com
SUMMARY:Tracie's Daggerheart Game
DESCRIPTION:Tracie runs a Daggerheart game every other Tuesday. \nPlaying on the tavern table.
URL:https://gamemasterspgh.com/event/tracies-daggerheart-game/2027-02-23/
LOCATION:Tavern Table\, 398 Perry Hwy\, Pittsburgh\, PA\, 15229\, United States
CATEGORIES:Closed,Tavern Table
ATTACH;FMTTYPE=image/jpeg:https://gamemasterspgh.com/wp-content/uploads/2025/09/daggerheart-banner.jpg
END:VEVENT
BEGIN:VEVENT
DTSTART;TZID=America/New_York:20270309T183000
DTEND;TZID=America/New_York:20270309T220000
DTSTAMP:20260423T234519
CREATED:20250918T123730Z
LAST-MODIFIED:20250925T175734Z
UID:10016346-1804617000-1804629600@gamemasterspgh.com
SUMMARY:Tracie's Daggerheart Game
DESCRIPTION:Tracie runs a Daggerheart game every other Tuesday. \nPlaying on the tavern table.
URL:https://gamemasterspgh.com/event/tracies-daggerheart-game/2027-03-09/
LOCATION:Tavern Table\, 398 Perry Hwy\, Pittsburgh\, PA\, 15229\, United States
CATEGORIES:Closed,Tavern Table
ATTACH;FMTTYPE=image/jpeg:https://gamemasterspgh.com/wp-content/uploads/2025/09/daggerheart-banner.jpg
END:VEVENT
BEGIN:VEVENT
DTSTART;TZID=America/New_York:20270323T183000
DTEND;TZID=America/New_York:20270323T220000
DTSTAMP:20260423T234519
CREATED:20250918T123730Z
LAST-MODIFIED:20250925T175734Z
UID:10016347-1805826600-1805839200@gamemasterspgh.com
SUMMARY:Tracie's Daggerheart Game
DESCRIPTION:Tracie runs a Daggerheart game every other Tuesday. \nPlaying on the tavern table.
URL:https://gamemasterspgh.com/event/tracies-daggerheart-game/2027-03-23/
LOCATION:Tavern Table\, 398 Perry Hwy\, Pittsburgh\, PA\, 15229\, United States
CATEGORIES:Closed,Tavern Table
ATTACH;FMTTYPE=image/jpeg:https://gamemasterspgh.com/wp-content/uploads/2025/09/daggerheart-banner.jpg
END:VEVENT
BEGIN:VEVENT
DTSTART;TZID=America/New_York:20270406T183000
DTEND;TZID=America/New_York:20270406T220000
DTSTAMP:20260423T234519
CREATED:20250918T123730Z
LAST-MODIFIED:20250925T175734Z
UID:10016348-1807036200-1807048800@gamemasterspgh.com
SUMMARY:Tracie's Daggerheart Game
DESCRIPTION:Tracie runs a Daggerheart game every other Tuesday. \nPlaying on the tavern table.
URL:https://gamemasterspgh.com/event/tracies-daggerheart-game/2027-04-06/
LOCATION:Tavern Table\, 398 Perry Hwy\, Pittsburgh\, PA\, 15229\, United States
CATEGORIES:Closed,Tavern Table
ATTACH;FMTTYPE=image/jpeg:https://gamemasterspgh.com/wp-content/uploads/2025/09/daggerheart-banner.jpg
END:VEVENT
BEGIN:VEVENT
DTSTART;TZID=America/New_York:20270420T183000
DTEND;TZID=America/New_York:20270420T220000
DTSTAMP:20260423T234519
CREATED:20250918T123730Z
LAST-MODIFIED:20250925T175734Z
UID:10016349-1808245800-1808258400@gamemasterspgh.com
SUMMARY:Tracie's Daggerheart Game
DESCRIPTION:Tracie runs a Daggerheart game every other Tuesday. \nPlaying on the tavern table.
URL:https://gamemasterspgh.com/event/tracies-daggerheart-game/2027-04-20/
LOCATION:Tavern Table\, 398 Perry Hwy\, Pittsburgh\, PA\, 15229\, United States
CATEGORIES:Closed,Tavern Table
ATTACH;FMTTYPE=image/jpeg:https://gamemasterspgh.com/wp-content/uploads/2025/09/daggerheart-banner.jpg
END:VEVENT
BEGIN:VEVENT
DTSTART;TZID=America/New_York:20270504T183000
DTEND;TZID=America/New_York:20270504T220000
DTSTAMP:20260423T234519
CREATED:20250918T123730Z
LAST-MODIFIED:20250925T175734Z
UID:10016350-1809455400-1809468000@gamemasterspgh.com
SUMMARY:Tracie's Daggerheart Game
DESCRIPTION:Tracie runs a Daggerheart game every other Tuesday. \nPlaying on the tavern table.
URL:https://gamemasterspgh.com/event/tracies-daggerheart-game/2027-05-04/
LOCATION:Tavern Table\, 398 Perry Hwy\, Pittsburgh\, PA\, 15229\, United States
CATEGORIES:Closed,Tavern Table
ATTACH;FMTTYPE=image/jpeg:https://gamemasterspgh.com/wp-content/uploads/2025/09/daggerheart-banner.jpg
END:VEVENT
BEGIN:VEVENT
DTSTART;TZID=America/New_York:20270518T183000
DTEND;TZID=America/New_York:20270518T220000
DTSTAMP:20260423T234519
CREATED:20250918T123730Z
LAST-MODIFIED:20250925T175734Z
UID:10016351-1810665000-1810677600@gamemasterspgh.com
SUMMARY:Tracie's Daggerheart Game
DESCRIPTION:Tracie runs a Daggerheart game every other Tuesday. \nPlaying on the tavern table.
URL:https://gamemasterspgh.com/event/tracies-daggerheart-game/2027-05-18/
LOCATION:Tavern Table\, 398 Perry Hwy\, Pittsburgh\, PA\, 15229\, United States
CATEGORIES:Closed,Tavern Table
ATTACH;FMTTYPE=image/jpeg:https://gamemasterspgh.com/wp-content/uploads/2025/09/daggerheart-banner.jpg
END:VEVENT
BEGIN:VEVENT
DTSTART;TZID=America/New_York:20270601T183000
DTEND;TZID=America/New_York:20270601T220000
DTSTAMP:20260423T234519
CREATED:20250918T123730Z
LAST-MODIFIED:20250925T175734Z
UID:10016352-1811874600-1811887200@gamemasterspgh.com
SUMMARY:Tracie's Daggerheart Game
DESCRIPTION:Tracie runs a Daggerheart game every other Tuesday. \nPlaying on the tavern table.
URL:https://gamemasterspgh.com/event/tracies-daggerheart-game/2027-06-01/
LOCATION:Tavern Table\, 398 Perry Hwy\, Pittsburgh\, PA\, 15229\, United States
CATEGORIES:Closed,Tavern Table
ATTACH;FMTTYPE=image/jpeg:https://gamemasterspgh.com/wp-content/uploads/2025/09/daggerheart-banner.jpg
END:VEVENT
END:VCALENDAR