BEGIN:VCALENDAR
VERSION:2.0
PRODID:-//Game Masters - ECPv6.15.20//NONSGML v1.0//EN
CALSCALE:GREGORIAN
METHOD:PUBLISH
X-ORIGINAL-URL:https://gamemasterspgh.com
X-WR-CALDESC:Events for Game Masters
REFRESH-INTERVAL;VALUE=DURATION:PT1H
X-Robots-Tag:noindex
X-PUBLISHED-TTL:PT1H
BEGIN:VTIMEZONE
TZID:America/New_York
BEGIN:DAYLIGHT
TZOFFSETFROM:-0500
TZOFFSETTO:-0400
TZNAME:EDT
DTSTART:20250309T070000
END:DAYLIGHT
BEGIN:STANDARD
TZOFFSETFROM:-0400
TZOFFSETTO:-0500
TZNAME:EST
DTSTART:20251102T060000
END:STANDARD
BEGIN:DAYLIGHT
TZOFFSETFROM:-0500
TZOFFSETTO:-0400
TZNAME:EDT
DTSTART:20260308T070000
END:DAYLIGHT
BEGIN:STANDARD
TZOFFSETFROM:-0400
TZOFFSETTO:-0500
TZNAME:EST
DTSTART:20261101T060000
END:STANDARD
BEGIN:DAYLIGHT
TZOFFSETFROM:-0500
TZOFFSETTO:-0400
TZNAME:EDT
DTSTART:20270314T070000
END:DAYLIGHT
BEGIN:STANDARD
TZOFFSETFROM:-0400
TZOFFSETTO:-0500
TZNAME:EST
DTSTART:20271107T060000
END:STANDARD
END:VTIMEZONE
BEGIN:VEVENT
DTSTART;TZID=America/New_York:20260429T190000
DTEND;TZID=America/New_York:20260429T220000
DTSTAMP:20260424T182129
CREATED:20230209T113528Z
LAST-MODIFIED:20251225T035225Z
UID:10009519-1777489200-1777500000@gamemasterspgh.com
SUMMARY:Pathfinder 1st Edition Rise of the Runelords Adventure Path
DESCRIPTION:A weekly campaign loosely following Paizo’s first published adventure path\, a campaign that spans six books from levels 1-18. A moderate amount of homebrew content is periodically introduced\, tested\, and iterated on.
URL:https://gamemasterspgh.com/event/pathfinder-1st-edition-rise-of-the-runelords-adventure-path/2026-04-29/
LOCATION:Regular Table\, 398 Perry Hwy\, Pittsburgh\, PA\, 15229\, United States
ATTACH;FMTTYPE=image/jpeg:https://gamemasterspgh.com/wp-content/uploads/2023/02/PZO1002_500.jpeg
ORGANIZER;CN="Victor Sapp":MAILTO:silvos.ruin@gmail.com
END:VEVENT
BEGIN:VEVENT
DTSTART;TZID=America/New_York:20260429T190000
DTEND;TZID=America/New_York:20260429T220000
DTSTAMP:20260424T182129
CREATED:20251119T183722Z
LAST-MODIFIED:20251225T035216Z
UID:10016922-1777489200-1777500000@gamemasterspgh.com
SUMMARY:Victor's Pathfinder Game
DESCRIPTION:Victor run a TTRPG every Wednesday (barring holidays and cancelations)\, the game is currently a Pathfinder Adventure Path/Homebrew though that is subject to change.
URL:https://gamemasterspgh.com/event/victors-pathfinder-game/2026-04-29/
LOCATION:Regular Table\, 398 Perry Hwy\, Pittsburgh\, PA\, 15229\, United States
CATEGORIES:Closed
ATTACH;FMTTYPE=image/jpeg:https://gamemasterspgh.com/wp-content/uploads/2025/11/ROTR.jpg
ORGANIZER;CN="Victor Sapp":MAILTO:silvos.ruin@gmail.com
END:VEVENT
BEGIN:VEVENT
DTSTART;TZID=America/New_York:20260506T190000
DTEND;TZID=America/New_York:20260506T220000
DTSTAMP:20260424T182129
CREATED:20230209T113528Z
LAST-MODIFIED:20251225T035225Z
UID:10009520-1778094000-1778104800@gamemasterspgh.com
SUMMARY:Pathfinder 1st Edition Rise of the Runelords Adventure Path
DESCRIPTION:A weekly campaign loosely following Paizo’s first published adventure path\, a campaign that spans six books from levels 1-18. A moderate amount of homebrew content is periodically introduced\, tested\, and iterated on.
URL:https://gamemasterspgh.com/event/pathfinder-1st-edition-rise-of-the-runelords-adventure-path/2026-05-06/
LOCATION:Regular Table\, 398 Perry Hwy\, Pittsburgh\, PA\, 15229\, United States
ATTACH;FMTTYPE=image/jpeg:https://gamemasterspgh.com/wp-content/uploads/2023/02/PZO1002_500.jpeg
ORGANIZER;CN="Victor Sapp":MAILTO:silvos.ruin@gmail.com
END:VEVENT
BEGIN:VEVENT
DTSTART;TZID=America/New_York:20260506T190000
DTEND;TZID=America/New_York:20260506T220000
DTSTAMP:20260424T182129
CREATED:20251119T183722Z
LAST-MODIFIED:20251225T035216Z
UID:10016923-1778094000-1778104800@gamemasterspgh.com
SUMMARY:Victor's Pathfinder Game
DESCRIPTION:Victor run a TTRPG every Wednesday (barring holidays and cancelations)\, the game is currently a Pathfinder Adventure Path/Homebrew though that is subject to change.
URL:https://gamemasterspgh.com/event/victors-pathfinder-game/2026-05-06/
LOCATION:Regular Table\, 398 Perry Hwy\, Pittsburgh\, PA\, 15229\, United States
CATEGORIES:Closed
ATTACH;FMTTYPE=image/jpeg:https://gamemasterspgh.com/wp-content/uploads/2025/11/ROTR.jpg
ORGANIZER;CN="Victor Sapp":MAILTO:silvos.ruin@gmail.com
END:VEVENT
BEGIN:VEVENT
DTSTART;TZID=America/New_York:20260513T190000
DTEND;TZID=America/New_York:20260513T220000
DTSTAMP:20260424T182129
CREATED:20230209T113528Z
LAST-MODIFIED:20251225T035225Z
UID:10009521-1778698800-1778709600@gamemasterspgh.com
SUMMARY:Pathfinder 1st Edition Rise of the Runelords Adventure Path
DESCRIPTION:A weekly campaign loosely following Paizo’s first published adventure path\, a campaign that spans six books from levels 1-18. A moderate amount of homebrew content is periodically introduced\, tested\, and iterated on.
URL:https://gamemasterspgh.com/event/pathfinder-1st-edition-rise-of-the-runelords-adventure-path/2026-05-13/
LOCATION:Regular Table\, 398 Perry Hwy\, Pittsburgh\, PA\, 15229\, United States
ATTACH;FMTTYPE=image/jpeg:https://gamemasterspgh.com/wp-content/uploads/2023/02/PZO1002_500.jpeg
ORGANIZER;CN="Victor Sapp":MAILTO:silvos.ruin@gmail.com
END:VEVENT
BEGIN:VEVENT
DTSTART;TZID=America/New_York:20260513T190000
DTEND;TZID=America/New_York:20260513T220000
DTSTAMP:20260424T182129
CREATED:20251119T183722Z
LAST-MODIFIED:20251225T035216Z
UID:10016924-1778698800-1778709600@gamemasterspgh.com
SUMMARY:Victor's Pathfinder Game
DESCRIPTION:Victor run a TTRPG every Wednesday (barring holidays and cancelations)\, the game is currently a Pathfinder Adventure Path/Homebrew though that is subject to change.
URL:https://gamemasterspgh.com/event/victors-pathfinder-game/2026-05-13/
LOCATION:Regular Table\, 398 Perry Hwy\, Pittsburgh\, PA\, 15229\, United States
CATEGORIES:Closed
ATTACH;FMTTYPE=image/jpeg:https://gamemasterspgh.com/wp-content/uploads/2025/11/ROTR.jpg
ORGANIZER;CN="Victor Sapp":MAILTO:silvos.ruin@gmail.com
END:VEVENT
BEGIN:VEVENT
DTSTART;TZID=America/New_York:20260520T190000
DTEND;TZID=America/New_York:20260520T220000
DTSTAMP:20260424T182129
CREATED:20230209T113528Z
LAST-MODIFIED:20251225T035225Z
UID:10009522-1779303600-1779314400@gamemasterspgh.com
SUMMARY:Pathfinder 1st Edition Rise of the Runelords Adventure Path
DESCRIPTION:A weekly campaign loosely following Paizo’s first published adventure path\, a campaign that spans six books from levels 1-18. A moderate amount of homebrew content is periodically introduced\, tested\, and iterated on.
URL:https://gamemasterspgh.com/event/pathfinder-1st-edition-rise-of-the-runelords-adventure-path/2026-05-20/
LOCATION:Regular Table\, 398 Perry Hwy\, Pittsburgh\, PA\, 15229\, United States
ATTACH;FMTTYPE=image/jpeg:https://gamemasterspgh.com/wp-content/uploads/2023/02/PZO1002_500.jpeg
ORGANIZER;CN="Victor Sapp":MAILTO:silvos.ruin@gmail.com
END:VEVENT
BEGIN:VEVENT
DTSTART;TZID=America/New_York:20260520T190000
DTEND;TZID=America/New_York:20260520T220000
DTSTAMP:20260424T182129
CREATED:20251119T183722Z
LAST-MODIFIED:20251225T035216Z
UID:10016925-1779303600-1779314400@gamemasterspgh.com
SUMMARY:Victor's Pathfinder Game
DESCRIPTION:Victor run a TTRPG every Wednesday (barring holidays and cancelations)\, the game is currently a Pathfinder Adventure Path/Homebrew though that is subject to change.
URL:https://gamemasterspgh.com/event/victors-pathfinder-game/2026-05-20/
LOCATION:Regular Table\, 398 Perry Hwy\, Pittsburgh\, PA\, 15229\, United States
CATEGORIES:Closed
ATTACH;FMTTYPE=image/jpeg:https://gamemasterspgh.com/wp-content/uploads/2025/11/ROTR.jpg
ORGANIZER;CN="Victor Sapp":MAILTO:silvos.ruin@gmail.com
END:VEVENT
BEGIN:VEVENT
DTSTART;TZID=America/New_York:20260527T190000
DTEND;TZID=America/New_York:20260527T220000
DTSTAMP:20260424T182129
CREATED:20230209T113528Z
LAST-MODIFIED:20251225T035225Z
UID:10009523-1779908400-1779919200@gamemasterspgh.com
SUMMARY:Pathfinder 1st Edition Rise of the Runelords Adventure Path
DESCRIPTION:A weekly campaign loosely following Paizo’s first published adventure path\, a campaign that spans six books from levels 1-18. A moderate amount of homebrew content is periodically introduced\, tested\, and iterated on.
URL:https://gamemasterspgh.com/event/pathfinder-1st-edition-rise-of-the-runelords-adventure-path/2026-05-27/
LOCATION:Regular Table\, 398 Perry Hwy\, Pittsburgh\, PA\, 15229\, United States
ATTACH;FMTTYPE=image/jpeg:https://gamemasterspgh.com/wp-content/uploads/2023/02/PZO1002_500.jpeg
ORGANIZER;CN="Victor Sapp":MAILTO:silvos.ruin@gmail.com
END:VEVENT
BEGIN:VEVENT
DTSTART;TZID=America/New_York:20260527T190000
DTEND;TZID=America/New_York:20260527T220000
DTSTAMP:20260424T182129
CREATED:20251119T183722Z
LAST-MODIFIED:20251225T035216Z
UID:10016926-1779908400-1779919200@gamemasterspgh.com
SUMMARY:Victor's Pathfinder Game
DESCRIPTION:Victor run a TTRPG every Wednesday (barring holidays and cancelations)\, the game is currently a Pathfinder Adventure Path/Homebrew though that is subject to change.
URL:https://gamemasterspgh.com/event/victors-pathfinder-game/2026-05-27/
LOCATION:Regular Table\, 398 Perry Hwy\, Pittsburgh\, PA\, 15229\, United States
CATEGORIES:Closed
ATTACH;FMTTYPE=image/jpeg:https://gamemasterspgh.com/wp-content/uploads/2025/11/ROTR.jpg
ORGANIZER;CN="Victor Sapp":MAILTO:silvos.ruin@gmail.com
END:VEVENT
BEGIN:VEVENT
DTSTART;TZID=America/New_York:20260603T190000
DTEND;TZID=America/New_York:20260603T220000
DTSTAMP:20260424T182129
CREATED:20230209T113528Z
LAST-MODIFIED:20251225T035225Z
UID:10009524-1780513200-1780524000@gamemasterspgh.com
SUMMARY:Pathfinder 1st Edition Rise of the Runelords Adventure Path
DESCRIPTION:A weekly campaign loosely following Paizo’s first published adventure path\, a campaign that spans six books from levels 1-18. A moderate amount of homebrew content is periodically introduced\, tested\, and iterated on.
URL:https://gamemasterspgh.com/event/pathfinder-1st-edition-rise-of-the-runelords-adventure-path/2026-06-03/
LOCATION:Regular Table\, 398 Perry Hwy\, Pittsburgh\, PA\, 15229\, United States
ATTACH;FMTTYPE=image/jpeg:https://gamemasterspgh.com/wp-content/uploads/2023/02/PZO1002_500.jpeg
ORGANIZER;CN="Victor Sapp":MAILTO:silvos.ruin@gmail.com
END:VEVENT
BEGIN:VEVENT
DTSTART;TZID=America/New_York:20260603T190000
DTEND;TZID=America/New_York:20260603T220000
DTSTAMP:20260424T182129
CREATED:20251119T183722Z
LAST-MODIFIED:20251225T035216Z
UID:10016927-1780513200-1780524000@gamemasterspgh.com
SUMMARY:Victor's Pathfinder Game
DESCRIPTION:Victor run a TTRPG every Wednesday (barring holidays and cancelations)\, the game is currently a Pathfinder Adventure Path/Homebrew though that is subject to change.
URL:https://gamemasterspgh.com/event/victors-pathfinder-game/2026-06-03/
LOCATION:Regular Table\, 398 Perry Hwy\, Pittsburgh\, PA\, 15229\, United States
CATEGORIES:Closed
ATTACH;FMTTYPE=image/jpeg:https://gamemasterspgh.com/wp-content/uploads/2025/11/ROTR.jpg
ORGANIZER;CN="Victor Sapp":MAILTO:silvos.ruin@gmail.com
END:VEVENT
BEGIN:VEVENT
DTSTART;TZID=America/New_York:20260610T190000
DTEND;TZID=America/New_York:20260610T220000
DTSTAMP:20260424T182129
CREATED:20230209T113528Z
LAST-MODIFIED:20251225T035225Z
UID:10009525-1781118000-1781128800@gamemasterspgh.com
SUMMARY:Pathfinder 1st Edition Rise of the Runelords Adventure Path
DESCRIPTION:A weekly campaign loosely following Paizo’s first published adventure path\, a campaign that spans six books from levels 1-18. A moderate amount of homebrew content is periodically introduced\, tested\, and iterated on.
URL:https://gamemasterspgh.com/event/pathfinder-1st-edition-rise-of-the-runelords-adventure-path/2026-06-10/
LOCATION:Regular Table\, 398 Perry Hwy\, Pittsburgh\, PA\, 15229\, United States
ATTACH;FMTTYPE=image/jpeg:https://gamemasterspgh.com/wp-content/uploads/2023/02/PZO1002_500.jpeg
ORGANIZER;CN="Victor Sapp":MAILTO:silvos.ruin@gmail.com
END:VEVENT
BEGIN:VEVENT
DTSTART;TZID=America/New_York:20260610T190000
DTEND;TZID=America/New_York:20260610T220000
DTSTAMP:20260424T182129
CREATED:20251119T183722Z
LAST-MODIFIED:20251225T035216Z
UID:10016928-1781118000-1781128800@gamemasterspgh.com
SUMMARY:Victor's Pathfinder Game
DESCRIPTION:Victor run a TTRPG every Wednesday (barring holidays and cancelations)\, the game is currently a Pathfinder Adventure Path/Homebrew though that is subject to change.
URL:https://gamemasterspgh.com/event/victors-pathfinder-game/2026-06-10/
LOCATION:Regular Table\, 398 Perry Hwy\, Pittsburgh\, PA\, 15229\, United States
CATEGORIES:Closed
ATTACH;FMTTYPE=image/jpeg:https://gamemasterspgh.com/wp-content/uploads/2025/11/ROTR.jpg
ORGANIZER;CN="Victor Sapp":MAILTO:silvos.ruin@gmail.com
END:VEVENT
BEGIN:VEVENT
DTSTART;TZID=America/New_York:20260617T190000
DTEND;TZID=America/New_York:20260617T220000
DTSTAMP:20260424T182129
CREATED:20230209T113528Z
LAST-MODIFIED:20251225T035225Z
UID:10009526-1781722800-1781733600@gamemasterspgh.com
SUMMARY:Pathfinder 1st Edition Rise of the Runelords Adventure Path
DESCRIPTION:A weekly campaign loosely following Paizo’s first published adventure path\, a campaign that spans six books from levels 1-18. A moderate amount of homebrew content is periodically introduced\, tested\, and iterated on.
URL:https://gamemasterspgh.com/event/pathfinder-1st-edition-rise-of-the-runelords-adventure-path/2026-06-17/
LOCATION:Regular Table\, 398 Perry Hwy\, Pittsburgh\, PA\, 15229\, United States
ATTACH;FMTTYPE=image/jpeg:https://gamemasterspgh.com/wp-content/uploads/2023/02/PZO1002_500.jpeg
ORGANIZER;CN="Victor Sapp":MAILTO:silvos.ruin@gmail.com
END:VEVENT
BEGIN:VEVENT
DTSTART;TZID=America/New_York:20260617T190000
DTEND;TZID=America/New_York:20260617T220000
DTSTAMP:20260424T182129
CREATED:20251119T183722Z
LAST-MODIFIED:20251225T035216Z
UID:10016929-1781722800-1781733600@gamemasterspgh.com
SUMMARY:Victor's Pathfinder Game
DESCRIPTION:Victor run a TTRPG every Wednesday (barring holidays and cancelations)\, the game is currently a Pathfinder Adventure Path/Homebrew though that is subject to change.
URL:https://gamemasterspgh.com/event/victors-pathfinder-game/2026-06-17/
LOCATION:Regular Table\, 398 Perry Hwy\, Pittsburgh\, PA\, 15229\, United States
CATEGORIES:Closed
ATTACH;FMTTYPE=image/jpeg:https://gamemasterspgh.com/wp-content/uploads/2025/11/ROTR.jpg
ORGANIZER;CN="Victor Sapp":MAILTO:silvos.ruin@gmail.com
END:VEVENT
BEGIN:VEVENT
DTSTART;TZID=America/New_York:20260624T190000
DTEND;TZID=America/New_York:20260624T220000
DTSTAMP:20260424T182129
CREATED:20230209T113528Z
LAST-MODIFIED:20251225T035225Z
UID:10009527-1782327600-1782338400@gamemasterspgh.com
SUMMARY:Pathfinder 1st Edition Rise of the Runelords Adventure Path
DESCRIPTION:A weekly campaign loosely following Paizo’s first published adventure path\, a campaign that spans six books from levels 1-18. A moderate amount of homebrew content is periodically introduced\, tested\, and iterated on.
URL:https://gamemasterspgh.com/event/pathfinder-1st-edition-rise-of-the-runelords-adventure-path/2026-06-24/
LOCATION:Regular Table\, 398 Perry Hwy\, Pittsburgh\, PA\, 15229\, United States
ATTACH;FMTTYPE=image/jpeg:https://gamemasterspgh.com/wp-content/uploads/2023/02/PZO1002_500.jpeg
ORGANIZER;CN="Victor Sapp":MAILTO:silvos.ruin@gmail.com
END:VEVENT
BEGIN:VEVENT
DTSTART;TZID=America/New_York:20260624T190000
DTEND;TZID=America/New_York:20260624T220000
DTSTAMP:20260424T182129
CREATED:20251119T183722Z
LAST-MODIFIED:20251225T035216Z
UID:10016930-1782327600-1782338400@gamemasterspgh.com
SUMMARY:Victor's Pathfinder Game
DESCRIPTION:Victor run a TTRPG every Wednesday (barring holidays and cancelations)\, the game is currently a Pathfinder Adventure Path/Homebrew though that is subject to change.
URL:https://gamemasterspgh.com/event/victors-pathfinder-game/2026-06-24/
LOCATION:Regular Table\, 398 Perry Hwy\, Pittsburgh\, PA\, 15229\, United States
CATEGORIES:Closed
ATTACH;FMTTYPE=image/jpeg:https://gamemasterspgh.com/wp-content/uploads/2025/11/ROTR.jpg
ORGANIZER;CN="Victor Sapp":MAILTO:silvos.ruin@gmail.com
END:VEVENT
BEGIN:VEVENT
DTSTART;TZID=America/New_York:20260701T190000
DTEND;TZID=America/New_York:20260701T220000
DTSTAMP:20260424T182129
CREATED:20230209T113528Z
LAST-MODIFIED:20251225T035225Z
UID:10009528-1782932400-1782943200@gamemasterspgh.com
SUMMARY:Pathfinder 1st Edition Rise of the Runelords Adventure Path
DESCRIPTION:A weekly campaign loosely following Paizo’s first published adventure path\, a campaign that spans six books from levels 1-18. A moderate amount of homebrew content is periodically introduced\, tested\, and iterated on.
URL:https://gamemasterspgh.com/event/pathfinder-1st-edition-rise-of-the-runelords-adventure-path/2026-07-01/
LOCATION:Regular Table\, 398 Perry Hwy\, Pittsburgh\, PA\, 15229\, United States
ATTACH;FMTTYPE=image/jpeg:https://gamemasterspgh.com/wp-content/uploads/2023/02/PZO1002_500.jpeg
ORGANIZER;CN="Victor Sapp":MAILTO:silvos.ruin@gmail.com
END:VEVENT
BEGIN:VEVENT
DTSTART;TZID=America/New_York:20260701T190000
DTEND;TZID=America/New_York:20260701T220000
DTSTAMP:20260424T182129
CREATED:20251119T183722Z
LAST-MODIFIED:20251225T035216Z
UID:10016931-1782932400-1782943200@gamemasterspgh.com
SUMMARY:Victor's Pathfinder Game
DESCRIPTION:Victor run a TTRPG every Wednesday (barring holidays and cancelations)\, the game is currently a Pathfinder Adventure Path/Homebrew though that is subject to change.
URL:https://gamemasterspgh.com/event/victors-pathfinder-game/2026-07-01/
LOCATION:Regular Table\, 398 Perry Hwy\, Pittsburgh\, PA\, 15229\, United States
CATEGORIES:Closed
ATTACH;FMTTYPE=image/jpeg:https://gamemasterspgh.com/wp-content/uploads/2025/11/ROTR.jpg
ORGANIZER;CN="Victor Sapp":MAILTO:silvos.ruin@gmail.com
END:VEVENT
BEGIN:VEVENT
DTSTART;TZID=America/New_York:20260708T190000
DTEND;TZID=America/New_York:20260708T220000
DTSTAMP:20260424T182129
CREATED:20230209T113528Z
LAST-MODIFIED:20251225T035225Z
UID:10009529-1783537200-1783548000@gamemasterspgh.com
SUMMARY:Pathfinder 1st Edition Rise of the Runelords Adventure Path
DESCRIPTION:A weekly campaign loosely following Paizo’s first published adventure path\, a campaign that spans six books from levels 1-18. A moderate amount of homebrew content is periodically introduced\, tested\, and iterated on.
URL:https://gamemasterspgh.com/event/pathfinder-1st-edition-rise-of-the-runelords-adventure-path/2026-07-08/
LOCATION:Regular Table\, 398 Perry Hwy\, Pittsburgh\, PA\, 15229\, United States
ATTACH;FMTTYPE=image/jpeg:https://gamemasterspgh.com/wp-content/uploads/2023/02/PZO1002_500.jpeg
ORGANIZER;CN="Victor Sapp":MAILTO:silvos.ruin@gmail.com
END:VEVENT
BEGIN:VEVENT
DTSTART;TZID=America/New_York:20260708T190000
DTEND;TZID=America/New_York:20260708T220000
DTSTAMP:20260424T182129
CREATED:20251119T183722Z
LAST-MODIFIED:20251225T035216Z
UID:10016932-1783537200-1783548000@gamemasterspgh.com
SUMMARY:Victor's Pathfinder Game
DESCRIPTION:Victor run a TTRPG every Wednesday (barring holidays and cancelations)\, the game is currently a Pathfinder Adventure Path/Homebrew though that is subject to change.
URL:https://gamemasterspgh.com/event/victors-pathfinder-game/2026-07-08/
LOCATION:Regular Table\, 398 Perry Hwy\, Pittsburgh\, PA\, 15229\, United States
CATEGORIES:Closed
ATTACH;FMTTYPE=image/jpeg:https://gamemasterspgh.com/wp-content/uploads/2025/11/ROTR.jpg
ORGANIZER;CN="Victor Sapp":MAILTO:silvos.ruin@gmail.com
END:VEVENT
BEGIN:VEVENT
DTSTART;TZID=America/New_York:20260715T190000
DTEND;TZID=America/New_York:20260715T220000
DTSTAMP:20260424T182129
CREATED:20230209T113528Z
LAST-MODIFIED:20251225T035225Z
UID:10009530-1784142000-1784152800@gamemasterspgh.com
SUMMARY:Pathfinder 1st Edition Rise of the Runelords Adventure Path
DESCRIPTION:A weekly campaign loosely following Paizo’s first published adventure path\, a campaign that spans six books from levels 1-18. A moderate amount of homebrew content is periodically introduced\, tested\, and iterated on.
URL:https://gamemasterspgh.com/event/pathfinder-1st-edition-rise-of-the-runelords-adventure-path/2026-07-15/
LOCATION:Regular Table\, 398 Perry Hwy\, Pittsburgh\, PA\, 15229\, United States
ATTACH;FMTTYPE=image/jpeg:https://gamemasterspgh.com/wp-content/uploads/2023/02/PZO1002_500.jpeg
ORGANIZER;CN="Victor Sapp":MAILTO:silvos.ruin@gmail.com
END:VEVENT
BEGIN:VEVENT
DTSTART;TZID=America/New_York:20260715T190000
DTEND;TZID=America/New_York:20260715T220000
DTSTAMP:20260424T182129
CREATED:20251119T183722Z
LAST-MODIFIED:20251225T035216Z
UID:10016933-1784142000-1784152800@gamemasterspgh.com
SUMMARY:Victor's Pathfinder Game
DESCRIPTION:Victor run a TTRPG every Wednesday (barring holidays and cancelations)\, the game is currently a Pathfinder Adventure Path/Homebrew though that is subject to change.
URL:https://gamemasterspgh.com/event/victors-pathfinder-game/2026-07-15/
LOCATION:Regular Table\, 398 Perry Hwy\, Pittsburgh\, PA\, 15229\, United States
CATEGORIES:Closed
ATTACH;FMTTYPE=image/jpeg:https://gamemasterspgh.com/wp-content/uploads/2025/11/ROTR.jpg
ORGANIZER;CN="Victor Sapp":MAILTO:silvos.ruin@gmail.com
END:VEVENT
BEGIN:VEVENT
DTSTART;TZID=America/New_York:20260722T190000
DTEND;TZID=America/New_York:20260722T220000
DTSTAMP:20260424T182129
CREATED:20230209T113528Z
LAST-MODIFIED:20251225T035225Z
UID:10009531-1784746800-1784757600@gamemasterspgh.com
SUMMARY:Pathfinder 1st Edition Rise of the Runelords Adventure Path
DESCRIPTION:A weekly campaign loosely following Paizo’s first published adventure path\, a campaign that spans six books from levels 1-18. A moderate amount of homebrew content is periodically introduced\, tested\, and iterated on.
URL:https://gamemasterspgh.com/event/pathfinder-1st-edition-rise-of-the-runelords-adventure-path/2026-07-22/
LOCATION:Regular Table\, 398 Perry Hwy\, Pittsburgh\, PA\, 15229\, United States
ATTACH;FMTTYPE=image/jpeg:https://gamemasterspgh.com/wp-content/uploads/2023/02/PZO1002_500.jpeg
ORGANIZER;CN="Victor Sapp":MAILTO:silvos.ruin@gmail.com
END:VEVENT
BEGIN:VEVENT
DTSTART;TZID=America/New_York:20260722T190000
DTEND;TZID=America/New_York:20260722T220000
DTSTAMP:20260424T182129
CREATED:20251119T183722Z
LAST-MODIFIED:20251225T035216Z
UID:10016934-1784746800-1784757600@gamemasterspgh.com
SUMMARY:Victor's Pathfinder Game
DESCRIPTION:Victor run a TTRPG every Wednesday (barring holidays and cancelations)\, the game is currently a Pathfinder Adventure Path/Homebrew though that is subject to change.
URL:https://gamemasterspgh.com/event/victors-pathfinder-game/2026-07-22/
LOCATION:Regular Table\, 398 Perry Hwy\, Pittsburgh\, PA\, 15229\, United States
CATEGORIES:Closed
ATTACH;FMTTYPE=image/jpeg:https://gamemasterspgh.com/wp-content/uploads/2025/11/ROTR.jpg
ORGANIZER;CN="Victor Sapp":MAILTO:silvos.ruin@gmail.com
END:VEVENT
BEGIN:VEVENT
DTSTART;TZID=America/New_York:20260729T190000
DTEND;TZID=America/New_York:20260729T220000
DTSTAMP:20260424T182129
CREATED:20230209T113528Z
LAST-MODIFIED:20251225T035225Z
UID:10009532-1785351600-1785362400@gamemasterspgh.com
SUMMARY:Pathfinder 1st Edition Rise of the Runelords Adventure Path
DESCRIPTION:A weekly campaign loosely following Paizo’s first published adventure path\, a campaign that spans six books from levels 1-18. A moderate amount of homebrew content is periodically introduced\, tested\, and iterated on.
URL:https://gamemasterspgh.com/event/pathfinder-1st-edition-rise-of-the-runelords-adventure-path/2026-07-29/
LOCATION:Regular Table\, 398 Perry Hwy\, Pittsburgh\, PA\, 15229\, United States
ATTACH;FMTTYPE=image/jpeg:https://gamemasterspgh.com/wp-content/uploads/2023/02/PZO1002_500.jpeg
ORGANIZER;CN="Victor Sapp":MAILTO:silvos.ruin@gmail.com
END:VEVENT
BEGIN:VEVENT
DTSTART;TZID=America/New_York:20260729T190000
DTEND;TZID=America/New_York:20260729T220000
DTSTAMP:20260424T182129
CREATED:20251119T183722Z
LAST-MODIFIED:20251225T035216Z
UID:10016935-1785351600-1785362400@gamemasterspgh.com
SUMMARY:Victor's Pathfinder Game
DESCRIPTION:Victor run a TTRPG every Wednesday (barring holidays and cancelations)\, the game is currently a Pathfinder Adventure Path/Homebrew though that is subject to change.
URL:https://gamemasterspgh.com/event/victors-pathfinder-game/2026-07-29/
LOCATION:Regular Table\, 398 Perry Hwy\, Pittsburgh\, PA\, 15229\, United States
CATEGORIES:Closed
ATTACH;FMTTYPE=image/jpeg:https://gamemasterspgh.com/wp-content/uploads/2025/11/ROTR.jpg
ORGANIZER;CN="Victor Sapp":MAILTO:silvos.ruin@gmail.com
END:VEVENT
BEGIN:VEVENT
DTSTART;TZID=America/New_York:20260805T190000
DTEND;TZID=America/New_York:20260805T220000
DTSTAMP:20260424T182129
CREATED:20230209T113528Z
LAST-MODIFIED:20251225T035225Z
UID:10009533-1785956400-1785967200@gamemasterspgh.com
SUMMARY:Pathfinder 1st Edition Rise of the Runelords Adventure Path
DESCRIPTION:A weekly campaign loosely following Paizo’s first published adventure path\, a campaign that spans six books from levels 1-18. A moderate amount of homebrew content is periodically introduced\, tested\, and iterated on.
URL:https://gamemasterspgh.com/event/pathfinder-1st-edition-rise-of-the-runelords-adventure-path/2026-08-05/
LOCATION:Regular Table\, 398 Perry Hwy\, Pittsburgh\, PA\, 15229\, United States
ATTACH;FMTTYPE=image/jpeg:https://gamemasterspgh.com/wp-content/uploads/2023/02/PZO1002_500.jpeg
ORGANIZER;CN="Victor Sapp":MAILTO:silvos.ruin@gmail.com
END:VEVENT
BEGIN:VEVENT
DTSTART;TZID=America/New_York:20260805T190000
DTEND;TZID=America/New_York:20260805T220000
DTSTAMP:20260424T182129
CREATED:20251119T183722Z
LAST-MODIFIED:20251225T035216Z
UID:10016936-1785956400-1785967200@gamemasterspgh.com
SUMMARY:Victor's Pathfinder Game
DESCRIPTION:Victor run a TTRPG every Wednesday (barring holidays and cancelations)\, the game is currently a Pathfinder Adventure Path/Homebrew though that is subject to change.
URL:https://gamemasterspgh.com/event/victors-pathfinder-game/2026-08-05/
LOCATION:Regular Table\, 398 Perry Hwy\, Pittsburgh\, PA\, 15229\, United States
CATEGORIES:Closed
ATTACH;FMTTYPE=image/jpeg:https://gamemasterspgh.com/wp-content/uploads/2025/11/ROTR.jpg
ORGANIZER;CN="Victor Sapp":MAILTO:silvos.ruin@gmail.com
END:VEVENT
END:VCALENDAR