BEGIN:VCALENDAR
VERSION:2.0
PRODID:-//Game Masters - ECPv6.15.20//NONSGML v1.0//EN
CALSCALE:GREGORIAN
METHOD:PUBLISH
X-ORIGINAL-URL:https://gamemasterspgh.com
X-WR-CALDESC:Events for Game Masters
REFRESH-INTERVAL;VALUE=DURATION:PT1H
X-Robots-Tag:noindex
X-PUBLISHED-TTL:PT1H
BEGIN:VTIMEZONE
TZID:America/New_York
BEGIN:DAYLIGHT
TZOFFSETFROM:-0500
TZOFFSETTO:-0400
TZNAME:EDT
DTSTART:20260308T070000
END:DAYLIGHT
BEGIN:STANDARD
TZOFFSETFROM:-0400
TZOFFSETTO:-0500
TZNAME:EST
DTSTART:20261101T060000
END:STANDARD
BEGIN:DAYLIGHT
TZOFFSETFROM:-0500
TZOFFSETTO:-0400
TZNAME:EDT
DTSTART:20270314T070000
END:DAYLIGHT
BEGIN:STANDARD
TZOFFSETFROM:-0400
TZOFFSETTO:-0500
TZNAME:EST
DTSTART:20271107T060000
END:STANDARD
BEGIN:DAYLIGHT
TZOFFSETFROM:-0500
TZOFFSETTO:-0400
TZNAME:EDT
DTSTART:20280312T070000
END:DAYLIGHT
BEGIN:STANDARD
TZOFFSETFROM:-0400
TZOFFSETTO:-0500
TZNAME:EST
DTSTART:20281105T060000
END:STANDARD
BEGIN:DAYLIGHT
TZOFFSETFROM:-0500
TZOFFSETTO:-0400
TZNAME:EDT
DTSTART:20290311T070000
END:DAYLIGHT
BEGIN:STANDARD
TZOFFSETFROM:-0400
TZOFFSETTO:-0500
TZNAME:EST
DTSTART:20291104T060000
END:STANDARD
END:VTIMEZONE
BEGIN:VEVENT
DTSTART;TZID=America/New_York:20271110T180000
DTEND;TZID=America/New_York:20271110T220000
DTSTAMP:20260424T024453
CREATED:20230407T011722Z
LAST-MODIFIED:20230407T011722Z
UID:10010299-1825869600-1825884000@gamemasterspgh.com
SUMMARY:FrostHaven
DESCRIPTION:Frosthaven Campaign playthrough
URL:https://gamemasterspgh.com/event/frosthaven-2/2027-11-10/
LOCATION:Regular Table\, 398 Perry Hwy\, Pittsburgh\, PA\, 15229\, United States
ORGANIZER;CN="Cyril":MAILTO:gameduku@gmail.com
END:VEVENT
BEGIN:VEVENT
DTSTART;TZID=America/New_York:20271124T180000
DTEND;TZID=America/New_York:20271124T220000
DTSTAMP:20260424T024453
CREATED:20230407T011722Z
LAST-MODIFIED:20230407T011722Z
UID:10010300-1827079200-1827093600@gamemasterspgh.com
SUMMARY:FrostHaven
DESCRIPTION:Frosthaven Campaign playthrough
URL:https://gamemasterspgh.com/event/frosthaven-2/2027-11-24/
LOCATION:Regular Table\, 398 Perry Hwy\, Pittsburgh\, PA\, 15229\, United States
ORGANIZER;CN="Cyril":MAILTO:gameduku@gmail.com
END:VEVENT
BEGIN:VEVENT
DTSTART;TZID=America/New_York:20271208T180000
DTEND;TZID=America/New_York:20271208T220000
DTSTAMP:20260424T024453
CREATED:20230407T011722Z
LAST-MODIFIED:20230407T011722Z
UID:10010301-1828288800-1828303200@gamemasterspgh.com
SUMMARY:FrostHaven
DESCRIPTION:Frosthaven Campaign playthrough
URL:https://gamemasterspgh.com/event/frosthaven-2/2027-12-08/
LOCATION:Regular Table\, 398 Perry Hwy\, Pittsburgh\, PA\, 15229\, United States
ORGANIZER;CN="Cyril":MAILTO:gameduku@gmail.com
END:VEVENT
BEGIN:VEVENT
DTSTART;TZID=America/New_York:20271222T180000
DTEND;TZID=America/New_York:20271222T220000
DTSTAMP:20260424T024453
CREATED:20230407T011722Z
LAST-MODIFIED:20230407T011722Z
UID:10010302-1829498400-1829512800@gamemasterspgh.com
SUMMARY:FrostHaven
DESCRIPTION:Frosthaven Campaign playthrough
URL:https://gamemasterspgh.com/event/frosthaven-2/2027-12-22/
LOCATION:Regular Table\, 398 Perry Hwy\, Pittsburgh\, PA\, 15229\, United States
ORGANIZER;CN="Cyril":MAILTO:gameduku@gmail.com
END:VEVENT
BEGIN:VEVENT
DTSTART;TZID=America/New_York:20280105T180000
DTEND;TZID=America/New_York:20280105T220000
DTSTAMP:20260424T024453
CREATED:20230407T011722Z
LAST-MODIFIED:20230407T011722Z
UID:10010303-1830708000-1830722400@gamemasterspgh.com
SUMMARY:FrostHaven
DESCRIPTION:Frosthaven Campaign playthrough
URL:https://gamemasterspgh.com/event/frosthaven-2/2028-01-05/
LOCATION:Regular Table\, 398 Perry Hwy\, Pittsburgh\, PA\, 15229\, United States
ORGANIZER;CN="Cyril":MAILTO:gameduku@gmail.com
END:VEVENT
BEGIN:VEVENT
DTSTART;TZID=America/New_York:20280119T180000
DTEND;TZID=America/New_York:20280119T220000
DTSTAMP:20260424T024453
CREATED:20230407T011722Z
LAST-MODIFIED:20230407T011722Z
UID:10010304-1831917600-1831932000@gamemasterspgh.com
SUMMARY:FrostHaven
DESCRIPTION:Frosthaven Campaign playthrough
URL:https://gamemasterspgh.com/event/frosthaven-2/2028-01-19/
LOCATION:Regular Table\, 398 Perry Hwy\, Pittsburgh\, PA\, 15229\, United States
ORGANIZER;CN="Cyril":MAILTO:gameduku@gmail.com
END:VEVENT
BEGIN:VEVENT
DTSTART;TZID=America/New_York:20280202T180000
DTEND;TZID=America/New_York:20280202T220000
DTSTAMP:20260424T024453
CREATED:20230407T011722Z
LAST-MODIFIED:20230407T011722Z
UID:10010305-1833127200-1833141600@gamemasterspgh.com
SUMMARY:FrostHaven
DESCRIPTION:Frosthaven Campaign playthrough
URL:https://gamemasterspgh.com/event/frosthaven-2/2028-02-02/
LOCATION:Regular Table\, 398 Perry Hwy\, Pittsburgh\, PA\, 15229\, United States
ORGANIZER;CN="Cyril":MAILTO:gameduku@gmail.com
END:VEVENT
BEGIN:VEVENT
DTSTART;TZID=America/New_York:20280216T180000
DTEND;TZID=America/New_York:20280216T220000
DTSTAMP:20260424T024453
CREATED:20230407T011722Z
LAST-MODIFIED:20230407T011722Z
UID:10010306-1834336800-1834351200@gamemasterspgh.com
SUMMARY:FrostHaven
DESCRIPTION:Frosthaven Campaign playthrough
URL:https://gamemasterspgh.com/event/frosthaven-2/2028-02-16/
LOCATION:Regular Table\, 398 Perry Hwy\, Pittsburgh\, PA\, 15229\, United States
ORGANIZER;CN="Cyril":MAILTO:gameduku@gmail.com
END:VEVENT
BEGIN:VEVENT
DTSTART;TZID=America/New_York:20280301T180000
DTEND;TZID=America/New_York:20280301T220000
DTSTAMP:20260424T024453
CREATED:20230407T011722Z
LAST-MODIFIED:20230407T011722Z
UID:10010307-1835546400-1835560800@gamemasterspgh.com
SUMMARY:FrostHaven
DESCRIPTION:Frosthaven Campaign playthrough
URL:https://gamemasterspgh.com/event/frosthaven-2/2028-03-01/
LOCATION:Regular Table\, 398 Perry Hwy\, Pittsburgh\, PA\, 15229\, United States
ORGANIZER;CN="Cyril":MAILTO:gameduku@gmail.com
END:VEVENT
BEGIN:VEVENT
DTSTART;TZID=America/New_York:20280315T180000
DTEND;TZID=America/New_York:20280315T220000
DTSTAMP:20260424T024453
CREATED:20230407T011722Z
LAST-MODIFIED:20230407T011722Z
UID:10010308-1836756000-1836770400@gamemasterspgh.com
SUMMARY:FrostHaven
DESCRIPTION:Frosthaven Campaign playthrough
URL:https://gamemasterspgh.com/event/frosthaven-2/2028-03-15/
LOCATION:Regular Table\, 398 Perry Hwy\, Pittsburgh\, PA\, 15229\, United States
ORGANIZER;CN="Cyril":MAILTO:gameduku@gmail.com
END:VEVENT
BEGIN:VEVENT
DTSTART;TZID=America/New_York:20280329T180000
DTEND;TZID=America/New_York:20280329T220000
DTSTAMP:20260424T024453
CREATED:20230407T011722Z
LAST-MODIFIED:20230407T011722Z
UID:10010309-1837965600-1837980000@gamemasterspgh.com
SUMMARY:FrostHaven
DESCRIPTION:Frosthaven Campaign playthrough
URL:https://gamemasterspgh.com/event/frosthaven-2/2028-03-29/
LOCATION:Regular Table\, 398 Perry Hwy\, Pittsburgh\, PA\, 15229\, United States
ORGANIZER;CN="Cyril":MAILTO:gameduku@gmail.com
END:VEVENT
BEGIN:VEVENT
DTSTART;TZID=America/New_York:20280412T180000
DTEND;TZID=America/New_York:20280412T220000
DTSTAMP:20260424T024453
CREATED:20230407T011722Z
LAST-MODIFIED:20230407T011722Z
UID:10010310-1839175200-1839189600@gamemasterspgh.com
SUMMARY:FrostHaven
DESCRIPTION:Frosthaven Campaign playthrough
URL:https://gamemasterspgh.com/event/frosthaven-2/2028-04-12/
LOCATION:Regular Table\, 398 Perry Hwy\, Pittsburgh\, PA\, 15229\, United States
ORGANIZER;CN="Cyril":MAILTO:gameduku@gmail.com
END:VEVENT
BEGIN:VEVENT
DTSTART;TZID=America/New_York:20280426T180000
DTEND;TZID=America/New_York:20280426T220000
DTSTAMP:20260424T024453
CREATED:20230407T011722Z
LAST-MODIFIED:20230407T011722Z
UID:10010311-1840384800-1840399200@gamemasterspgh.com
SUMMARY:FrostHaven
DESCRIPTION:Frosthaven Campaign playthrough
URL:https://gamemasterspgh.com/event/frosthaven-2/2028-04-26/
LOCATION:Regular Table\, 398 Perry Hwy\, Pittsburgh\, PA\, 15229\, United States
ORGANIZER;CN="Cyril":MAILTO:gameduku@gmail.com
END:VEVENT
BEGIN:VEVENT
DTSTART;TZID=America/New_York:20280510T180000
DTEND;TZID=America/New_York:20280510T220000
DTSTAMP:20260424T024453
CREATED:20230407T011722Z
LAST-MODIFIED:20230407T011722Z
UID:10010312-1841594400-1841608800@gamemasterspgh.com
SUMMARY:FrostHaven
DESCRIPTION:Frosthaven Campaign playthrough
URL:https://gamemasterspgh.com/event/frosthaven-2/2028-05-10/
LOCATION:Regular Table\, 398 Perry Hwy\, Pittsburgh\, PA\, 15229\, United States
ORGANIZER;CN="Cyril":MAILTO:gameduku@gmail.com
END:VEVENT
BEGIN:VEVENT
DTSTART;TZID=America/New_York:20280524T180000
DTEND;TZID=America/New_York:20280524T220000
DTSTAMP:20260424T024453
CREATED:20230407T011722Z
LAST-MODIFIED:20230407T011722Z
UID:10010313-1842804000-1842818400@gamemasterspgh.com
SUMMARY:FrostHaven
DESCRIPTION:Frosthaven Campaign playthrough
URL:https://gamemasterspgh.com/event/frosthaven-2/2028-05-24/
LOCATION:Regular Table\, 398 Perry Hwy\, Pittsburgh\, PA\, 15229\, United States
ORGANIZER;CN="Cyril":MAILTO:gameduku@gmail.com
END:VEVENT
BEGIN:VEVENT
DTSTART;TZID=America/New_York:20280607T180000
DTEND;TZID=America/New_York:20280607T220000
DTSTAMP:20260424T024453
CREATED:20230407T011722Z
LAST-MODIFIED:20230407T011722Z
UID:10010314-1844013600-1844028000@gamemasterspgh.com
SUMMARY:FrostHaven
DESCRIPTION:Frosthaven Campaign playthrough
URL:https://gamemasterspgh.com/event/frosthaven-2/2028-06-07/
LOCATION:Regular Table\, 398 Perry Hwy\, Pittsburgh\, PA\, 15229\, United States
ORGANIZER;CN="Cyril":MAILTO:gameduku@gmail.com
END:VEVENT
BEGIN:VEVENT
DTSTART;TZID=America/New_York:20280621T180000
DTEND;TZID=America/New_York:20280621T220000
DTSTAMP:20260424T024453
CREATED:20230407T011722Z
LAST-MODIFIED:20230407T011722Z
UID:10010315-1845223200-1845237600@gamemasterspgh.com
SUMMARY:FrostHaven
DESCRIPTION:Frosthaven Campaign playthrough
URL:https://gamemasterspgh.com/event/frosthaven-2/2028-06-21/
LOCATION:Regular Table\, 398 Perry Hwy\, Pittsburgh\, PA\, 15229\, United States
ORGANIZER;CN="Cyril":MAILTO:gameduku@gmail.com
END:VEVENT
BEGIN:VEVENT
DTSTART;TZID=America/New_York:20280705T180000
DTEND;TZID=America/New_York:20280705T220000
DTSTAMP:20260424T024453
CREATED:20230407T011722Z
LAST-MODIFIED:20230407T011722Z
UID:10010316-1846432800-1846447200@gamemasterspgh.com
SUMMARY:FrostHaven
DESCRIPTION:Frosthaven Campaign playthrough
URL:https://gamemasterspgh.com/event/frosthaven-2/2028-07-05/
LOCATION:Regular Table\, 398 Perry Hwy\, Pittsburgh\, PA\, 15229\, United States
ORGANIZER;CN="Cyril":MAILTO:gameduku@gmail.com
END:VEVENT
BEGIN:VEVENT
DTSTART;TZID=America/New_York:20280719T180000
DTEND;TZID=America/New_York:20280719T220000
DTSTAMP:20260424T024453
CREATED:20230407T011722Z
LAST-MODIFIED:20230407T011722Z
UID:10010317-1847642400-1847656800@gamemasterspgh.com
SUMMARY:FrostHaven
DESCRIPTION:Frosthaven Campaign playthrough
URL:https://gamemasterspgh.com/event/frosthaven-2/2028-07-19/
LOCATION:Regular Table\, 398 Perry Hwy\, Pittsburgh\, PA\, 15229\, United States
ORGANIZER;CN="Cyril":MAILTO:gameduku@gmail.com
END:VEVENT
BEGIN:VEVENT
DTSTART;TZID=America/New_York:20280802T180000
DTEND;TZID=America/New_York:20280802T220000
DTSTAMP:20260424T024453
CREATED:20230407T011722Z
LAST-MODIFIED:20230407T011722Z
UID:10010318-1848852000-1848866400@gamemasterspgh.com
SUMMARY:FrostHaven
DESCRIPTION:Frosthaven Campaign playthrough
URL:https://gamemasterspgh.com/event/frosthaven-2/2028-08-02/
LOCATION:Regular Table\, 398 Perry Hwy\, Pittsburgh\, PA\, 15229\, United States
ORGANIZER;CN="Cyril":MAILTO:gameduku@gmail.com
END:VEVENT
BEGIN:VEVENT
DTSTART;TZID=America/New_York:20280816T180000
DTEND;TZID=America/New_York:20280816T220000
DTSTAMP:20260424T024453
CREATED:20230407T011722Z
LAST-MODIFIED:20230407T011722Z
UID:10010319-1850061600-1850076000@gamemasterspgh.com
SUMMARY:FrostHaven
DESCRIPTION:Frosthaven Campaign playthrough
URL:https://gamemasterspgh.com/event/frosthaven-2/2028-08-16/
LOCATION:Regular Table\, 398 Perry Hwy\, Pittsburgh\, PA\, 15229\, United States
ORGANIZER;CN="Cyril":MAILTO:gameduku@gmail.com
END:VEVENT
BEGIN:VEVENT
DTSTART;TZID=America/New_York:20280830T180000
DTEND;TZID=America/New_York:20280830T220000
DTSTAMP:20260424T024453
CREATED:20230407T011722Z
LAST-MODIFIED:20230407T011722Z
UID:10010320-1851271200-1851285600@gamemasterspgh.com
SUMMARY:FrostHaven
DESCRIPTION:Frosthaven Campaign playthrough
URL:https://gamemasterspgh.com/event/frosthaven-2/2028-08-30/
LOCATION:Regular Table\, 398 Perry Hwy\, Pittsburgh\, PA\, 15229\, United States
ORGANIZER;CN="Cyril":MAILTO:gameduku@gmail.com
END:VEVENT
BEGIN:VEVENT
DTSTART;TZID=America/New_York:20280913T180000
DTEND;TZID=America/New_York:20280913T220000
DTSTAMP:20260424T024453
CREATED:20230407T011722Z
LAST-MODIFIED:20230407T011722Z
UID:10010321-1852480800-1852495200@gamemasterspgh.com
SUMMARY:FrostHaven
DESCRIPTION:Frosthaven Campaign playthrough
URL:https://gamemasterspgh.com/event/frosthaven-2/2028-09-13/
LOCATION:Regular Table\, 398 Perry Hwy\, Pittsburgh\, PA\, 15229\, United States
ORGANIZER;CN="Cyril":MAILTO:gameduku@gmail.com
END:VEVENT
BEGIN:VEVENT
DTSTART;TZID=America/New_York:20280927T180000
DTEND;TZID=America/New_York:20280927T220000
DTSTAMP:20260424T024453
CREATED:20230407T011722Z
LAST-MODIFIED:20230407T011722Z
UID:10010322-1853690400-1853704800@gamemasterspgh.com
SUMMARY:FrostHaven
DESCRIPTION:Frosthaven Campaign playthrough
URL:https://gamemasterspgh.com/event/frosthaven-2/2028-09-27/
LOCATION:Regular Table\, 398 Perry Hwy\, Pittsburgh\, PA\, 15229\, United States
ORGANIZER;CN="Cyril":MAILTO:gameduku@gmail.com
END:VEVENT
BEGIN:VEVENT
DTSTART;TZID=America/New_York:20281011T180000
DTEND;TZID=America/New_York:20281011T220000
DTSTAMP:20260424T024453
CREATED:20230407T011722Z
LAST-MODIFIED:20230407T011722Z
UID:10010323-1854900000-1854914400@gamemasterspgh.com
SUMMARY:FrostHaven
DESCRIPTION:Frosthaven Campaign playthrough
URL:https://gamemasterspgh.com/event/frosthaven-2/2028-10-11/
LOCATION:Regular Table\, 398 Perry Hwy\, Pittsburgh\, PA\, 15229\, United States
ORGANIZER;CN="Cyril":MAILTO:gameduku@gmail.com
END:VEVENT
BEGIN:VEVENT
DTSTART;TZID=America/New_York:20281025T180000
DTEND;TZID=America/New_York:20281025T220000
DTSTAMP:20260424T024453
CREATED:20230407T011722Z
LAST-MODIFIED:20230407T011722Z
UID:10010324-1856109600-1856124000@gamemasterspgh.com
SUMMARY:FrostHaven
DESCRIPTION:Frosthaven Campaign playthrough
URL:https://gamemasterspgh.com/event/frosthaven-2/2028-10-25/
LOCATION:Regular Table\, 398 Perry Hwy\, Pittsburgh\, PA\, 15229\, United States
ORGANIZER;CN="Cyril":MAILTO:gameduku@gmail.com
END:VEVENT
BEGIN:VEVENT
DTSTART;TZID=America/New_York:20281108T180000
DTEND;TZID=America/New_York:20281108T220000
DTSTAMP:20260424T024453
CREATED:20230407T011722Z
LAST-MODIFIED:20230407T011722Z
UID:10010325-1857319200-1857333600@gamemasterspgh.com
SUMMARY:FrostHaven
DESCRIPTION:Frosthaven Campaign playthrough
URL:https://gamemasterspgh.com/event/frosthaven-2/2028-11-08/
LOCATION:Regular Table\, 398 Perry Hwy\, Pittsburgh\, PA\, 15229\, United States
ORGANIZER;CN="Cyril":MAILTO:gameduku@gmail.com
END:VEVENT
BEGIN:VEVENT
DTSTART;TZID=America/New_York:20281122T180000
DTEND;TZID=America/New_York:20281122T220000
DTSTAMP:20260424T024453
CREATED:20230407T011722Z
LAST-MODIFIED:20230407T011722Z
UID:10010326-1858528800-1858543200@gamemasterspgh.com
SUMMARY:FrostHaven
DESCRIPTION:Frosthaven Campaign playthrough
URL:https://gamemasterspgh.com/event/frosthaven-2/2028-11-22/
LOCATION:Regular Table\, 398 Perry Hwy\, Pittsburgh\, PA\, 15229\, United States
ORGANIZER;CN="Cyril":MAILTO:gameduku@gmail.com
END:VEVENT
BEGIN:VEVENT
DTSTART;TZID=America/New_York:20281206T180000
DTEND;TZID=America/New_York:20281206T220000
DTSTAMP:20260424T024453
CREATED:20230407T011722Z
LAST-MODIFIED:20230407T011722Z
UID:10010327-1859738400-1859752800@gamemasterspgh.com
SUMMARY:FrostHaven
DESCRIPTION:Frosthaven Campaign playthrough
URL:https://gamemasterspgh.com/event/frosthaven-2/2028-12-06/
LOCATION:Regular Table\, 398 Perry Hwy\, Pittsburgh\, PA\, 15229\, United States
ORGANIZER;CN="Cyril":MAILTO:gameduku@gmail.com
END:VEVENT
BEGIN:VEVENT
DTSTART;TZID=America/New_York:20281220T180000
DTEND;TZID=America/New_York:20281220T220000
DTSTAMP:20260424T024453
CREATED:20230407T011722Z
LAST-MODIFIED:20230407T011722Z
UID:10010328-1860948000-1860962400@gamemasterspgh.com
SUMMARY:FrostHaven
DESCRIPTION:Frosthaven Campaign playthrough
URL:https://gamemasterspgh.com/event/frosthaven-2/2028-12-20/
LOCATION:Regular Table\, 398 Perry Hwy\, Pittsburgh\, PA\, 15229\, United States
ORGANIZER;CN="Cyril":MAILTO:gameduku@gmail.com
END:VEVENT
END:VCALENDAR