BEGIN:VCALENDAR
VERSION:2.0
PRODID:-//Game Masters - ECPv6.15.20//NONSGML v1.0//EN
CALSCALE:GREGORIAN
METHOD:PUBLISH
X-WR-CALNAME:Game Masters
X-ORIGINAL-URL:https://gamemasterspgh.com
X-WR-CALDESC:Events for Game Masters
REFRESH-INTERVAL;VALUE=DURATION:PT1H
X-Robots-Tag:noindex
X-PUBLISHED-TTL:PT1H
BEGIN:VTIMEZONE
TZID:America/New_York
BEGIN:DAYLIGHT
TZOFFSETFROM:-0500
TZOFFSETTO:-0400
TZNAME:EDT
DTSTART:20250309T070000
END:DAYLIGHT
BEGIN:STANDARD
TZOFFSETFROM:-0400
TZOFFSETTO:-0500
TZNAME:EST
DTSTART:20251102T060000
END:STANDARD
BEGIN:DAYLIGHT
TZOFFSETFROM:-0500
TZOFFSETTO:-0400
TZNAME:EDT
DTSTART:20260308T070000
END:DAYLIGHT
BEGIN:STANDARD
TZOFFSETFROM:-0400
TZOFFSETTO:-0500
TZNAME:EST
DTSTART:20261101T060000
END:STANDARD
BEGIN:DAYLIGHT
TZOFFSETFROM:-0500
TZOFFSETTO:-0400
TZNAME:EDT
DTSTART:20270314T070000
END:DAYLIGHT
BEGIN:STANDARD
TZOFFSETFROM:-0400
TZOFFSETTO:-0500
TZNAME:EST
DTSTART:20271107T060000
END:STANDARD
BEGIN:DAYLIGHT
TZOFFSETFROM:-0500
TZOFFSETTO:-0400
TZNAME:EDT
DTSTART:20280312T070000
END:DAYLIGHT
BEGIN:STANDARD
TZOFFSETFROM:-0400
TZOFFSETTO:-0500
TZNAME:EST
DTSTART:20281105T060000
END:STANDARD
END:VTIMEZONE
BEGIN:VEVENT
DTSTART;TZID=America/New_York:20260501T170000
DTEND;TZID=America/New_York:20260501T220000
DTSTAMP:20260424T024218
CREATED:20231107T172819Z
LAST-MODIFIED:20240406T140430Z
UID:10005234-1777654800-1777672800@gamemasterspgh.com
SUMMARY:The Heroes of Iridias
DESCRIPTION:A Private D&D Campaign
URL:https://gamemasterspgh.com/event/the-heroes-of-iridias/2026-05-01/
LOCATION:Regular Table\, 398 Perry Hwy\, Pittsburgh\, PA\, 15229\, United States
ORGANIZER;CN="Crow (Brian Rooker)":MAILTO:mrbrianrooker@gmail.com
END:VEVENT
BEGIN:VEVENT
DTSTART;TZID=America/New_York:20260515T170000
DTEND;TZID=America/New_York:20260515T220000
DTSTAMP:20260424T024218
CREATED:20231107T172819Z
LAST-MODIFIED:20240406T140430Z
UID:10005235-1778864400-1778882400@gamemasterspgh.com
SUMMARY:The Heroes of Iridias
DESCRIPTION:A Private D&D Campaign
URL:https://gamemasterspgh.com/event/the-heroes-of-iridias/2026-05-15/
LOCATION:Regular Table\, 398 Perry Hwy\, Pittsburgh\, PA\, 15229\, United States
ORGANIZER;CN="Crow (Brian Rooker)":MAILTO:mrbrianrooker@gmail.com
END:VEVENT
BEGIN:VEVENT
DTSTART;TZID=America/New_York:20260529T170000
DTEND;TZID=America/New_York:20260529T220000
DTSTAMP:20260424T024218
CREATED:20231107T172819Z
LAST-MODIFIED:20240406T140430Z
UID:10005236-1780074000-1780092000@gamemasterspgh.com
SUMMARY:The Heroes of Iridias
DESCRIPTION:A Private D&D Campaign
URL:https://gamemasterspgh.com/event/the-heroes-of-iridias/2026-05-29/
LOCATION:Regular Table\, 398 Perry Hwy\, Pittsburgh\, PA\, 15229\, United States
ORGANIZER;CN="Crow (Brian Rooker)":MAILTO:mrbrianrooker@gmail.com
END:VEVENT
BEGIN:VEVENT
DTSTART;TZID=America/New_York:20260612T170000
DTEND;TZID=America/New_York:20260612T220000
DTSTAMP:20260424T024218
CREATED:20231107T172819Z
LAST-MODIFIED:20240406T140430Z
UID:10005237-1781283600-1781301600@gamemasterspgh.com
SUMMARY:The Heroes of Iridias
DESCRIPTION:A Private D&D Campaign
URL:https://gamemasterspgh.com/event/the-heroes-of-iridias/2026-06-12/
LOCATION:Regular Table\, 398 Perry Hwy\, Pittsburgh\, PA\, 15229\, United States
ORGANIZER;CN="Crow (Brian Rooker)":MAILTO:mrbrianrooker@gmail.com
END:VEVENT
BEGIN:VEVENT
DTSTART;TZID=America/New_York:20260626T170000
DTEND;TZID=America/New_York:20260626T220000
DTSTAMP:20260424T024218
CREATED:20231107T172819Z
LAST-MODIFIED:20240406T140430Z
UID:10005238-1782493200-1782511200@gamemasterspgh.com
SUMMARY:The Heroes of Iridias
DESCRIPTION:A Private D&D Campaign
URL:https://gamemasterspgh.com/event/the-heroes-of-iridias/2026-06-26/
LOCATION:Regular Table\, 398 Perry Hwy\, Pittsburgh\, PA\, 15229\, United States
ORGANIZER;CN="Crow (Brian Rooker)":MAILTO:mrbrianrooker@gmail.com
END:VEVENT
BEGIN:VEVENT
DTSTART;TZID=America/New_York:20260710T170000
DTEND;TZID=America/New_York:20260710T220000
DTSTAMP:20260424T024218
CREATED:20231107T172819Z
LAST-MODIFIED:20240406T140430Z
UID:10005239-1783702800-1783720800@gamemasterspgh.com
SUMMARY:The Heroes of Iridias
DESCRIPTION:A Private D&D Campaign
URL:https://gamemasterspgh.com/event/the-heroes-of-iridias/2026-07-10/
LOCATION:Regular Table\, 398 Perry Hwy\, Pittsburgh\, PA\, 15229\, United States
ORGANIZER;CN="Crow (Brian Rooker)":MAILTO:mrbrianrooker@gmail.com
END:VEVENT
BEGIN:VEVENT
DTSTART;TZID=America/New_York:20260724T170000
DTEND;TZID=America/New_York:20260724T220000
DTSTAMP:20260424T024218
CREATED:20231107T172819Z
LAST-MODIFIED:20240406T140430Z
UID:10005240-1784912400-1784930400@gamemasterspgh.com
SUMMARY:The Heroes of Iridias
DESCRIPTION:A Private D&D Campaign
URL:https://gamemasterspgh.com/event/the-heroes-of-iridias/2026-07-24/
LOCATION:Regular Table\, 398 Perry Hwy\, Pittsburgh\, PA\, 15229\, United States
ORGANIZER;CN="Crow (Brian Rooker)":MAILTO:mrbrianrooker@gmail.com
END:VEVENT
BEGIN:VEVENT
DTSTART;TZID=America/New_York:20260807T170000
DTEND;TZID=America/New_York:20260807T220000
DTSTAMP:20260424T024218
CREATED:20231107T172819Z
LAST-MODIFIED:20240406T140430Z
UID:10005241-1786122000-1786140000@gamemasterspgh.com
SUMMARY:The Heroes of Iridias
DESCRIPTION:A Private D&D Campaign
URL:https://gamemasterspgh.com/event/the-heroes-of-iridias/2026-08-07/
LOCATION:Regular Table\, 398 Perry Hwy\, Pittsburgh\, PA\, 15229\, United States
ORGANIZER;CN="Crow (Brian Rooker)":MAILTO:mrbrianrooker@gmail.com
END:VEVENT
BEGIN:VEVENT
DTSTART;TZID=America/New_York:20260821T170000
DTEND;TZID=America/New_York:20260821T220000
DTSTAMP:20260424T024218
CREATED:20231107T172819Z
LAST-MODIFIED:20240406T140430Z
UID:10005242-1787331600-1787349600@gamemasterspgh.com
SUMMARY:The Heroes of Iridias
DESCRIPTION:A Private D&D Campaign
URL:https://gamemasterspgh.com/event/the-heroes-of-iridias/2026-08-21/
LOCATION:Regular Table\, 398 Perry Hwy\, Pittsburgh\, PA\, 15229\, United States
ORGANIZER;CN="Crow (Brian Rooker)":MAILTO:mrbrianrooker@gmail.com
END:VEVENT
BEGIN:VEVENT
DTSTART;TZID=America/New_York:20260904T170000
DTEND;TZID=America/New_York:20260904T220000
DTSTAMP:20260424T024218
CREATED:20231107T172819Z
LAST-MODIFIED:20240406T140430Z
UID:10005243-1788541200-1788559200@gamemasterspgh.com
SUMMARY:The Heroes of Iridias
DESCRIPTION:A Private D&D Campaign
URL:https://gamemasterspgh.com/event/the-heroes-of-iridias/2026-09-04/
LOCATION:Regular Table\, 398 Perry Hwy\, Pittsburgh\, PA\, 15229\, United States
ORGANIZER;CN="Crow (Brian Rooker)":MAILTO:mrbrianrooker@gmail.com
END:VEVENT
BEGIN:VEVENT
DTSTART;TZID=America/New_York:20260918T170000
DTEND;TZID=America/New_York:20260918T220000
DTSTAMP:20260424T024218
CREATED:20231107T172819Z
LAST-MODIFIED:20240406T140430Z
UID:10005244-1789750800-1789768800@gamemasterspgh.com
SUMMARY:The Heroes of Iridias
DESCRIPTION:A Private D&D Campaign
URL:https://gamemasterspgh.com/event/the-heroes-of-iridias/2026-09-18/
LOCATION:Regular Table\, 398 Perry Hwy\, Pittsburgh\, PA\, 15229\, United States
ORGANIZER;CN="Crow (Brian Rooker)":MAILTO:mrbrianrooker@gmail.com
END:VEVENT
BEGIN:VEVENT
DTSTART;TZID=America/New_York:20261002T170000
DTEND;TZID=America/New_York:20261002T220000
DTSTAMP:20260424T024218
CREATED:20231107T172819Z
LAST-MODIFIED:20240406T140430Z
UID:10005245-1790960400-1790978400@gamemasterspgh.com
SUMMARY:The Heroes of Iridias
DESCRIPTION:A Private D&D Campaign
URL:https://gamemasterspgh.com/event/the-heroes-of-iridias/2026-10-02/
LOCATION:Regular Table\, 398 Perry Hwy\, Pittsburgh\, PA\, 15229\, United States
ORGANIZER;CN="Crow (Brian Rooker)":MAILTO:mrbrianrooker@gmail.com
END:VEVENT
BEGIN:VEVENT
DTSTART;TZID=America/New_York:20261016T170000
DTEND;TZID=America/New_York:20261016T220000
DTSTAMP:20260424T024218
CREATED:20231107T172819Z
LAST-MODIFIED:20240406T140430Z
UID:10005246-1792170000-1792188000@gamemasterspgh.com
SUMMARY:The Heroes of Iridias
DESCRIPTION:A Private D&D Campaign
URL:https://gamemasterspgh.com/event/the-heroes-of-iridias/2026-10-16/
LOCATION:Regular Table\, 398 Perry Hwy\, Pittsburgh\, PA\, 15229\, United States
ORGANIZER;CN="Crow (Brian Rooker)":MAILTO:mrbrianrooker@gmail.com
END:VEVENT
BEGIN:VEVENT
DTSTART;TZID=America/New_York:20261030T170000
DTEND;TZID=America/New_York:20261030T220000
DTSTAMP:20260424T024218
CREATED:20231107T172819Z
LAST-MODIFIED:20240406T140430Z
UID:10005247-1793379600-1793397600@gamemasterspgh.com
SUMMARY:The Heroes of Iridias
DESCRIPTION:A Private D&D Campaign
URL:https://gamemasterspgh.com/event/the-heroes-of-iridias/2026-10-30/
LOCATION:Regular Table\, 398 Perry Hwy\, Pittsburgh\, PA\, 15229\, United States
ORGANIZER;CN="Crow (Brian Rooker)":MAILTO:mrbrianrooker@gmail.com
END:VEVENT
BEGIN:VEVENT
DTSTART;TZID=America/New_York:20261113T170000
DTEND;TZID=America/New_York:20261113T220000
DTSTAMP:20260424T024218
CREATED:20231107T172819Z
LAST-MODIFIED:20240406T140430Z
UID:10005248-1794589200-1794607200@gamemasterspgh.com
SUMMARY:The Heroes of Iridias
DESCRIPTION:A Private D&D Campaign
URL:https://gamemasterspgh.com/event/the-heroes-of-iridias/2026-11-13/
LOCATION:Regular Table\, 398 Perry Hwy\, Pittsburgh\, PA\, 15229\, United States
ORGANIZER;CN="Crow (Brian Rooker)":MAILTO:mrbrianrooker@gmail.com
END:VEVENT
BEGIN:VEVENT
DTSTART;TZID=America/New_York:20261127T170000
DTEND;TZID=America/New_York:20261127T220000
DTSTAMP:20260424T024218
CREATED:20231107T172819Z
LAST-MODIFIED:20240406T140430Z
UID:10005249-1795798800-1795816800@gamemasterspgh.com
SUMMARY:The Heroes of Iridias
DESCRIPTION:A Private D&D Campaign
URL:https://gamemasterspgh.com/event/the-heroes-of-iridias/2026-11-27/
LOCATION:Regular Table\, 398 Perry Hwy\, Pittsburgh\, PA\, 15229\, United States
ORGANIZER;CN="Crow (Brian Rooker)":MAILTO:mrbrianrooker@gmail.com
END:VEVENT
BEGIN:VEVENT
DTSTART;TZID=America/New_York:20261211T170000
DTEND;TZID=America/New_York:20261211T220000
DTSTAMP:20260424T024218
CREATED:20231107T172819Z
LAST-MODIFIED:20240406T140430Z
UID:10005250-1797008400-1797026400@gamemasterspgh.com
SUMMARY:The Heroes of Iridias
DESCRIPTION:A Private D&D Campaign
URL:https://gamemasterspgh.com/event/the-heroes-of-iridias/2026-12-11/
LOCATION:Regular Table\, 398 Perry Hwy\, Pittsburgh\, PA\, 15229\, United States
ORGANIZER;CN="Crow (Brian Rooker)":MAILTO:mrbrianrooker@gmail.com
END:VEVENT
BEGIN:VEVENT
DTSTART;TZID=America/New_York:20261225T170000
DTEND;TZID=America/New_York:20261225T220000
DTSTAMP:20260424T024218
CREATED:20231107T172819Z
LAST-MODIFIED:20240406T140430Z
UID:10005251-1798218000-1798236000@gamemasterspgh.com
SUMMARY:The Heroes of Iridias
DESCRIPTION:A Private D&D Campaign
URL:https://gamemasterspgh.com/event/the-heroes-of-iridias/2026-12-25/
LOCATION:Regular Table\, 398 Perry Hwy\, Pittsburgh\, PA\, 15229\, United States
ORGANIZER;CN="Crow (Brian Rooker)":MAILTO:mrbrianrooker@gmail.com
END:VEVENT
BEGIN:VEVENT
DTSTART;TZID=America/New_York:20270108T170000
DTEND;TZID=America/New_York:20270108T220000
DTSTAMP:20260424T024219
CREATED:20231107T172819Z
LAST-MODIFIED:20240406T140430Z
UID:10005252-1799427600-1799445600@gamemasterspgh.com
SUMMARY:The Heroes of Iridias
DESCRIPTION:A Private D&D Campaign
URL:https://gamemasterspgh.com/event/the-heroes-of-iridias/2027-01-08/
LOCATION:Regular Table\, 398 Perry Hwy\, Pittsburgh\, PA\, 15229\, United States
ORGANIZER;CN="Crow (Brian Rooker)":MAILTO:mrbrianrooker@gmail.com
END:VEVENT
BEGIN:VEVENT
DTSTART;TZID=America/New_York:20270122T170000
DTEND;TZID=America/New_York:20270122T220000
DTSTAMP:20260424T024219
CREATED:20231107T172819Z
LAST-MODIFIED:20240406T140430Z
UID:10005253-1800637200-1800655200@gamemasterspgh.com
SUMMARY:The Heroes of Iridias
DESCRIPTION:A Private D&D Campaign
URL:https://gamemasterspgh.com/event/the-heroes-of-iridias/2027-01-22/
LOCATION:Regular Table\, 398 Perry Hwy\, Pittsburgh\, PA\, 15229\, United States
ORGANIZER;CN="Crow (Brian Rooker)":MAILTO:mrbrianrooker@gmail.com
END:VEVENT
BEGIN:VEVENT
DTSTART;TZID=America/New_York:20270205T170000
DTEND;TZID=America/New_York:20270205T220000
DTSTAMP:20260424T024219
CREATED:20231107T172819Z
LAST-MODIFIED:20240406T140430Z
UID:10005254-1801846800-1801864800@gamemasterspgh.com
SUMMARY:The Heroes of Iridias
DESCRIPTION:A Private D&D Campaign
URL:https://gamemasterspgh.com/event/the-heroes-of-iridias/2027-02-05/
LOCATION:Regular Table\, 398 Perry Hwy\, Pittsburgh\, PA\, 15229\, United States
ORGANIZER;CN="Crow (Brian Rooker)":MAILTO:mrbrianrooker@gmail.com
END:VEVENT
BEGIN:VEVENT
DTSTART;TZID=America/New_York:20270219T170000
DTEND;TZID=America/New_York:20270219T220000
DTSTAMP:20260424T024219
CREATED:20231107T172819Z
LAST-MODIFIED:20240406T140430Z
UID:10005255-1803056400-1803074400@gamemasterspgh.com
SUMMARY:The Heroes of Iridias
DESCRIPTION:A Private D&D Campaign
URL:https://gamemasterspgh.com/event/the-heroes-of-iridias/2027-02-19/
LOCATION:Regular Table\, 398 Perry Hwy\, Pittsburgh\, PA\, 15229\, United States
ORGANIZER;CN="Crow (Brian Rooker)":MAILTO:mrbrianrooker@gmail.com
END:VEVENT
BEGIN:VEVENT
DTSTART;TZID=America/New_York:20270305T170000
DTEND;TZID=America/New_York:20270305T220000
DTSTAMP:20260424T024219
CREATED:20231107T172819Z
LAST-MODIFIED:20240406T140430Z
UID:10005256-1804266000-1804284000@gamemasterspgh.com
SUMMARY:The Heroes of Iridias
DESCRIPTION:A Private D&D Campaign
URL:https://gamemasterspgh.com/event/the-heroes-of-iridias/2027-03-05/
LOCATION:Regular Table\, 398 Perry Hwy\, Pittsburgh\, PA\, 15229\, United States
ORGANIZER;CN="Crow (Brian Rooker)":MAILTO:mrbrianrooker@gmail.com
END:VEVENT
BEGIN:VEVENT
DTSTART;TZID=America/New_York:20270319T170000
DTEND;TZID=America/New_York:20270319T220000
DTSTAMP:20260424T024219
CREATED:20231107T172819Z
LAST-MODIFIED:20240406T140430Z
UID:10005257-1805475600-1805493600@gamemasterspgh.com
SUMMARY:The Heroes of Iridias
DESCRIPTION:A Private D&D Campaign
URL:https://gamemasterspgh.com/event/the-heroes-of-iridias/2027-03-19/
LOCATION:Regular Table\, 398 Perry Hwy\, Pittsburgh\, PA\, 15229\, United States
ORGANIZER;CN="Crow (Brian Rooker)":MAILTO:mrbrianrooker@gmail.com
END:VEVENT
BEGIN:VEVENT
DTSTART;TZID=America/New_York:20270402T170000
DTEND;TZID=America/New_York:20270402T220000
DTSTAMP:20260424T024219
CREATED:20231107T172819Z
LAST-MODIFIED:20240406T140430Z
UID:10005258-1806685200-1806703200@gamemasterspgh.com
SUMMARY:The Heroes of Iridias
DESCRIPTION:A Private D&D Campaign
URL:https://gamemasterspgh.com/event/the-heroes-of-iridias/2027-04-02/
LOCATION:Regular Table\, 398 Perry Hwy\, Pittsburgh\, PA\, 15229\, United States
ORGANIZER;CN="Crow (Brian Rooker)":MAILTO:mrbrianrooker@gmail.com
END:VEVENT
BEGIN:VEVENT
DTSTART;TZID=America/New_York:20270416T170000
DTEND;TZID=America/New_York:20270416T220000
DTSTAMP:20260424T024219
CREATED:20231107T172819Z
LAST-MODIFIED:20240406T140430Z
UID:10005259-1807894800-1807912800@gamemasterspgh.com
SUMMARY:The Heroes of Iridias
DESCRIPTION:A Private D&D Campaign
URL:https://gamemasterspgh.com/event/the-heroes-of-iridias/2027-04-16/
LOCATION:Regular Table\, 398 Perry Hwy\, Pittsburgh\, PA\, 15229\, United States
ORGANIZER;CN="Crow (Brian Rooker)":MAILTO:mrbrianrooker@gmail.com
END:VEVENT
BEGIN:VEVENT
DTSTART;TZID=America/New_York:20270430T170000
DTEND;TZID=America/New_York:20270430T220000
DTSTAMP:20260424T024219
CREATED:20231107T172819Z
LAST-MODIFIED:20240406T140430Z
UID:10005260-1809104400-1809122400@gamemasterspgh.com
SUMMARY:The Heroes of Iridias
DESCRIPTION:A Private D&D Campaign
URL:https://gamemasterspgh.com/event/the-heroes-of-iridias/2027-04-30/
LOCATION:Regular Table\, 398 Perry Hwy\, Pittsburgh\, PA\, 15229\, United States
ORGANIZER;CN="Crow (Brian Rooker)":MAILTO:mrbrianrooker@gmail.com
END:VEVENT
BEGIN:VEVENT
DTSTART;TZID=America/New_York:20270514T170000
DTEND;TZID=America/New_York:20270514T220000
DTSTAMP:20260424T024219
CREATED:20231107T172819Z
LAST-MODIFIED:20240406T140430Z
UID:10005261-1810314000-1810332000@gamemasterspgh.com
SUMMARY:The Heroes of Iridias
DESCRIPTION:A Private D&D Campaign
URL:https://gamemasterspgh.com/event/the-heroes-of-iridias/2027-05-14/
LOCATION:Regular Table\, 398 Perry Hwy\, Pittsburgh\, PA\, 15229\, United States
ORGANIZER;CN="Crow (Brian Rooker)":MAILTO:mrbrianrooker@gmail.com
END:VEVENT
BEGIN:VEVENT
DTSTART;TZID=America/New_York:20270528T170000
DTEND;TZID=America/New_York:20270528T220000
DTSTAMP:20260424T024219
CREATED:20231107T172819Z
LAST-MODIFIED:20240406T140430Z
UID:10005262-1811523600-1811541600@gamemasterspgh.com
SUMMARY:The Heroes of Iridias
DESCRIPTION:A Private D&D Campaign
URL:https://gamemasterspgh.com/event/the-heroes-of-iridias/2027-05-28/
LOCATION:Regular Table\, 398 Perry Hwy\, Pittsburgh\, PA\, 15229\, United States
ORGANIZER;CN="Crow (Brian Rooker)":MAILTO:mrbrianrooker@gmail.com
END:VEVENT
BEGIN:VEVENT
DTSTART;TZID=America/New_York:20270611T170000
DTEND;TZID=America/New_York:20270611T220000
DTSTAMP:20260424T024219
CREATED:20231107T172819Z
LAST-MODIFIED:20240406T140430Z
UID:10005263-1812733200-1812751200@gamemasterspgh.com
SUMMARY:The Heroes of Iridias
DESCRIPTION:A Private D&D Campaign
URL:https://gamemasterspgh.com/event/the-heroes-of-iridias/2027-06-11/
LOCATION:Regular Table\, 398 Perry Hwy\, Pittsburgh\, PA\, 15229\, United States
ORGANIZER;CN="Crow (Brian Rooker)":MAILTO:mrbrianrooker@gmail.com
END:VEVENT
END:VCALENDAR