BEGIN:VCALENDAR
VERSION:2.0
PRODID:-//Game Masters - ECPv6.15.20//NONSGML v1.0//EN
CALSCALE:GREGORIAN
METHOD:PUBLISH
X-WR-CALNAME:Game Masters
X-ORIGINAL-URL:https://gamemasterspgh.com
X-WR-CALDESC:Events for Game Masters
REFRESH-INTERVAL;VALUE=DURATION:PT1H
X-Robots-Tag:noindex
X-PUBLISHED-TTL:PT1H
BEGIN:VTIMEZONE
TZID:America/New_York
BEGIN:DAYLIGHT
TZOFFSETFROM:-0500
TZOFFSETTO:-0400
TZNAME:EDT
DTSTART:20250309T070000
END:DAYLIGHT
BEGIN:STANDARD
TZOFFSETFROM:-0400
TZOFFSETTO:-0500
TZNAME:EST
DTSTART:20251102T060000
END:STANDARD
BEGIN:DAYLIGHT
TZOFFSETFROM:-0500
TZOFFSETTO:-0400
TZNAME:EDT
DTSTART:20260308T070000
END:DAYLIGHT
BEGIN:STANDARD
TZOFFSETFROM:-0400
TZOFFSETTO:-0500
TZNAME:EST
DTSTART:20261101T060000
END:STANDARD
BEGIN:DAYLIGHT
TZOFFSETFROM:-0500
TZOFFSETTO:-0400
TZNAME:EDT
DTSTART:20270314T070000
END:DAYLIGHT
BEGIN:STANDARD
TZOFFSETFROM:-0400
TZOFFSETTO:-0500
TZNAME:EST
DTSTART:20271107T060000
END:STANDARD
END:VTIMEZONE
BEGIN:VEVENT
DTSTART;TZID=America/New_York:20260315T103000
DTEND;TZID=America/New_York:20260315T140000
DTSTAMP:20260424T011039
CREATED:20251103T202635Z
LAST-MODIFIED:20251107T150751Z
UID:10016868-1773570600-1773583200@gamemasterspgh.com
SUMMARY:Starfinder 2e: Society Games with Pittsburgh Lodge OPF
DESCRIPTION:Starfinder Society is a worldwide science fantasy campaign that puts you in the role of an agent of the Starfinder Society. The Society is a group of explorers who travel out into the galaxy in search of lost knowledge and technologies\, bringing what they learn back with them to share with the people of the Pact Worlds. \nWe will be doing a set of trial run games of Starfinder 2e’s Society Organized Play to see how it goes: \nhttps://paizo.com/starfindersociety \n\nRegular Pathfinder Society 2nd Edition Scenarios. Join Discord for channel #pathfinder-2e for the latest information on playing! Join the Discord Server!
URL:https://gamemasterspgh.com/event/starfinder-2e-society-games-with-pittsburgh-lodge-opf/2026-03-15/
LOCATION:Regular Table\, 398 Perry Hwy\, Pittsburgh\, PA\, 15229\, United States
CATEGORIES:Closed
ATTACH;FMTTYPE=image/jpeg:https://gamemasterspgh.com/wp-content/uploads/2025/11/358559433_168944892858083_3596475046138377887_n.jpg
ORGANIZER;CN="Steven Cook":MAILTO:ScubaSteve.PFS@gmail.com
END:VEVENT
END:VCALENDAR