BEGIN:VCALENDAR
VERSION:2.0
PRODID:-//Game Masters - ECPv6.15.20//NONSGML v1.0//EN
CALSCALE:GREGORIAN
METHOD:PUBLISH
X-WR-CALNAME:Game Masters
X-ORIGINAL-URL:https://gamemasterspgh.com
X-WR-CALDESC:Events for Game Masters
REFRESH-INTERVAL;VALUE=DURATION:PT1H
X-Robots-Tag:noindex
X-PUBLISHED-TTL:PT1H
BEGIN:VTIMEZONE
TZID:America/New_York
BEGIN:DAYLIGHT
TZOFFSETFROM:-0500
TZOFFSETTO:-0400
TZNAME:EDT
DTSTART:20250309T070000
END:DAYLIGHT
BEGIN:STANDARD
TZOFFSETFROM:-0400
TZOFFSETTO:-0500
TZNAME:EST
DTSTART:20251102T060000
END:STANDARD
BEGIN:DAYLIGHT
TZOFFSETFROM:-0500
TZOFFSETTO:-0400
TZNAME:EDT
DTSTART:20260308T070000
END:DAYLIGHT
BEGIN:STANDARD
TZOFFSETFROM:-0400
TZOFFSETTO:-0500
TZNAME:EST
DTSTART:20261101T060000
END:STANDARD
BEGIN:DAYLIGHT
TZOFFSETFROM:-0500
TZOFFSETTO:-0400
TZNAME:EDT
DTSTART:20270314T070000
END:DAYLIGHT
BEGIN:STANDARD
TZOFFSETFROM:-0400
TZOFFSETTO:-0500
TZNAME:EST
DTSTART:20271107T060000
END:STANDARD
END:VTIMEZONE
BEGIN:VEVENT
DTSTART;TZID=America/New_York:20260415T180000
DTEND;TZID=America/New_York:20260415T220000
DTSTAMP:20260425T233557
CREATED:20220718T132701Z
LAST-MODIFIED:20260122T163359Z
UID:10018034-1776276000-1776290400@gamemasterspgh.com
SUMMARY:Magic: the Gathering | [Commander]
DESCRIPTION:A game of Magic the Gathering with Commander format being played.
URL:https://gamemasterspgh.com/event/mtg-commander-night/2026-04-15/
CATEGORIES:Open
ATTACH;FMTTYPE=image/jpeg:https://gamemasterspgh.com/wp-content/uploads/2022/07/MTG-commander-header.jpg
END:VEVENT
END:VCALENDAR