BEGIN:VCALENDAR
VERSION:2.0
PRODID:-//Game Masters - ECPv6.15.20//NONSGML v1.0//EN
CALSCALE:GREGORIAN
METHOD:PUBLISH
X-WR-CALNAME:Game Masters
X-ORIGINAL-URL:https://gamemasterspgh.com
X-WR-CALDESC:Events for Game Masters
REFRESH-INTERVAL;VALUE=DURATION:PT1H
X-Robots-Tag:noindex
X-PUBLISHED-TTL:PT1H
BEGIN:VTIMEZONE
TZID:America/New_York
BEGIN:DAYLIGHT
TZOFFSETFROM:-0500
TZOFFSETTO:-0400
TZNAME:EDT
DTSTART:20250309T070000
END:DAYLIGHT
BEGIN:STANDARD
TZOFFSETFROM:-0400
TZOFFSETTO:-0500
TZNAME:EST
DTSTART:20251102T060000
END:STANDARD
BEGIN:DAYLIGHT
TZOFFSETFROM:-0500
TZOFFSETTO:-0400
TZNAME:EDT
DTSTART:20260308T070000
END:DAYLIGHT
BEGIN:STANDARD
TZOFFSETFROM:-0400
TZOFFSETTO:-0500
TZNAME:EST
DTSTART:20261101T060000
END:STANDARD
BEGIN:DAYLIGHT
TZOFFSETFROM:-0500
TZOFFSETTO:-0400
TZNAME:EDT
DTSTART:20270314T070000
END:DAYLIGHT
BEGIN:STANDARD
TZOFFSETFROM:-0400
TZOFFSETTO:-0500
TZNAME:EST
DTSTART:20271107T060000
END:STANDARD
END:VTIMEZONE
BEGIN:VEVENT
DTSTART;TZID=America/New_York:20260405T000000
DTEND;TZID=America/New_York:20260405T235900
DTSTAMP:20260424T182425
CREATED:20260404T011045Z
LAST-MODIFIED:20260404T011146Z
UID:10019279-1775347200-1775433540@gamemasterspgh.com
SUMMARY:STORE CLOSED
DESCRIPTION:The STORE IS CLOSED for a HOLIDAY
URL:https://gamemasterspgh.com/event/store-closed/
LOCATION:Regular Table\, 398 Perry Hwy\, Pittsburgh\, PA\, 15229\, United States
CATEGORIES:Closed
ATTACH;FMTTYPE=image/jpeg:https://gamemasterspgh.com/wp-content/uploads/2023/06/IMG_1737.jpg
ORGANIZER;CN="Phil Glotfelty":MAILTO:phil@gamemasterspgh.com
END:VEVENT
BEGIN:VEVENT
DTSTART;TZID=America/New_York:20260405T100000
DTEND;TZID=America/New_York:20260405T140000
DTSTAMP:20260424T182425
CREATED:20260404T011132Z
LAST-MODIFIED:20260404T011133Z
UID:10017843-1775383200-1775397600@gamemasterspgh.com
SUMMARY:Dice Throne | League
DESCRIPTION:Hello Fellow Dice Throne Nerds! \nIt will be every other week and usually bring 3 ban 1; meaning whoever you play will ban on of your characters and you pick out of the two which you will play. \nUsually Swiss best of 3 or best of 1 because of time. \nYour wins will be tracked and top 6 will get a cool alt board at end of league. \nAdditional Notes: \n\nThere will be a $10 table/tournament.\nYou will get one alt art card every month for 4 months.\nIn May we will give out an alt art board to the top 8 players of league.\nAlso in May we will have a special tournament. Details will be provided later.\n\n\nJoin the Discord Server!\nCheck out #dice-throne for latest news and any updates.
URL:https://gamemasterspgh.com/event/dice-throne-league-2/
LOCATION:Regular Table\, 398 Perry Hwy\, Pittsburgh\, PA\, 15229\, United States
CATEGORIES:Open
ATTACH;FMTTYPE=image/png:https://gamemasterspgh.com/wp-content/uploads/2026/01/dice-throne-league.png
END:VEVENT
BEGIN:VEVENT
DTSTART;TZID=America/New_York:20260406T180000
DTEND;TZID=America/New_York:20260406T220000
DTSTAMP:20260424T182425
CREATED:20250209T221720Z
LAST-MODIFIED:20250209T222048Z
UID:10009782-1775498400-1775512800@gamemasterspgh.com
SUMMARY:Star Wars Unlimited [TCG] | Weekly Play
DESCRIPTION:Join us every Monday for a weekly play at 6 PM of Star Wars Unlimited! \n  \nCheck out the Discord on #starwars-unltd-general for any weekly changes! \nJoin the Discord Server!
URL:https://gamemasterspgh.com/event/star-wars-unlimited-tcg-weekly-play/2026-04-06/
LOCATION:Regular Table\, 398 Perry Hwy\, Pittsburgh\, PA\, 15229\, United States
CATEGORIES:Open
ATTACH;FMTTYPE=image/jpeg:https://gamemasterspgh.com/wp-content/uploads/2024/02/Star_Wars_Unlimited-e1708376420326.jpg
END:VEVENT
BEGIN:VEVENT
DTSTART;TZID=America/New_York:20260407T180000
DTEND;TZID=America/New_York:20260407T220000
DTSTAMP:20260424T182425
CREATED:20220603T153421Z
LAST-MODIFIED:20260105T140920Z
UID:10017327-1775584800-1775599200@gamemasterspgh.com
SUMMARY:Board Game Night
DESCRIPTION:Weekly\, re-occurring board gaming on every Tuesday
URL:https://gamemasterspgh.com/event/weekly-board-game-night/2026-04-07/
LOCATION:Regular Table\, 398 Perry Hwy\, Pittsburgh\, PA\, 15229\, United States
CATEGORIES:Open
ATTACH;FMTTYPE=image/png:https://gamemasterspgh.com/wp-content/uploads/2022/06/board-games.png
ORGANIZER;CN="Phil Glotfelty":MAILTO:phil@gamemasterspgh.com
END:VEVENT
BEGIN:VEVENT
DTSTART;TZID=America/New_York:20260407T180000
DTEND;TZID=America/New_York:20260407T220000
DTSTAMP:20260424T182425
CREATED:20250916T125318Z
LAST-MODIFIED:20250916T125600Z
UID:10015272-1775584800-1775599200@gamemasterspgh.com
SUMMARY:Gundam | Casual Play
DESCRIPTION:Join us for Gundam The Card Game! Learn and Play casually and meet other pilots. \n  \nJump into our discord\, for #gundam to chat with other players from the store \nJoin the Discord Server!
URL:https://gamemasterspgh.com/event/gundam-casual-play/2026-04-07/
LOCATION:Regular Table\, 398 Perry Hwy\, Pittsburgh\, PA\, 15229\, United States
CATEGORIES:Open
ATTACH;FMTTYPE=image/jpeg:https://gamemasterspgh.com/wp-content/uploads/2025/09/gundam.jpg
END:VEVENT
BEGIN:VEVENT
DTSTART;TZID=America/New_York:20260409T180000
DTEND;TZID=America/New_York:20260409T220000
DTSTAMP:20260424T182425
CREATED:20230126T132017Z
LAST-MODIFIED:20251229T030314Z
UID:10000395-1775757600-1775772000@gamemasterspgh.com
SUMMARY:D&D 5E - Adventurers League
DESCRIPTION:Join us on the Discord channel – for regular updates. \nJoin the Discord Server! \n\nD&D Adventurers League is a setup for beginners new to the system and veterans of it alike! \nThe D&D Adventurers League is an ongoing official campaign for Dungeons & Dragons. It uses the fifth edition Dungeons & Dragons rules\, and features the Forgotten Realms setting. You can play D&D Adventurers League games literally anywhere. Players use the fifth edition rules to create a character and bring that character to games anywhere D&D Adventurers League play is happening. \nFor more information check out the D&D website – https://dnd.wizards.com/adventurers-league \nRemember to join the Discord channel!
URL:https://gamemasterspgh.com/event/dnd5e-adventurers-league/2026-04-09/
LOCATION:Regular Table\, 398 Perry Hwy\, Pittsburgh\, PA\, 15229\, United States
CATEGORIES:Open,Tavern Table
ATTACH;FMTTYPE=image/png:https://gamemasterspgh.com/wp-content/uploads/2023/01/DnD_Swath_Scndry_Center_V1_L_RGB.png
END:VEVENT
BEGIN:VEVENT
DTSTART;TZID=America/New_York:20260409T180000
DTEND;TZID=America/New_York:20260409T220000
DTSTAMP:20260424T182425
CREATED:20241111T103518Z
LAST-MODIFIED:20251229T030254Z
UID:10008093-1775757600-1775772000@gamemasterspgh.com
SUMMARY:Lorcana League
DESCRIPTION:Disney Lorcana League!\n\nCheck out the Discord for the week to determine the format or style to be played \nTrading Card Games \n\n#lorcana-general\n#lorcana-events\n\n  \nJoin the Discord Server!
URL:https://gamemasterspgh.com/event/disney-lorcana-league/2026-04-09/
LOCATION:Regular Table\, 398 Perry Hwy\, Pittsburgh\, PA\, 15229\, United States
CATEGORIES:Open
ATTACH;FMTTYPE=image/png:https://gamemasterspgh.com/wp-content/uploads/2024/02/lorcana-e1708802747711.png
ORGANIZER;CN="Phil Glotfelty":MAILTO:phil@gamemasterspgh.com
END:VEVENT
BEGIN:VEVENT
DTSTART;TZID=America/New_York:20260409T183000
DTEND;TZID=America/New_York:20260409T220000
DTSTAMP:20260424T182425
CREATED:20260205T141413Z
LAST-MODIFIED:20260205T141414Z
UID:10018608-1775759400-1775772000@gamemasterspgh.com
SUMMARY:One-Piece | Weekly Play and Tournament
DESCRIPTION:DON!! Your Decks for Thursday Night One Piece! \nThe quest for the One Piece continues this Thursday! Join us at Game Masters for our weekly tournament. \n\nWhen: Thursdays @ 6:30 PM\nStyle: Constructed\nEntry: $15\n\nClaim the throne of Pirate King!
URL:https://gamemasterspgh.com/event/one-piece-weekly/2026-04-09/
LOCATION:Regular Table\, 398 Perry Hwy\, Pittsburgh\, PA\, 15229\, United States
CATEGORIES:Open
ATTACH;FMTTYPE=image/jpeg:https://gamemasterspgh.com/wp-content/uploads/2026/02/one-piece-tcg-e1770300821911.jpg
END:VEVENT
BEGIN:VEVENT
DTSTART;TZID=America/New_York:20260410T183000
DTEND;TZID=America/New_York:20260410T220000
DTSTAMP:20260424T182425
CREATED:20260217T132026Z
LAST-MODIFIED:20260325T125938Z
UID:10019159-1775845800-1775858400@gamemasterspgh.com
SUMMARY:KeyForge | [Archon] 2026 Store Championship
DESCRIPTION:Join us for a thrilling day of Keyforge Archon action as we crown our Store Champion! Bring your best Archon deck and prepare for intense battles. \nDate: Friday\, April 10th 2026\nTime: 6:30 PM EST\nFormat: Archon
URL:https://gamemasterspgh.com/event/keyforge-archon-2026-store-championship/
LOCATION:Regular Table\, 398 Perry Hwy\, Pittsburgh\, PA\, 15229\, United States
CATEGORIES:Open
ATTACH;FMTTYPE=image/webp:https://gamemasterspgh.com/wp-content/uploads/2026/02/keyforge-2026.webp
END:VEVENT
BEGIN:VEVENT
DTSTART;TZID=America/New_York:20260411T100000
DTEND;TZID=America/New_York:20260411T143000
DTSTAMP:20260424T182425
CREATED:20250714T123444Z
LAST-MODIFIED:20251013T192416Z
UID:10016676-1775901600-1775917800@gamemasterspgh.com
SUMMARY:Pathfinder Society | Early Session
DESCRIPTION:Pathfinder Society is a worldwide fantasy roleplaying campaign using the Pathfinder (second edition) ruleset. Take on the role of an agent of the Pathfinder Society\, a legendary league of explorers\, archaeologists\, and adventurers dedicated to discovering and chronicling the greatest mysteries and wonders of an ancient world. \nPathfinder Society is a drop-in event for players to learn\, play\, and master the Pathfinder role-playplaying system. It is great for just starting out to veterans alike to bring everyone together. \n\nRegular Pathfinder Society 2nd Edition Scenarios. \nJoin Discord for channel #pathfinder-society for the latest information on playing! \nJoin the Discord Server!
URL:https://gamemasterspgh.com/event/pathfinder-society-early/2026-04-11/
LOCATION:Regular Table\, 398 Perry Hwy\, Pittsburgh\, PA\, 15229\, United States
CATEGORIES:Open
ATTACH;FMTTYPE=image/png:https://gamemasterspgh.com/wp-content/uploads/2024/09/Pittsbugh_Lodge_Poster_800x450.png
ORGANIZER;CN="Nick Greene":MAILTO:nickgpfs@gmail.com
END:VEVENT
BEGIN:VEVENT
DTSTART;TZID=America/New_York:20260411T153000
DTEND;TZID=America/New_York:20260411T200000
DTSTAMP:20260424T182425
CREATED:20250714T123622Z
LAST-MODIFIED:20251007T163438Z
UID:10014086-1775921400-1775937600@gamemasterspgh.com
SUMMARY:Pathfinder Society | Late Session
DESCRIPTION:Pathfinder Society is a worldwide fantasy roleplaying campaign using the Pathfinder (second edition) ruleset. Take on the role of an agent of the Pathfinder Society\, a legendary league of explorers\, archaeologists\, and adventurers dedicated to discovering and chronicling the greatest mysteries and wonders of an ancient world. \nPathfinder Society is a drop-in event for players to learn\, play\, and master the Pathfinder role-playplaying system. It is great for just starting out to veterans alike to bring everyone together. \n\nRegular Pathfinder Society 2nd Edition Scenarios. \nJoin Discord for channel #pathfinder-society for the latest information on playing! \nJoin the Discord Server!
URL:https://gamemasterspgh.com/event/pathfinder-society-late-session/2026-04-11/
LOCATION:Regular Table\, 398 Perry Hwy\, Pittsburgh\, PA\, 15229\, United States
CATEGORIES:Open
ATTACH;FMTTYPE=image/png:https://gamemasterspgh.com/wp-content/uploads/2024/09/Pittsbugh_Lodge_Poster_800x450.png
ORGANIZER;CN="Nick Greene":MAILTO:nickgpfs@gmail.com
END:VEVENT
END:VCALENDAR