BEGIN:VCALENDAR
VERSION:2.0
PRODID:-//Game Masters - ECPv6.15.20//NONSGML v1.0//EN
CALSCALE:GREGORIAN
METHOD:PUBLISH
X-WR-CALNAME:Game Masters
X-ORIGINAL-URL:https://gamemasterspgh.com
X-WR-CALDESC:Events for Game Masters
REFRESH-INTERVAL;VALUE=DURATION:PT1H
X-Robots-Tag:noindex
X-PUBLISHED-TTL:PT1H
BEGIN:VTIMEZONE
TZID:America/New_York
BEGIN:DAYLIGHT
TZOFFSETFROM:-0500
TZOFFSETTO:-0400
TZNAME:EDT
DTSTART:20250309T070000
END:DAYLIGHT
BEGIN:STANDARD
TZOFFSETFROM:-0400
TZOFFSETTO:-0500
TZNAME:EST
DTSTART:20251102T060000
END:STANDARD
BEGIN:DAYLIGHT
TZOFFSETFROM:-0500
TZOFFSETTO:-0400
TZNAME:EDT
DTSTART:20260308T070000
END:DAYLIGHT
BEGIN:STANDARD
TZOFFSETFROM:-0400
TZOFFSETTO:-0500
TZNAME:EST
DTSTART:20261101T060000
END:STANDARD
BEGIN:DAYLIGHT
TZOFFSETFROM:-0500
TZOFFSETTO:-0400
TZNAME:EDT
DTSTART:20270314T070000
END:DAYLIGHT
BEGIN:STANDARD
TZOFFSETFROM:-0400
TZOFFSETTO:-0500
TZNAME:EST
DTSTART:20271107T060000
END:STANDARD
END:VTIMEZONE
BEGIN:VEVENT
DTSTART;TZID=America/New_York:20260310T180000
DTEND;TZID=America/New_York:20260310T220000
DTSTAMP:20260424T230344
CREATED:20220603T153421Z
LAST-MODIFIED:20260105T140920Z
UID:10017323-1773165600-1773180000@gamemasterspgh.com
SUMMARY:Board Game Night
DESCRIPTION:Weekly\, re-occurring board gaming on every Tuesday
URL:https://gamemasterspgh.com/event/weekly-board-game-night/2026-03-10/
LOCATION:Regular Table\, 398 Perry Hwy\, Pittsburgh\, PA\, 15229\, United States
CATEGORIES:Open
ATTACH;FMTTYPE=image/png:https://gamemasterspgh.com/wp-content/uploads/2022/06/board-games.png
ORGANIZER;CN="Phil Glotfelty":MAILTO:phil@gamemasterspgh.com
END:VEVENT
BEGIN:VEVENT
DTSTART;TZID=America/New_York:20260310T180000
DTEND;TZID=America/New_York:20260310T220000
DTSTAMP:20260424T230344
CREATED:20250916T125318Z
LAST-MODIFIED:20250916T125600Z
UID:10015268-1773165600-1773180000@gamemasterspgh.com
SUMMARY:Gundam | Casual Play
DESCRIPTION:Join us for Gundam The Card Game! Learn and Play casually and meet other pilots. \n  \nJump into our discord\, for #gundam to chat with other players from the store \nJoin the Discord Server!
URL:https://gamemasterspgh.com/event/gundam-casual-play/2026-03-10/
LOCATION:Regular Table\, 398 Perry Hwy\, Pittsburgh\, PA\, 15229\, United States
CATEGORIES:Open
ATTACH;FMTTYPE=image/jpeg:https://gamemasterspgh.com/wp-content/uploads/2025/09/gundam.jpg
END:VEVENT
END:VCALENDAR