BEGIN:VCALENDAR
VERSION:2.0
PRODID:-//Game Masters - ECPv6.15.20//NONSGML v1.0//EN
CALSCALE:GREGORIAN
METHOD:PUBLISH
X-ORIGINAL-URL:https://gamemasterspgh.com
X-WR-CALDESC:Events for Game Masters
REFRESH-INTERVAL;VALUE=DURATION:PT1H
X-Robots-Tag:noindex
X-PUBLISHED-TTL:PT1H
BEGIN:VTIMEZONE
TZID:America/New_York
BEGIN:DAYLIGHT
TZOFFSETFROM:-0500
TZOFFSETTO:-0400
TZNAME:EDT
DTSTART:20250309T070000
END:DAYLIGHT
BEGIN:STANDARD
TZOFFSETFROM:-0400
TZOFFSETTO:-0500
TZNAME:EST
DTSTART:20251102T060000
END:STANDARD
BEGIN:DAYLIGHT
TZOFFSETFROM:-0500
TZOFFSETTO:-0400
TZNAME:EDT
DTSTART:20260308T070000
END:DAYLIGHT
BEGIN:STANDARD
TZOFFSETFROM:-0400
TZOFFSETTO:-0500
TZNAME:EST
DTSTART:20261101T060000
END:STANDARD
BEGIN:DAYLIGHT
TZOFFSETFROM:-0500
TZOFFSETTO:-0400
TZNAME:EDT
DTSTART:20270314T070000
END:DAYLIGHT
BEGIN:STANDARD
TZOFFSETFROM:-0400
TZOFFSETTO:-0500
TZNAME:EST
DTSTART:20271107T060000
END:STANDARD
END:VTIMEZONE
BEGIN:VEVENT
DTSTART;TZID=America/New_York:20260601T180000
DTEND;TZID=America/New_York:20260601T220000
DTSTAMP:20260424T225933
CREATED:20250209T221720Z
LAST-MODIFIED:20250209T222048Z
UID:10009790-1780336800-1780351200@gamemasterspgh.com
SUMMARY:Star Wars Unlimited [TCG] | Weekly Play
DESCRIPTION:Join us every Monday for a weekly play at 6 PM of Star Wars Unlimited! \n  \nCheck out the Discord on #starwars-unltd-general for any weekly changes! \nJoin the Discord Server!
URL:https://gamemasterspgh.com/event/star-wars-unlimited-tcg-weekly-play/2026-06-01/
LOCATION:Regular Table\, 398 Perry Hwy\, Pittsburgh\, PA\, 15229\, United States
CATEGORIES:Open
ATTACH;FMTTYPE=image/jpeg:https://gamemasterspgh.com/wp-content/uploads/2024/02/Star_Wars_Unlimited-e1708376420326.jpg
END:VEVENT
BEGIN:VEVENT
DTSTART;TZID=America/New_York:20260602T180000
DTEND;TZID=America/New_York:20260602T220000
DTSTAMP:20260424T225933
CREATED:20220603T153421Z
LAST-MODIFIED:20260105T140920Z
UID:10017335-1780423200-1780437600@gamemasterspgh.com
SUMMARY:Board Game Night
DESCRIPTION:Weekly\, re-occurring board gaming on every Tuesday
URL:https://gamemasterspgh.com/event/weekly-board-game-night/2026-06-02/
LOCATION:Regular Table\, 398 Perry Hwy\, Pittsburgh\, PA\, 15229\, United States
CATEGORIES:Open
ATTACH;FMTTYPE=image/png:https://gamemasterspgh.com/wp-content/uploads/2022/06/board-games.png
ORGANIZER;CN="Phil Glotfelty":MAILTO:phil@gamemasterspgh.com
END:VEVENT
BEGIN:VEVENT
DTSTART;TZID=America/New_York:20260602T180000
DTEND;TZID=America/New_York:20260602T220000
DTSTAMP:20260424T225933
CREATED:20250916T125318Z
LAST-MODIFIED:20250916T125600Z
UID:10015280-1780423200-1780437600@gamemasterspgh.com
SUMMARY:Gundam | Casual Play
DESCRIPTION:Join us for Gundam The Card Game! Learn and Play casually and meet other pilots. \n  \nJump into our discord\, for #gundam to chat with other players from the store \nJoin the Discord Server!
URL:https://gamemasterspgh.com/event/gundam-casual-play/2026-06-02/
LOCATION:Regular Table\, 398 Perry Hwy\, Pittsburgh\, PA\, 15229\, United States
CATEGORIES:Open
ATTACH;FMTTYPE=image/jpeg:https://gamemasterspgh.com/wp-content/uploads/2025/09/gundam.jpg
END:VEVENT
BEGIN:VEVENT
DTSTART;TZID=America/New_York:20260604T180000
DTEND;TZID=America/New_York:20260604T220000
DTSTAMP:20260424T225933
CREATED:20230126T132017Z
LAST-MODIFIED:20251229T030314Z
UID:10000399-1780596000-1780610400@gamemasterspgh.com
SUMMARY:D&D 5E - Adventurers League
DESCRIPTION:Join us on the Discord channel – for regular updates. \nJoin the Discord Server! \n\nD&D Adventurers League is a setup for beginners new to the system and veterans of it alike! \nThe D&D Adventurers League is an ongoing official campaign for Dungeons & Dragons. It uses the fifth edition Dungeons & Dragons rules\, and features the Forgotten Realms setting. You can play D&D Adventurers League games literally anywhere. Players use the fifth edition rules to create a character and bring that character to games anywhere D&D Adventurers League play is happening. \nFor more information check out the D&D website – https://dnd.wizards.com/adventurers-league \nRemember to join the Discord channel!
URL:https://gamemasterspgh.com/event/dnd5e-adventurers-league/2026-06-04/
LOCATION:Regular Table\, 398 Perry Hwy\, Pittsburgh\, PA\, 15229\, United States
CATEGORIES:Open,Tavern Table
ATTACH;FMTTYPE=image/png:https://gamemasterspgh.com/wp-content/uploads/2023/01/DnD_Swath_Scndry_Center_V1_L_RGB.png
END:VEVENT
BEGIN:VEVENT
DTSTART;TZID=America/New_York:20260604T180000
DTEND;TZID=America/New_York:20260604T220000
DTSTAMP:20260424T225933
CREATED:20241111T103518Z
LAST-MODIFIED:20251229T030254Z
UID:10008101-1780596000-1780610400@gamemasterspgh.com
SUMMARY:Lorcana League
DESCRIPTION:Disney Lorcana League!\n\nCheck out the Discord for the week to determine the format or style to be played \nTrading Card Games \n\n#lorcana-general\n#lorcana-events\n\n  \nJoin the Discord Server!
URL:https://gamemasterspgh.com/event/disney-lorcana-league/2026-06-04/
LOCATION:Regular Table\, 398 Perry Hwy\, Pittsburgh\, PA\, 15229\, United States
CATEGORIES:Open
ATTACH;FMTTYPE=image/png:https://gamemasterspgh.com/wp-content/uploads/2024/02/lorcana-e1708802747711.png
ORGANIZER;CN="Phil Glotfelty":MAILTO:phil@gamemasterspgh.com
END:VEVENT
BEGIN:VEVENT
DTSTART;TZID=America/New_York:20260604T183000
DTEND;TZID=America/New_York:20260604T220000
DTSTAMP:20260424T225933
CREATED:20260205T141413Z
LAST-MODIFIED:20260205T141414Z
UID:10018616-1780597800-1780610400@gamemasterspgh.com
SUMMARY:One-Piece | Weekly Play and Tournament
DESCRIPTION:DON!! Your Decks for Thursday Night One Piece! \nThe quest for the One Piece continues this Thursday! Join us at Game Masters for our weekly tournament. \n\nWhen: Thursdays @ 6:30 PM\nStyle: Constructed\nEntry: $15\n\nClaim the throne of Pirate King!
URL:https://gamemasterspgh.com/event/one-piece-weekly/2026-06-04/
LOCATION:Regular Table\, 398 Perry Hwy\, Pittsburgh\, PA\, 15229\, United States
CATEGORIES:Open
ATTACH;FMTTYPE=image/jpeg:https://gamemasterspgh.com/wp-content/uploads/2026/02/one-piece-tcg-e1770300821911.jpg
END:VEVENT
BEGIN:VEVENT
DTSTART;TZID=America/New_York:20260606T100000
DTEND;TZID=America/New_York:20260606T143000
DTSTAMP:20260424T225933
CREATED:20250714T123444Z
LAST-MODIFIED:20251013T192416Z
UID:10016680-1780740000-1780756200@gamemasterspgh.com
SUMMARY:Pathfinder Society | Early Session
DESCRIPTION:Pathfinder Society is a worldwide fantasy roleplaying campaign using the Pathfinder (second edition) ruleset. Take on the role of an agent of the Pathfinder Society\, a legendary league of explorers\, archaeologists\, and adventurers dedicated to discovering and chronicling the greatest mysteries and wonders of an ancient world. \nPathfinder Society is a drop-in event for players to learn\, play\, and master the Pathfinder role-playplaying system. It is great for just starting out to veterans alike to bring everyone together. \n\nRegular Pathfinder Society 2nd Edition Scenarios. \nJoin Discord for channel #pathfinder-society for the latest information on playing! \nJoin the Discord Server!
URL:https://gamemasterspgh.com/event/pathfinder-society-early/2026-06-06/
LOCATION:Regular Table\, 398 Perry Hwy\, Pittsburgh\, PA\, 15229\, United States
CATEGORIES:Open
ATTACH;FMTTYPE=image/png:https://gamemasterspgh.com/wp-content/uploads/2024/09/Pittsbugh_Lodge_Poster_800x450.png
ORGANIZER;CN="Nick Greene":MAILTO:nickgpfs@gmail.com
END:VEVENT
BEGIN:VEVENT
DTSTART;TZID=America/New_York:20260606T153000
DTEND;TZID=America/New_York:20260606T200000
DTSTAMP:20260424T225933
CREATED:20250714T123622Z
LAST-MODIFIED:20251007T163438Z
UID:10014090-1780759800-1780776000@gamemasterspgh.com
SUMMARY:Pathfinder Society | Late Session
DESCRIPTION:Pathfinder Society is a worldwide fantasy roleplaying campaign using the Pathfinder (second edition) ruleset. Take on the role of an agent of the Pathfinder Society\, a legendary league of explorers\, archaeologists\, and adventurers dedicated to discovering and chronicling the greatest mysteries and wonders of an ancient world. \nPathfinder Society is a drop-in event for players to learn\, play\, and master the Pathfinder role-playplaying system. It is great for just starting out to veterans alike to bring everyone together. \n\nRegular Pathfinder Society 2nd Edition Scenarios. \nJoin Discord for channel #pathfinder-society for the latest information on playing! \nJoin the Discord Server!
URL:https://gamemasterspgh.com/event/pathfinder-society-late-session/2026-06-06/
LOCATION:Regular Table\, 398 Perry Hwy\, Pittsburgh\, PA\, 15229\, United States
CATEGORIES:Open
ATTACH;FMTTYPE=image/png:https://gamemasterspgh.com/wp-content/uploads/2024/09/Pittsbugh_Lodge_Poster_800x450.png
ORGANIZER;CN="Nick Greene":MAILTO:nickgpfs@gmail.com
END:VEVENT
BEGIN:VEVENT
DTSTART;TZID=America/New_York:20260608T180000
DTEND;TZID=America/New_York:20260608T220000
DTSTAMP:20260424T225933
CREATED:20250209T221720Z
LAST-MODIFIED:20250209T222048Z
UID:10009791-1780941600-1780956000@gamemasterspgh.com
SUMMARY:Star Wars Unlimited [TCG] | Weekly Play
DESCRIPTION:Join us every Monday for a weekly play at 6 PM of Star Wars Unlimited! \n  \nCheck out the Discord on #starwars-unltd-general for any weekly changes! \nJoin the Discord Server!
URL:https://gamemasterspgh.com/event/star-wars-unlimited-tcg-weekly-play/2026-06-08/
LOCATION:Regular Table\, 398 Perry Hwy\, Pittsburgh\, PA\, 15229\, United States
CATEGORIES:Open
ATTACH;FMTTYPE=image/jpeg:https://gamemasterspgh.com/wp-content/uploads/2024/02/Star_Wars_Unlimited-e1708376420326.jpg
END:VEVENT
BEGIN:VEVENT
DTSTART;TZID=America/New_York:20260609T180000
DTEND;TZID=America/New_York:20260609T220000
DTSTAMP:20260424T225933
CREATED:20220603T153421Z
LAST-MODIFIED:20260105T140920Z
UID:10017336-1781028000-1781042400@gamemasterspgh.com
SUMMARY:Board Game Night
DESCRIPTION:Weekly\, re-occurring board gaming on every Tuesday
URL:https://gamemasterspgh.com/event/weekly-board-game-night/2026-06-09/
LOCATION:Regular Table\, 398 Perry Hwy\, Pittsburgh\, PA\, 15229\, United States
CATEGORIES:Open
ATTACH;FMTTYPE=image/png:https://gamemasterspgh.com/wp-content/uploads/2022/06/board-games.png
ORGANIZER;CN="Phil Glotfelty":MAILTO:phil@gamemasterspgh.com
END:VEVENT
BEGIN:VEVENT
DTSTART;TZID=America/New_York:20260609T180000
DTEND;TZID=America/New_York:20260609T220000
DTSTAMP:20260424T225933
CREATED:20250916T125318Z
LAST-MODIFIED:20250916T125600Z
UID:10015281-1781028000-1781042400@gamemasterspgh.com
SUMMARY:Gundam | Casual Play
DESCRIPTION:Join us for Gundam The Card Game! Learn and Play casually and meet other pilots. \n  \nJump into our discord\, for #gundam to chat with other players from the store \nJoin the Discord Server!
URL:https://gamemasterspgh.com/event/gundam-casual-play/2026-06-09/
LOCATION:Regular Table\, 398 Perry Hwy\, Pittsburgh\, PA\, 15229\, United States
CATEGORIES:Open
ATTACH;FMTTYPE=image/jpeg:https://gamemasterspgh.com/wp-content/uploads/2025/09/gundam.jpg
END:VEVENT
BEGIN:VEVENT
DTSTART;TZID=America/New_York:20260611T180000
DTEND;TZID=America/New_York:20260611T220000
DTSTAMP:20260424T225933
CREATED:20241111T103518Z
LAST-MODIFIED:20251229T030254Z
UID:10008102-1781200800-1781215200@gamemasterspgh.com
SUMMARY:Lorcana League
DESCRIPTION:Disney Lorcana League!\n\nCheck out the Discord for the week to determine the format or style to be played \nTrading Card Games \n\n#lorcana-general\n#lorcana-events\n\n  \nJoin the Discord Server!
URL:https://gamemasterspgh.com/event/disney-lorcana-league/2026-06-11/
LOCATION:Regular Table\, 398 Perry Hwy\, Pittsburgh\, PA\, 15229\, United States
CATEGORIES:Open
ATTACH;FMTTYPE=image/png:https://gamemasterspgh.com/wp-content/uploads/2024/02/lorcana-e1708802747711.png
ORGANIZER;CN="Phil Glotfelty":MAILTO:phil@gamemasterspgh.com
END:VEVENT
BEGIN:VEVENT
DTSTART;TZID=America/New_York:20260611T183000
DTEND;TZID=America/New_York:20260611T220000
DTSTAMP:20260424T225933
CREATED:20260205T141413Z
LAST-MODIFIED:20260205T141414Z
UID:10018617-1781202600-1781215200@gamemasterspgh.com
SUMMARY:One-Piece | Weekly Play and Tournament
DESCRIPTION:DON!! Your Decks for Thursday Night One Piece! \nThe quest for the One Piece continues this Thursday! Join us at Game Masters for our weekly tournament. \n\nWhen: Thursdays @ 6:30 PM\nStyle: Constructed\nEntry: $15\n\nClaim the throne of Pirate King!
URL:https://gamemasterspgh.com/event/one-piece-weekly/2026-06-11/
LOCATION:Regular Table\, 398 Perry Hwy\, Pittsburgh\, PA\, 15229\, United States
CATEGORIES:Open
ATTACH;FMTTYPE=image/jpeg:https://gamemasterspgh.com/wp-content/uploads/2026/02/one-piece-tcg-e1770300821911.jpg
END:VEVENT
BEGIN:VEVENT
DTSTART;TZID=America/New_York:20260614T100000
DTEND;TZID=America/New_York:20260614T140000
DTSTAMP:20260424T225933
CREATED:20260107T131213Z
LAST-MODIFIED:20260107T131448Z
UID:10017848-1781431200-1781445600@gamemasterspgh.com
SUMMARY:Dice Throne | League
DESCRIPTION:Hello Fellow Dice Throne Nerds! \nIt will be every other week and usually bring 3 ban 1; meaning whoever you play will ban on of your characters and you pick out of the two which you will play. \nUsually Swiss best of 3 or best of 1 because of time. \nYour wins will be tracked and top 6 will get a cool alt board at end of league. \nAdditional Notes: \n\nThere will be a $10 table/tournament.\nYou will get one alt art card every month for 4 months.\nIn May we will give out an alt art board to the top 8 players of league.\nAlso in May we will have a special tournament. Details will be provided later.\n\n\nJoin the Discord Server!\nCheck out #dice-throne for latest news and any updates.
URL:https://gamemasterspgh.com/event/dice-throne-league/2026-06-14/
LOCATION:Regular Table\, 398 Perry Hwy\, Pittsburgh\, PA\, 15229\, United States
CATEGORIES:Open
ATTACH;FMTTYPE=image/png:https://gamemasterspgh.com/wp-content/uploads/2026/01/dice-throne-league.png
END:VEVENT
BEGIN:VEVENT
DTSTART;TZID=America/New_York:20260615T180000
DTEND;TZID=America/New_York:20260615T220000
DTSTAMP:20260424T225933
CREATED:20250209T221720Z
LAST-MODIFIED:20250209T222048Z
UID:10009792-1781546400-1781560800@gamemasterspgh.com
SUMMARY:Star Wars Unlimited [TCG] | Weekly Play
DESCRIPTION:Join us every Monday for a weekly play at 6 PM of Star Wars Unlimited! \n  \nCheck out the Discord on #starwars-unltd-general for any weekly changes! \nJoin the Discord Server!
URL:https://gamemasterspgh.com/event/star-wars-unlimited-tcg-weekly-play/2026-06-15/
LOCATION:Regular Table\, 398 Perry Hwy\, Pittsburgh\, PA\, 15229\, United States
CATEGORIES:Open
ATTACH;FMTTYPE=image/jpeg:https://gamemasterspgh.com/wp-content/uploads/2024/02/Star_Wars_Unlimited-e1708376420326.jpg
END:VEVENT
BEGIN:VEVENT
DTSTART;TZID=America/New_York:20260616T180000
DTEND;TZID=America/New_York:20260616T220000
DTSTAMP:20260424T225933
CREATED:20220603T153421Z
LAST-MODIFIED:20260105T140920Z
UID:10017337-1781632800-1781647200@gamemasterspgh.com
SUMMARY:Board Game Night
DESCRIPTION:Weekly\, re-occurring board gaming on every Tuesday
URL:https://gamemasterspgh.com/event/weekly-board-game-night/2026-06-16/
LOCATION:Regular Table\, 398 Perry Hwy\, Pittsburgh\, PA\, 15229\, United States
CATEGORIES:Open
ATTACH;FMTTYPE=image/png:https://gamemasterspgh.com/wp-content/uploads/2022/06/board-games.png
ORGANIZER;CN="Phil Glotfelty":MAILTO:phil@gamemasterspgh.com
END:VEVENT
BEGIN:VEVENT
DTSTART;TZID=America/New_York:20260616T180000
DTEND;TZID=America/New_York:20260616T220000
DTSTAMP:20260424T225933
CREATED:20250916T125318Z
LAST-MODIFIED:20250916T125600Z
UID:10015282-1781632800-1781647200@gamemasterspgh.com
SUMMARY:Gundam | Casual Play
DESCRIPTION:Join us for Gundam The Card Game! Learn and Play casually and meet other pilots. \n  \nJump into our discord\, for #gundam to chat with other players from the store \nJoin the Discord Server!
URL:https://gamemasterspgh.com/event/gundam-casual-play/2026-06-16/
LOCATION:Regular Table\, 398 Perry Hwy\, Pittsburgh\, PA\, 15229\, United States
CATEGORIES:Open
ATTACH;FMTTYPE=image/jpeg:https://gamemasterspgh.com/wp-content/uploads/2025/09/gundam.jpg
END:VEVENT
BEGIN:VEVENT
DTSTART;TZID=America/New_York:20260618T180000
DTEND;TZID=America/New_York:20260618T220000
DTSTAMP:20260424T225933
CREATED:20230126T132017Z
LAST-MODIFIED:20251229T030314Z
UID:10000400-1781805600-1781820000@gamemasterspgh.com
SUMMARY:D&D 5E - Adventurers League
DESCRIPTION:Join us on the Discord channel – for regular updates. \nJoin the Discord Server! \n\nD&D Adventurers League is a setup for beginners new to the system and veterans of it alike! \nThe D&D Adventurers League is an ongoing official campaign for Dungeons & Dragons. It uses the fifth edition Dungeons & Dragons rules\, and features the Forgotten Realms setting. You can play D&D Adventurers League games literally anywhere. Players use the fifth edition rules to create a character and bring that character to games anywhere D&D Adventurers League play is happening. \nFor more information check out the D&D website – https://dnd.wizards.com/adventurers-league \nRemember to join the Discord channel!
URL:https://gamemasterspgh.com/event/dnd5e-adventurers-league/2026-06-18/
LOCATION:Regular Table\, 398 Perry Hwy\, Pittsburgh\, PA\, 15229\, United States
CATEGORIES:Open,Tavern Table
ATTACH;FMTTYPE=image/png:https://gamemasterspgh.com/wp-content/uploads/2023/01/DnD_Swath_Scndry_Center_V1_L_RGB.png
END:VEVENT
BEGIN:VEVENT
DTSTART;TZID=America/New_York:20260618T180000
DTEND;TZID=America/New_York:20260618T220000
DTSTAMP:20260424T225933
CREATED:20241111T103518Z
LAST-MODIFIED:20251229T030254Z
UID:10008103-1781805600-1781820000@gamemasterspgh.com
SUMMARY:Lorcana League
DESCRIPTION:Disney Lorcana League!\n\nCheck out the Discord for the week to determine the format or style to be played \nTrading Card Games \n\n#lorcana-general\n#lorcana-events\n\n  \nJoin the Discord Server!
URL:https://gamemasterspgh.com/event/disney-lorcana-league/2026-06-18/
LOCATION:Regular Table\, 398 Perry Hwy\, Pittsburgh\, PA\, 15229\, United States
CATEGORIES:Open
ATTACH;FMTTYPE=image/png:https://gamemasterspgh.com/wp-content/uploads/2024/02/lorcana-e1708802747711.png
ORGANIZER;CN="Phil Glotfelty":MAILTO:phil@gamemasterspgh.com
END:VEVENT
BEGIN:VEVENT
DTSTART;TZID=America/New_York:20260618T183000
DTEND;TZID=America/New_York:20260618T220000
DTSTAMP:20260424T225933
CREATED:20260205T141413Z
LAST-MODIFIED:20260205T141414Z
UID:10018618-1781807400-1781820000@gamemasterspgh.com
SUMMARY:One-Piece | Weekly Play and Tournament
DESCRIPTION:DON!! Your Decks for Thursday Night One Piece! \nThe quest for the One Piece continues this Thursday! Join us at Game Masters for our weekly tournament. \n\nWhen: Thursdays @ 6:30 PM\nStyle: Constructed\nEntry: $15\n\nClaim the throne of Pirate King!
URL:https://gamemasterspgh.com/event/one-piece-weekly/2026-06-18/
LOCATION:Regular Table\, 398 Perry Hwy\, Pittsburgh\, PA\, 15229\, United States
CATEGORIES:Open
ATTACH;FMTTYPE=image/jpeg:https://gamemasterspgh.com/wp-content/uploads/2026/02/one-piece-tcg-e1770300821911.jpg
END:VEVENT
BEGIN:VEVENT
DTSTART;TZID=America/New_York:20260620T100000
DTEND;TZID=America/New_York:20260620T143000
DTSTAMP:20260424T225933
CREATED:20250714T123444Z
LAST-MODIFIED:20251013T192416Z
UID:10016681-1781949600-1781965800@gamemasterspgh.com
SUMMARY:Pathfinder Society | Early Session
DESCRIPTION:Pathfinder Society is a worldwide fantasy roleplaying campaign using the Pathfinder (second edition) ruleset. Take on the role of an agent of the Pathfinder Society\, a legendary league of explorers\, archaeologists\, and adventurers dedicated to discovering and chronicling the greatest mysteries and wonders of an ancient world. \nPathfinder Society is a drop-in event for players to learn\, play\, and master the Pathfinder role-playplaying system. It is great for just starting out to veterans alike to bring everyone together. \n\nRegular Pathfinder Society 2nd Edition Scenarios. \nJoin Discord for channel #pathfinder-society for the latest information on playing! \nJoin the Discord Server!
URL:https://gamemasterspgh.com/event/pathfinder-society-early/2026-06-20/
LOCATION:Regular Table\, 398 Perry Hwy\, Pittsburgh\, PA\, 15229\, United States
CATEGORIES:Open
ATTACH;FMTTYPE=image/png:https://gamemasterspgh.com/wp-content/uploads/2024/09/Pittsbugh_Lodge_Poster_800x450.png
ORGANIZER;CN="Nick Greene":MAILTO:nickgpfs@gmail.com
END:VEVENT
BEGIN:VEVENT
DTSTART;TZID=America/New_York:20260620T153000
DTEND;TZID=America/New_York:20260620T200000
DTSTAMP:20260424T225933
CREATED:20250714T123622Z
LAST-MODIFIED:20251007T163438Z
UID:10014091-1781969400-1781985600@gamemasterspgh.com
SUMMARY:Pathfinder Society | Late Session
DESCRIPTION:Pathfinder Society is a worldwide fantasy roleplaying campaign using the Pathfinder (second edition) ruleset. Take on the role of an agent of the Pathfinder Society\, a legendary league of explorers\, archaeologists\, and adventurers dedicated to discovering and chronicling the greatest mysteries and wonders of an ancient world. \nPathfinder Society is a drop-in event for players to learn\, play\, and master the Pathfinder role-playplaying system. It is great for just starting out to veterans alike to bring everyone together. \n\nRegular Pathfinder Society 2nd Edition Scenarios. \nJoin Discord for channel #pathfinder-society for the latest information on playing! \nJoin the Discord Server!
URL:https://gamemasterspgh.com/event/pathfinder-society-late-session/2026-06-20/
LOCATION:Regular Table\, 398 Perry Hwy\, Pittsburgh\, PA\, 15229\, United States
CATEGORIES:Open
ATTACH;FMTTYPE=image/png:https://gamemasterspgh.com/wp-content/uploads/2024/09/Pittsbugh_Lodge_Poster_800x450.png
ORGANIZER;CN="Nick Greene":MAILTO:nickgpfs@gmail.com
END:VEVENT
BEGIN:VEVENT
DTSTART;TZID=America/New_York:20260622T180000
DTEND;TZID=America/New_York:20260622T220000
DTSTAMP:20260424T225933
CREATED:20250209T221720Z
LAST-MODIFIED:20250209T222048Z
UID:10009793-1782151200-1782165600@gamemasterspgh.com
SUMMARY:Star Wars Unlimited [TCG] | Weekly Play
DESCRIPTION:Join us every Monday for a weekly play at 6 PM of Star Wars Unlimited! \n  \nCheck out the Discord on #starwars-unltd-general for any weekly changes! \nJoin the Discord Server!
URL:https://gamemasterspgh.com/event/star-wars-unlimited-tcg-weekly-play/2026-06-22/
LOCATION:Regular Table\, 398 Perry Hwy\, Pittsburgh\, PA\, 15229\, United States
CATEGORIES:Open
ATTACH;FMTTYPE=image/jpeg:https://gamemasterspgh.com/wp-content/uploads/2024/02/Star_Wars_Unlimited-e1708376420326.jpg
END:VEVENT
BEGIN:VEVENT
DTSTART;TZID=America/New_York:20260623T180000
DTEND;TZID=America/New_York:20260623T220000
DTSTAMP:20260424T225933
CREATED:20220603T153421Z
LAST-MODIFIED:20260105T140920Z
UID:10017338-1782237600-1782252000@gamemasterspgh.com
SUMMARY:Board Game Night
DESCRIPTION:Weekly\, re-occurring board gaming on every Tuesday
URL:https://gamemasterspgh.com/event/weekly-board-game-night/2026-06-23/
LOCATION:Regular Table\, 398 Perry Hwy\, Pittsburgh\, PA\, 15229\, United States
CATEGORIES:Open
ATTACH;FMTTYPE=image/png:https://gamemasterspgh.com/wp-content/uploads/2022/06/board-games.png
ORGANIZER;CN="Phil Glotfelty":MAILTO:phil@gamemasterspgh.com
END:VEVENT
BEGIN:VEVENT
DTSTART;TZID=America/New_York:20260623T180000
DTEND;TZID=America/New_York:20260623T220000
DTSTAMP:20260424T225933
CREATED:20250916T125318Z
LAST-MODIFIED:20250916T125600Z
UID:10015283-1782237600-1782252000@gamemasterspgh.com
SUMMARY:Gundam | Casual Play
DESCRIPTION:Join us for Gundam The Card Game! Learn and Play casually and meet other pilots. \n  \nJump into our discord\, for #gundam to chat with other players from the store \nJoin the Discord Server!
URL:https://gamemasterspgh.com/event/gundam-casual-play/2026-06-23/
LOCATION:Regular Table\, 398 Perry Hwy\, Pittsburgh\, PA\, 15229\, United States
CATEGORIES:Open
ATTACH;FMTTYPE=image/jpeg:https://gamemasterspgh.com/wp-content/uploads/2025/09/gundam.jpg
END:VEVENT
BEGIN:VEVENT
DTSTART;TZID=America/New_York:20260625T180000
DTEND;TZID=America/New_York:20260625T220000
DTSTAMP:20260424T225933
CREATED:20241111T103518Z
LAST-MODIFIED:20251229T030254Z
UID:10008104-1782410400-1782424800@gamemasterspgh.com
SUMMARY:Lorcana League
DESCRIPTION:Disney Lorcana League!\n\nCheck out the Discord for the week to determine the format or style to be played \nTrading Card Games \n\n#lorcana-general\n#lorcana-events\n\n  \nJoin the Discord Server!
URL:https://gamemasterspgh.com/event/disney-lorcana-league/2026-06-25/
LOCATION:Regular Table\, 398 Perry Hwy\, Pittsburgh\, PA\, 15229\, United States
CATEGORIES:Open
ATTACH;FMTTYPE=image/png:https://gamemasterspgh.com/wp-content/uploads/2024/02/lorcana-e1708802747711.png
ORGANIZER;CN="Phil Glotfelty":MAILTO:phil@gamemasterspgh.com
END:VEVENT
BEGIN:VEVENT
DTSTART;TZID=America/New_York:20260625T183000
DTEND;TZID=America/New_York:20260625T220000
DTSTAMP:20260424T225933
CREATED:20260205T141413Z
LAST-MODIFIED:20260205T141414Z
UID:10018619-1782412200-1782424800@gamemasterspgh.com
SUMMARY:One-Piece | Weekly Play and Tournament
DESCRIPTION:DON!! Your Decks for Thursday Night One Piece! \nThe quest for the One Piece continues this Thursday! Join us at Game Masters for our weekly tournament. \n\nWhen: Thursdays @ 6:30 PM\nStyle: Constructed\nEntry: $15\n\nClaim the throne of Pirate King!
URL:https://gamemasterspgh.com/event/one-piece-weekly/2026-06-25/
LOCATION:Regular Table\, 398 Perry Hwy\, Pittsburgh\, PA\, 15229\, United States
CATEGORIES:Open
ATTACH;FMTTYPE=image/jpeg:https://gamemasterspgh.com/wp-content/uploads/2026/02/one-piece-tcg-e1770300821911.jpg
END:VEVENT
BEGIN:VEVENT
DTSTART;TZID=America/New_York:20260627T120000
DTEND;TZID=America/New_York:20260627T220000
DTSTAMP:20260424T225933
CREATED:20260418T161758Z
LAST-MODIFIED:20260418T161758Z
UID:10019348-1782561600-1782597600@gamemasterspgh.com
SUMMARY:Free RPG Day | 2026
DESCRIPTION:Come check out Free RPG Day at Game Masters on June 27th! It will be an all day event starting at 12PM until we run out of players. \nThe format is a drop-in\, one-shot adventure that lasts about 2~ hours per game to try out other tabletop role-playing systems and find yourselves in terribly fun situations! \nThis is a free-to-play event\, no costs but would appreciate tipping the barista at the cafe! \n  \nCurrently Planned Games\n\nStormlight Archive\nPirate Borg\nLex Arcana\nVaesen\nArkham Horror\nTMNT\nCowboy Be-Bop\nOrbital Blues
URL:https://gamemasterspgh.com/event/free-rpg-day-2026/
LOCATION:Regular Table\, 398 Perry Hwy\, Pittsburgh\, PA\, 15229\, United States
CATEGORIES:Open
ATTACH;FMTTYPE=image/jpeg:https://gamemasterspgh.com/wp-content/uploads/2026/04/free-rpg-day-2026.jpg
END:VEVENT
BEGIN:VEVENT
DTSTART;TZID=America/New_York:20260628T100000
DTEND;TZID=America/New_York:20260628T140000
DTSTAMP:20260424T225933
CREATED:20260107T131213Z
LAST-MODIFIED:20260107T131448Z
UID:10017849-1782640800-1782655200@gamemasterspgh.com
SUMMARY:Dice Throne | League
DESCRIPTION:Hello Fellow Dice Throne Nerds! \nIt will be every other week and usually bring 3 ban 1; meaning whoever you play will ban on of your characters and you pick out of the two which you will play. \nUsually Swiss best of 3 or best of 1 because of time. \nYour wins will be tracked and top 6 will get a cool alt board at end of league. \nAdditional Notes: \n\nThere will be a $10 table/tournament.\nYou will get one alt art card every month for 4 months.\nIn May we will give out an alt art board to the top 8 players of league.\nAlso in May we will have a special tournament. Details will be provided later.\n\n\nJoin the Discord Server!\nCheck out #dice-throne for latest news and any updates.
URL:https://gamemasterspgh.com/event/dice-throne-league/2026-06-28/
LOCATION:Regular Table\, 398 Perry Hwy\, Pittsburgh\, PA\, 15229\, United States
CATEGORIES:Open
ATTACH;FMTTYPE=image/png:https://gamemasterspgh.com/wp-content/uploads/2026/01/dice-throne-league.png
END:VEVENT
BEGIN:VEVENT
DTSTART;TZID=America/New_York:20260629T180000
DTEND;TZID=America/New_York:20260629T220000
DTSTAMP:20260424T225933
CREATED:20250209T221720Z
LAST-MODIFIED:20250209T222048Z
UID:10009794-1782756000-1782770400@gamemasterspgh.com
SUMMARY:Star Wars Unlimited [TCG] | Weekly Play
DESCRIPTION:Join us every Monday for a weekly play at 6 PM of Star Wars Unlimited! \n  \nCheck out the Discord on #starwars-unltd-general for any weekly changes! \nJoin the Discord Server!
URL:https://gamemasterspgh.com/event/star-wars-unlimited-tcg-weekly-play/2026-06-29/
LOCATION:Regular Table\, 398 Perry Hwy\, Pittsburgh\, PA\, 15229\, United States
CATEGORIES:Open
ATTACH;FMTTYPE=image/jpeg:https://gamemasterspgh.com/wp-content/uploads/2024/02/Star_Wars_Unlimited-e1708376420326.jpg
END:VEVENT
END:VCALENDAR