BEGIN:VCALENDAR
VERSION:2.0
PRODID:-//Game Masters - ECPv6.15.20//NONSGML v1.0//EN
CALSCALE:GREGORIAN
METHOD:PUBLISH
X-ORIGINAL-URL:https://gamemasterspgh.com
X-WR-CALDESC:Events for Game Masters
REFRESH-INTERVAL;VALUE=DURATION:PT1H
X-Robots-Tag:noindex
X-PUBLISHED-TTL:PT1H
BEGIN:VTIMEZONE
TZID:America/New_York
BEGIN:DAYLIGHT
TZOFFSETFROM:-0500
TZOFFSETTO:-0400
TZNAME:EDT
DTSTART:20250309T070000
END:DAYLIGHT
BEGIN:STANDARD
TZOFFSETFROM:-0400
TZOFFSETTO:-0500
TZNAME:EST
DTSTART:20251102T060000
END:STANDARD
BEGIN:DAYLIGHT
TZOFFSETFROM:-0500
TZOFFSETTO:-0400
TZNAME:EDT
DTSTART:20260308T070000
END:DAYLIGHT
BEGIN:STANDARD
TZOFFSETFROM:-0400
TZOFFSETTO:-0500
TZNAME:EST
DTSTART:20261101T060000
END:STANDARD
BEGIN:DAYLIGHT
TZOFFSETFROM:-0500
TZOFFSETTO:-0400
TZNAME:EDT
DTSTART:20270314T070000
END:DAYLIGHT
BEGIN:STANDARD
TZOFFSETFROM:-0400
TZOFFSETTO:-0500
TZNAME:EST
DTSTART:20271107T060000
END:STANDARD
END:VTIMEZONE
BEGIN:VEVENT
DTSTART;TZID=America/New_York:20260301T103000
DTEND;TZID=America/New_York:20260301T140000
DTSTAMP:20260424T211031
CREATED:20251103T202635Z
LAST-MODIFIED:20251107T150751Z
UID:10016867-1772361000-1772373600@gamemasterspgh.com
SUMMARY:Starfinder 2e: Society Games with Pittsburgh Lodge OPF
DESCRIPTION:Starfinder Society is a worldwide science fantasy campaign that puts you in the role of an agent of the Starfinder Society. The Society is a group of explorers who travel out into the galaxy in search of lost knowledge and technologies\, bringing what they learn back with them to share with the people of the Pact Worlds. \nWe will be doing a set of trial run games of Starfinder 2e’s Society Organized Play to see how it goes: \nhttps://paizo.com/starfindersociety \n\nRegular Pathfinder Society 2nd Edition Scenarios. Join Discord for channel #pathfinder-2e for the latest information on playing! Join the Discord Server!
URL:https://gamemasterspgh.com/event/starfinder-2e-society-games-with-pittsburgh-lodge-opf/2026-03-01/
LOCATION:Regular Table\, 398 Perry Hwy\, Pittsburgh\, PA\, 15229\, United States
CATEGORIES:Closed
ATTACH;FMTTYPE=image/jpeg:https://gamemasterspgh.com/wp-content/uploads/2025/11/358559433_168944892858083_3596475046138377887_n.jpg
ORGANIZER;CN="Steven Cook":MAILTO:ScubaSteve.PFS@gmail.com
END:VEVENT
BEGIN:VEVENT
DTSTART;TZID=America/New_York:20260302T180000
DTEND;TZID=America/New_York:20260302T220000
DTSTAMP:20260424T211031
CREATED:20250209T221720Z
LAST-MODIFIED:20250209T222048Z
UID:10009777-1772474400-1772488800@gamemasterspgh.com
SUMMARY:Star Wars Unlimited [TCG] | Weekly Play
DESCRIPTION:Join us every Monday for a weekly play at 6 PM of Star Wars Unlimited! \n  \nCheck out the Discord on #starwars-unltd-general for any weekly changes! \nJoin the Discord Server!
URL:https://gamemasterspgh.com/event/star-wars-unlimited-tcg-weekly-play/2026-03-02/
LOCATION:Regular Table\, 398 Perry Hwy\, Pittsburgh\, PA\, 15229\, United States
CATEGORIES:Open
ATTACH;FMTTYPE=image/jpeg:https://gamemasterspgh.com/wp-content/uploads/2024/02/Star_Wars_Unlimited-e1708376420326.jpg
END:VEVENT
BEGIN:VEVENT
DTSTART;TZID=America/New_York:20260303T180000
DTEND;TZID=America/New_York:20260303T220000
DTSTAMP:20260424T211031
CREATED:20220603T153421Z
LAST-MODIFIED:20260105T140920Z
UID:10017322-1772560800-1772575200@gamemasterspgh.com
SUMMARY:Board Game Night
DESCRIPTION:Weekly\, re-occurring board gaming on every Tuesday
URL:https://gamemasterspgh.com/event/weekly-board-game-night/2026-03-03/
LOCATION:Regular Table\, 398 Perry Hwy\, Pittsburgh\, PA\, 15229\, United States
CATEGORIES:Open
ATTACH;FMTTYPE=image/png:https://gamemasterspgh.com/wp-content/uploads/2022/06/board-games.png
ORGANIZER;CN="Phil Glotfelty":MAILTO:phil@gamemasterspgh.com
END:VEVENT
BEGIN:VEVENT
DTSTART;TZID=America/New_York:20260303T180000
DTEND;TZID=America/New_York:20260303T220000
DTSTAMP:20260424T211031
CREATED:20250916T125318Z
LAST-MODIFIED:20250916T125600Z
UID:10015267-1772560800-1772575200@gamemasterspgh.com
SUMMARY:Gundam | Casual Play
DESCRIPTION:Join us for Gundam The Card Game! Learn and Play casually and meet other pilots. \n  \nJump into our discord\, for #gundam to chat with other players from the store \nJoin the Discord Server!
URL:https://gamemasterspgh.com/event/gundam-casual-play/2026-03-03/
LOCATION:Regular Table\, 398 Perry Hwy\, Pittsburgh\, PA\, 15229\, United States
CATEGORIES:Open
ATTACH;FMTTYPE=image/jpeg:https://gamemasterspgh.com/wp-content/uploads/2025/09/gundam.jpg
END:VEVENT
BEGIN:VEVENT
DTSTART;TZID=America/New_York:20260305T180000
DTEND;TZID=America/New_York:20260305T220000
DTSTAMP:20260424T211031
CREATED:20241111T103518Z
LAST-MODIFIED:20251229T030254Z
UID:10008088-1772733600-1772748000@gamemasterspgh.com
SUMMARY:Lorcana League
DESCRIPTION:Disney Lorcana League!\n\nCheck out the Discord for the week to determine the format or style to be played \nTrading Card Games \n\n#lorcana-general\n#lorcana-events\n\n  \nJoin the Discord Server!
URL:https://gamemasterspgh.com/event/disney-lorcana-league/2026-03-05/
LOCATION:Regular Table\, 398 Perry Hwy\, Pittsburgh\, PA\, 15229\, United States
CATEGORIES:Open
ATTACH;FMTTYPE=image/png:https://gamemasterspgh.com/wp-content/uploads/2024/02/lorcana-e1708802747711.png
ORGANIZER;CN="Phil Glotfelty":MAILTO:phil@gamemasterspgh.com
END:VEVENT
BEGIN:VEVENT
DTSTART;TZID=America/New_York:20260305T183000
DTEND;TZID=America/New_York:20260305T220000
DTSTAMP:20260424T211031
CREATED:20260205T141413Z
LAST-MODIFIED:20260205T141414Z
UID:10018603-1772735400-1772748000@gamemasterspgh.com
SUMMARY:One-Piece | Weekly Play and Tournament
DESCRIPTION:DON!! Your Decks for Thursday Night One Piece! \nThe quest for the One Piece continues this Thursday! Join us at Game Masters for our weekly tournament. \n\nWhen: Thursdays @ 6:30 PM\nStyle: Constructed\nEntry: $15\n\nClaim the throne of Pirate King!
URL:https://gamemasterspgh.com/event/one-piece-weekly/2026-03-05/
LOCATION:Regular Table\, 398 Perry Hwy\, Pittsburgh\, PA\, 15229\, United States
CATEGORIES:Open
ATTACH;FMTTYPE=image/jpeg:https://gamemasterspgh.com/wp-content/uploads/2026/02/one-piece-tcg-e1770300821911.jpg
END:VEVENT
BEGIN:VEVENT
DTSTART;TZID=America/New_York:20260308T100000
DTEND;TZID=America/New_York:20260308T140000
DTSTAMP:20260424T211031
CREATED:20260107T131213Z
LAST-MODIFIED:20260107T131448Z
UID:10017841-1772964000-1772978400@gamemasterspgh.com
SUMMARY:Dice Throne | League
DESCRIPTION:Hello Fellow Dice Throne Nerds! \nIt will be every other week and usually bring 3 ban 1; meaning whoever you play will ban on of your characters and you pick out of the two which you will play. \nUsually Swiss best of 3 or best of 1 because of time. \nYour wins will be tracked and top 6 will get a cool alt board at end of league. \nAdditional Notes: \n\nThere will be a $10 table/tournament.\nYou will get one alt art card every month for 4 months.\nIn May we will give out an alt art board to the top 8 players of league.\nAlso in May we will have a special tournament. Details will be provided later.\n\n\nJoin the Discord Server!\nCheck out #dice-throne for latest news and any updates.
URL:https://gamemasterspgh.com/event/dice-throne-league/2026-03-08/
LOCATION:Regular Table\, 398 Perry Hwy\, Pittsburgh\, PA\, 15229\, United States
CATEGORIES:Open
ATTACH;FMTTYPE=image/png:https://gamemasterspgh.com/wp-content/uploads/2026/01/dice-throne-league.png
END:VEVENT
BEGIN:VEVENT
DTSTART;TZID=America/New_York:20260309T180000
DTEND;TZID=America/New_York:20260309T220000
DTSTAMP:20260424T211031
CREATED:20250209T221720Z
LAST-MODIFIED:20250209T222048Z
UID:10009778-1773079200-1773093600@gamemasterspgh.com
SUMMARY:Star Wars Unlimited [TCG] | Weekly Play
DESCRIPTION:Join us every Monday for a weekly play at 6 PM of Star Wars Unlimited! \n  \nCheck out the Discord on #starwars-unltd-general for any weekly changes! \nJoin the Discord Server!
URL:https://gamemasterspgh.com/event/star-wars-unlimited-tcg-weekly-play/2026-03-09/
LOCATION:Regular Table\, 398 Perry Hwy\, Pittsburgh\, PA\, 15229\, United States
CATEGORIES:Open
ATTACH;FMTTYPE=image/jpeg:https://gamemasterspgh.com/wp-content/uploads/2024/02/Star_Wars_Unlimited-e1708376420326.jpg
END:VEVENT
BEGIN:VEVENT
DTSTART;TZID=America/New_York:20260310T180000
DTEND;TZID=America/New_York:20260310T220000
DTSTAMP:20260424T211031
CREATED:20220603T153421Z
LAST-MODIFIED:20260105T140920Z
UID:10017323-1773165600-1773180000@gamemasterspgh.com
SUMMARY:Board Game Night
DESCRIPTION:Weekly\, re-occurring board gaming on every Tuesday
URL:https://gamemasterspgh.com/event/weekly-board-game-night/2026-03-10/
LOCATION:Regular Table\, 398 Perry Hwy\, Pittsburgh\, PA\, 15229\, United States
CATEGORIES:Open
ATTACH;FMTTYPE=image/png:https://gamemasterspgh.com/wp-content/uploads/2022/06/board-games.png
ORGANIZER;CN="Phil Glotfelty":MAILTO:phil@gamemasterspgh.com
END:VEVENT
BEGIN:VEVENT
DTSTART;TZID=America/New_York:20260310T180000
DTEND;TZID=America/New_York:20260310T220000
DTSTAMP:20260424T211031
CREATED:20250916T125318Z
LAST-MODIFIED:20250916T125600Z
UID:10015268-1773165600-1773180000@gamemasterspgh.com
SUMMARY:Gundam | Casual Play
DESCRIPTION:Join us for Gundam The Card Game! Learn and Play casually and meet other pilots. \n  \nJump into our discord\, for #gundam to chat with other players from the store \nJoin the Discord Server!
URL:https://gamemasterspgh.com/event/gundam-casual-play/2026-03-10/
LOCATION:Regular Table\, 398 Perry Hwy\, Pittsburgh\, PA\, 15229\, United States
CATEGORIES:Open
ATTACH;FMTTYPE=image/jpeg:https://gamemasterspgh.com/wp-content/uploads/2025/09/gundam.jpg
END:VEVENT
BEGIN:VEVENT
DTSTART;TZID=America/New_York:20260312T180000
DTEND;TZID=America/New_York:20260312T220000
DTSTAMP:20260424T211031
CREATED:20230126T132017Z
LAST-MODIFIED:20251229T030314Z
UID:10000393-1773338400-1773352800@gamemasterspgh.com
SUMMARY:D&D 5E - Adventurers League
DESCRIPTION:Join us on the Discord channel – for regular updates. \nJoin the Discord Server! \n\nD&D Adventurers League is a setup for beginners new to the system and veterans of it alike! \nThe D&D Adventurers League is an ongoing official campaign for Dungeons & Dragons. It uses the fifth edition Dungeons & Dragons rules\, and features the Forgotten Realms setting. You can play D&D Adventurers League games literally anywhere. Players use the fifth edition rules to create a character and bring that character to games anywhere D&D Adventurers League play is happening. \nFor more information check out the D&D website – https://dnd.wizards.com/adventurers-league \nRemember to join the Discord channel!
URL:https://gamemasterspgh.com/event/dnd5e-adventurers-league/2026-03-12/
LOCATION:Regular Table\, 398 Perry Hwy\, Pittsburgh\, PA\, 15229\, United States
CATEGORIES:Open,Tavern Table
ATTACH;FMTTYPE=image/png:https://gamemasterspgh.com/wp-content/uploads/2023/01/DnD_Swath_Scndry_Center_V1_L_RGB.png
END:VEVENT
BEGIN:VEVENT
DTSTART;TZID=America/New_York:20260312T180000
DTEND;TZID=America/New_York:20260312T220000
DTSTAMP:20260424T211031
CREATED:20241111T103518Z
LAST-MODIFIED:20251229T030254Z
UID:10008089-1773338400-1773352800@gamemasterspgh.com
SUMMARY:Lorcana League
DESCRIPTION:Disney Lorcana League!\n\nCheck out the Discord for the week to determine the format or style to be played \nTrading Card Games \n\n#lorcana-general\n#lorcana-events\n\n  \nJoin the Discord Server!
URL:https://gamemasterspgh.com/event/disney-lorcana-league/2026-03-12/
LOCATION:Regular Table\, 398 Perry Hwy\, Pittsburgh\, PA\, 15229\, United States
CATEGORIES:Open
ATTACH;FMTTYPE=image/png:https://gamemasterspgh.com/wp-content/uploads/2024/02/lorcana-e1708802747711.png
ORGANIZER;CN="Phil Glotfelty":MAILTO:phil@gamemasterspgh.com
END:VEVENT
BEGIN:VEVENT
DTSTART;TZID=America/New_York:20260312T183000
DTEND;TZID=America/New_York:20260312T220000
DTSTAMP:20260424T211031
CREATED:20260205T141413Z
LAST-MODIFIED:20260205T141414Z
UID:10018604-1773340200-1773352800@gamemasterspgh.com
SUMMARY:One-Piece | Weekly Play and Tournament
DESCRIPTION:DON!! Your Decks for Thursday Night One Piece! \nThe quest for the One Piece continues this Thursday! Join us at Game Masters for our weekly tournament. \n\nWhen: Thursdays @ 6:30 PM\nStyle: Constructed\nEntry: $15\n\nClaim the throne of Pirate King!
URL:https://gamemasterspgh.com/event/one-piece-weekly/2026-03-12/
LOCATION:Regular Table\, 398 Perry Hwy\, Pittsburgh\, PA\, 15229\, United States
CATEGORIES:Open
ATTACH;FMTTYPE=image/jpeg:https://gamemasterspgh.com/wp-content/uploads/2026/02/one-piece-tcg-e1770300821911.jpg
END:VEVENT
BEGIN:VEVENT
DTSTART;TZID=America/New_York:20260314T100000
DTEND;TZID=America/New_York:20260314T143000
DTSTAMP:20260424T211031
CREATED:20250714T123444Z
LAST-MODIFIED:20251013T192416Z
UID:10016674-1773482400-1773498600@gamemasterspgh.com
SUMMARY:Pathfinder Society | Early Session
DESCRIPTION:Pathfinder Society is a worldwide fantasy roleplaying campaign using the Pathfinder (second edition) ruleset. Take on the role of an agent of the Pathfinder Society\, a legendary league of explorers\, archaeologists\, and adventurers dedicated to discovering and chronicling the greatest mysteries and wonders of an ancient world. \nPathfinder Society is a drop-in event for players to learn\, play\, and master the Pathfinder role-playplaying system. It is great for just starting out to veterans alike to bring everyone together. \n\nRegular Pathfinder Society 2nd Edition Scenarios. \nJoin Discord for channel #pathfinder-society for the latest information on playing! \nJoin the Discord Server!
URL:https://gamemasterspgh.com/event/pathfinder-society-early/2026-03-14/
LOCATION:Regular Table\, 398 Perry Hwy\, Pittsburgh\, PA\, 15229\, United States
CATEGORIES:Open
ATTACH;FMTTYPE=image/png:https://gamemasterspgh.com/wp-content/uploads/2024/09/Pittsbugh_Lodge_Poster_800x450.png
ORGANIZER;CN="Nick Greene":MAILTO:nickgpfs@gmail.com
END:VEVENT
BEGIN:VEVENT
DTSTART;TZID=America/New_York:20260314T120000
DTEND;TZID=America/New_York:20260314T190000
DTSTAMP:20260424T211031
CREATED:20260202T133225Z
LAST-MODIFIED:20260202T133245Z
UID:10018587-1773489600-1773514800@gamemasterspgh.com
SUMMARY:Pokémon | Perfect Order Prerelease
DESCRIPTION:Registration/Check-in Opens at 12:00pm\nEarly Sign Up Check-in Closes at 12:45pm\nIn-store/Waitlist Registration Close at 1:00pm
URL:https://gamemasterspgh.com/event/pokemon-perfect-order-prerelease/2026-03-14/
LOCATION:Regular Table\, 398 Perry Hwy\, Pittsburgh\, PA\, 15229\, United States
CATEGORIES:Open
ATTACH;FMTTYPE=image/png:https://gamemasterspgh.com/wp-content/uploads/2026/02/pokemon_perfect_order.png
END:VEVENT
BEGIN:VEVENT
DTSTART;TZID=America/New_York:20260314T153000
DTEND;TZID=America/New_York:20260314T200000
DTSTAMP:20260424T211031
CREATED:20250714T123622Z
LAST-MODIFIED:20251007T163438Z
UID:10014084-1773502200-1773518400@gamemasterspgh.com
SUMMARY:Pathfinder Society | Late Session
DESCRIPTION:Pathfinder Society is a worldwide fantasy roleplaying campaign using the Pathfinder (second edition) ruleset. Take on the role of an agent of the Pathfinder Society\, a legendary league of explorers\, archaeologists\, and adventurers dedicated to discovering and chronicling the greatest mysteries and wonders of an ancient world. \nPathfinder Society is a drop-in event for players to learn\, play\, and master the Pathfinder role-playplaying system. It is great for just starting out to veterans alike to bring everyone together. \n\nRegular Pathfinder Society 2nd Edition Scenarios. \nJoin Discord for channel #pathfinder-society for the latest information on playing! \nJoin the Discord Server!
URL:https://gamemasterspgh.com/event/pathfinder-society-late-session/2026-03-14/
LOCATION:Regular Table\, 398 Perry Hwy\, Pittsburgh\, PA\, 15229\, United States
CATEGORIES:Open
ATTACH;FMTTYPE=image/png:https://gamemasterspgh.com/wp-content/uploads/2024/09/Pittsbugh_Lodge_Poster_800x450.png
ORGANIZER;CN="Nick Greene":MAILTO:nickgpfs@gmail.com
END:VEVENT
BEGIN:VEVENT
DTSTART;TZID=America/New_York:20260315T103000
DTEND;TZID=America/New_York:20260315T140000
DTSTAMP:20260424T211031
CREATED:20251103T202635Z
LAST-MODIFIED:20251107T150751Z
UID:10016868-1773570600-1773583200@gamemasterspgh.com
SUMMARY:Starfinder 2e: Society Games with Pittsburgh Lodge OPF
DESCRIPTION:Starfinder Society is a worldwide science fantasy campaign that puts you in the role of an agent of the Starfinder Society. The Society is a group of explorers who travel out into the galaxy in search of lost knowledge and technologies\, bringing what they learn back with them to share with the people of the Pact Worlds. \nWe will be doing a set of trial run games of Starfinder 2e’s Society Organized Play to see how it goes: \nhttps://paizo.com/starfindersociety \n\nRegular Pathfinder Society 2nd Edition Scenarios. Join Discord for channel #pathfinder-2e for the latest information on playing! Join the Discord Server!
URL:https://gamemasterspgh.com/event/starfinder-2e-society-games-with-pittsburgh-lodge-opf/2026-03-15/
LOCATION:Regular Table\, 398 Perry Hwy\, Pittsburgh\, PA\, 15229\, United States
CATEGORIES:Closed
ATTACH;FMTTYPE=image/jpeg:https://gamemasterspgh.com/wp-content/uploads/2025/11/358559433_168944892858083_3596475046138377887_n.jpg
ORGANIZER;CN="Steven Cook":MAILTO:ScubaSteve.PFS@gmail.com
END:VEVENT
BEGIN:VEVENT
DTSTART;TZID=America/New_York:20260316T180000
DTEND;TZID=America/New_York:20260316T220000
DTSTAMP:20260424T211031
CREATED:20250209T221720Z
LAST-MODIFIED:20250209T222048Z
UID:10009779-1773684000-1773698400@gamemasterspgh.com
SUMMARY:Star Wars Unlimited [TCG] | Weekly Play
DESCRIPTION:Join us every Monday for a weekly play at 6 PM of Star Wars Unlimited! \n  \nCheck out the Discord on #starwars-unltd-general for any weekly changes! \nJoin the Discord Server!
URL:https://gamemasterspgh.com/event/star-wars-unlimited-tcg-weekly-play/2026-03-16/
LOCATION:Regular Table\, 398 Perry Hwy\, Pittsburgh\, PA\, 15229\, United States
CATEGORIES:Open
ATTACH;FMTTYPE=image/jpeg:https://gamemasterspgh.com/wp-content/uploads/2024/02/Star_Wars_Unlimited-e1708376420326.jpg
END:VEVENT
BEGIN:VEVENT
DTSTART;TZID=America/New_York:20260317T180000
DTEND;TZID=America/New_York:20260317T220000
DTSTAMP:20260424T211031
CREATED:20220603T153421Z
LAST-MODIFIED:20260105T140920Z
UID:10017324-1773770400-1773784800@gamemasterspgh.com
SUMMARY:Board Game Night
DESCRIPTION:Weekly\, re-occurring board gaming on every Tuesday
URL:https://gamemasterspgh.com/event/weekly-board-game-night/2026-03-17/
LOCATION:Regular Table\, 398 Perry Hwy\, Pittsburgh\, PA\, 15229\, United States
CATEGORIES:Open
ATTACH;FMTTYPE=image/png:https://gamemasterspgh.com/wp-content/uploads/2022/06/board-games.png
ORGANIZER;CN="Phil Glotfelty":MAILTO:phil@gamemasterspgh.com
END:VEVENT
BEGIN:VEVENT
DTSTART;TZID=America/New_York:20260317T180000
DTEND;TZID=America/New_York:20260317T220000
DTSTAMP:20260424T211031
CREATED:20250916T125318Z
LAST-MODIFIED:20250916T125600Z
UID:10015269-1773770400-1773784800@gamemasterspgh.com
SUMMARY:Gundam | Casual Play
DESCRIPTION:Join us for Gundam The Card Game! Learn and Play casually and meet other pilots. \n  \nJump into our discord\, for #gundam to chat with other players from the store \nJoin the Discord Server!
URL:https://gamemasterspgh.com/event/gundam-casual-play/2026-03-17/
LOCATION:Regular Table\, 398 Perry Hwy\, Pittsburgh\, PA\, 15229\, United States
CATEGORIES:Open
ATTACH;FMTTYPE=image/jpeg:https://gamemasterspgh.com/wp-content/uploads/2025/09/gundam.jpg
END:VEVENT
BEGIN:VEVENT
DTSTART;TZID=America/New_York:20260319T180000
DTEND;TZID=America/New_York:20260319T220000
DTSTAMP:20260424T211031
CREATED:20241111T103518Z
LAST-MODIFIED:20251229T030254Z
UID:10008090-1773943200-1773957600@gamemasterspgh.com
SUMMARY:Lorcana League
DESCRIPTION:Disney Lorcana League!\n\nCheck out the Discord for the week to determine the format or style to be played \nTrading Card Games \n\n#lorcana-general\n#lorcana-events\n\n  \nJoin the Discord Server!
URL:https://gamemasterspgh.com/event/disney-lorcana-league/2026-03-19/
LOCATION:Regular Table\, 398 Perry Hwy\, Pittsburgh\, PA\, 15229\, United States
CATEGORIES:Open
ATTACH;FMTTYPE=image/png:https://gamemasterspgh.com/wp-content/uploads/2024/02/lorcana-e1708802747711.png
ORGANIZER;CN="Phil Glotfelty":MAILTO:phil@gamemasterspgh.com
END:VEVENT
BEGIN:VEVENT
DTSTART;TZID=America/New_York:20260319T183000
DTEND;TZID=America/New_York:20260319T220000
DTSTAMP:20260424T211031
CREATED:20260205T141413Z
LAST-MODIFIED:20260205T141414Z
UID:10018605-1773945000-1773957600@gamemasterspgh.com
SUMMARY:One-Piece | Weekly Play and Tournament
DESCRIPTION:DON!! Your Decks for Thursday Night One Piece! \nThe quest for the One Piece continues this Thursday! Join us at Game Masters for our weekly tournament. \n\nWhen: Thursdays @ 6:30 PM\nStyle: Constructed\nEntry: $15\n\nClaim the throne of Pirate King!
URL:https://gamemasterspgh.com/event/one-piece-weekly/2026-03-19/
LOCATION:Regular Table\, 398 Perry Hwy\, Pittsburgh\, PA\, 15229\, United States
CATEGORIES:Open
ATTACH;FMTTYPE=image/jpeg:https://gamemasterspgh.com/wp-content/uploads/2026/02/one-piece-tcg-e1770300821911.jpg
END:VEVENT
BEGIN:VEVENT
DTSTART;TZID=America/New_York:20260321T120000
DTEND;TZID=America/New_York:20260321T190000
DTSTAMP:20260424T211031
CREATED:20260202T133225Z
LAST-MODIFIED:20260202T133245Z
UID:10018588-1774094400-1774119600@gamemasterspgh.com
SUMMARY:Pokémon | Perfect Order Prerelease
DESCRIPTION:Registration/Check-in Opens at 12:00pm\nEarly Sign Up Check-in Closes at 12:45pm\nIn-store/Waitlist Registration Close at 1:00pm
URL:https://gamemasterspgh.com/event/pokemon-perfect-order-prerelease/2026-03-21/
LOCATION:Regular Table\, 398 Perry Hwy\, Pittsburgh\, PA\, 15229\, United States
CATEGORIES:Open
ATTACH;FMTTYPE=image/png:https://gamemasterspgh.com/wp-content/uploads/2026/02/pokemon_perfect_order.png
END:VEVENT
BEGIN:VEVENT
DTSTART;TZID=America/New_York:20260321T193000
DTEND;TZID=America/New_York:20260321T220000
DTSTAMP:20260424T211031
CREATED:20260226T143111Z
LAST-MODIFIED:20260226T143112Z
UID:10019193-1774121400-1774130400@gamemasterspgh.com
SUMMARY:Tales Of Vicious Mockery @ Game Masters Presents: Dungeons & Drag Queens!
DESCRIPTION:Get ready for a wild night of dice and divas as comedians and queens play a game made by you\, the audience! \n \nGet ready for a night full of fun and laughter at Game Masters! Join us on March 21\, 2026 at 8:00 PM (Eastern Time) for an unforgettable in-person event featuring epic tales and fierce drag performances. Whether you’re a fan of Dungeons & Dragons or just love a good show\, this is the place to be. Don’t miss out on the magic and mischief! \n \nGrab your tickets at the following link: https://www.eventbrite.com/e/tales-of-vicious-mockery-game-masters-presents-dungeons-drag-queens-tickets-1983830372046
URL:https://gamemasterspgh.com/event/tales-of-vicious-mockery-game-masters-presents-dungeons-drag-queens/
LOCATION:Regular Table\, 398 Perry Hwy\, Pittsburgh\, PA\, 15229\, United States
CATEGORIES:Open
ATTACH;FMTTYPE=image/png:https://gamemasterspgh.com/wp-content/uploads/2025/07/tales-of-vicious-mockery.png
END:VEVENT
BEGIN:VEVENT
DTSTART;TZID=America/New_York:20260322T100000
DTEND;TZID=America/New_York:20260322T140000
DTSTAMP:20260424T211031
CREATED:20260107T131213Z
LAST-MODIFIED:20260107T131448Z
UID:10017842-1774173600-1774188000@gamemasterspgh.com
SUMMARY:Dice Throne | League
DESCRIPTION:Hello Fellow Dice Throne Nerds! \nIt will be every other week and usually bring 3 ban 1; meaning whoever you play will ban on of your characters and you pick out of the two which you will play. \nUsually Swiss best of 3 or best of 1 because of time. \nYour wins will be tracked and top 6 will get a cool alt board at end of league. \nAdditional Notes: \n\nThere will be a $10 table/tournament.\nYou will get one alt art card every month for 4 months.\nIn May we will give out an alt art board to the top 8 players of league.\nAlso in May we will have a special tournament. Details will be provided later.\n\n\nJoin the Discord Server!\nCheck out #dice-throne for latest news and any updates.
URL:https://gamemasterspgh.com/event/dice-throne-league/2026-03-22/
LOCATION:Regular Table\, 398 Perry Hwy\, Pittsburgh\, PA\, 15229\, United States
CATEGORIES:Open
ATTACH;FMTTYPE=image/png:https://gamemasterspgh.com/wp-content/uploads/2026/01/dice-throne-league.png
END:VEVENT
BEGIN:VEVENT
DTSTART;TZID=America/New_York:20260323T180000
DTEND;TZID=America/New_York:20260323T220000
DTSTAMP:20260424T211031
CREATED:20250209T221720Z
LAST-MODIFIED:20250209T222048Z
UID:10009780-1774288800-1774303200@gamemasterspgh.com
SUMMARY:Star Wars Unlimited [TCG] | Weekly Play
DESCRIPTION:Join us every Monday for a weekly play at 6 PM of Star Wars Unlimited! \n  \nCheck out the Discord on #starwars-unltd-general for any weekly changes! \nJoin the Discord Server!
URL:https://gamemasterspgh.com/event/star-wars-unlimited-tcg-weekly-play/2026-03-23/
LOCATION:Regular Table\, 398 Perry Hwy\, Pittsburgh\, PA\, 15229\, United States
CATEGORIES:Open
ATTACH;FMTTYPE=image/jpeg:https://gamemasterspgh.com/wp-content/uploads/2024/02/Star_Wars_Unlimited-e1708376420326.jpg
END:VEVENT
BEGIN:VEVENT
DTSTART;TZID=America/New_York:20260324T180000
DTEND;TZID=America/New_York:20260324T220000
DTSTAMP:20260424T211031
CREATED:20220603T153421Z
LAST-MODIFIED:20260105T140920Z
UID:10017325-1774375200-1774389600@gamemasterspgh.com
SUMMARY:Board Game Night
DESCRIPTION:Weekly\, re-occurring board gaming on every Tuesday
URL:https://gamemasterspgh.com/event/weekly-board-game-night/2026-03-24/
LOCATION:Regular Table\, 398 Perry Hwy\, Pittsburgh\, PA\, 15229\, United States
CATEGORIES:Open
ATTACH;FMTTYPE=image/png:https://gamemasterspgh.com/wp-content/uploads/2022/06/board-games.png
ORGANIZER;CN="Phil Glotfelty":MAILTO:phil@gamemasterspgh.com
END:VEVENT
BEGIN:VEVENT
DTSTART;TZID=America/New_York:20260324T180000
DTEND;TZID=America/New_York:20260324T220000
DTSTAMP:20260424T211031
CREATED:20250916T125318Z
LAST-MODIFIED:20250916T125600Z
UID:10015270-1774375200-1774389600@gamemasterspgh.com
SUMMARY:Gundam | Casual Play
DESCRIPTION:Join us for Gundam The Card Game! Learn and Play casually and meet other pilots. \n  \nJump into our discord\, for #gundam to chat with other players from the store \nJoin the Discord Server!
URL:https://gamemasterspgh.com/event/gundam-casual-play/2026-03-24/
LOCATION:Regular Table\, 398 Perry Hwy\, Pittsburgh\, PA\, 15229\, United States
CATEGORIES:Open
ATTACH;FMTTYPE=image/jpeg:https://gamemasterspgh.com/wp-content/uploads/2025/09/gundam.jpg
END:VEVENT
BEGIN:VEVENT
DTSTART;TZID=America/New_York:20260326T180000
DTEND;TZID=America/New_York:20260326T220000
DTSTAMP:20260424T211032
CREATED:20230126T132017Z
LAST-MODIFIED:20251229T030314Z
UID:10000394-1774548000-1774562400@gamemasterspgh.com
SUMMARY:D&D 5E - Adventurers League
DESCRIPTION:Join us on the Discord channel – for regular updates. \nJoin the Discord Server! \n\nD&D Adventurers League is a setup for beginners new to the system and veterans of it alike! \nThe D&D Adventurers League is an ongoing official campaign for Dungeons & Dragons. It uses the fifth edition Dungeons & Dragons rules\, and features the Forgotten Realms setting. You can play D&D Adventurers League games literally anywhere. Players use the fifth edition rules to create a character and bring that character to games anywhere D&D Adventurers League play is happening. \nFor more information check out the D&D website – https://dnd.wizards.com/adventurers-league \nRemember to join the Discord channel!
URL:https://gamemasterspgh.com/event/dnd5e-adventurers-league/2026-03-26/
LOCATION:Regular Table\, 398 Perry Hwy\, Pittsburgh\, PA\, 15229\, United States
CATEGORIES:Open,Tavern Table
ATTACH;FMTTYPE=image/png:https://gamemasterspgh.com/wp-content/uploads/2023/01/DnD_Swath_Scndry_Center_V1_L_RGB.png
END:VEVENT
BEGIN:VEVENT
DTSTART;TZID=America/New_York:20260326T180000
DTEND;TZID=America/New_York:20260326T220000
DTSTAMP:20260424T211032
CREATED:20241111T103518Z
LAST-MODIFIED:20251229T030254Z
UID:10008091-1774548000-1774562400@gamemasterspgh.com
SUMMARY:Lorcana League
DESCRIPTION:Disney Lorcana League!\n\nCheck out the Discord for the week to determine the format or style to be played \nTrading Card Games \n\n#lorcana-general\n#lorcana-events\n\n  \nJoin the Discord Server!
URL:https://gamemasterspgh.com/event/disney-lorcana-league/2026-03-26/
LOCATION:Regular Table\, 398 Perry Hwy\, Pittsburgh\, PA\, 15229\, United States
CATEGORIES:Open
ATTACH;FMTTYPE=image/png:https://gamemasterspgh.com/wp-content/uploads/2024/02/lorcana-e1708802747711.png
ORGANIZER;CN="Phil Glotfelty":MAILTO:phil@gamemasterspgh.com
END:VEVENT
END:VCALENDAR