BEGIN:VCALENDAR
VERSION:2.0
PRODID:-//Game Masters - ECPv6.15.20//NONSGML v1.0//EN
CALSCALE:GREGORIAN
METHOD:PUBLISH
X-ORIGINAL-URL:https://gamemasterspgh.com
X-WR-CALDESC:Events for Game Masters
REFRESH-INTERVAL;VALUE=DURATION:PT1H
X-Robots-Tag:noindex
X-PUBLISHED-TTL:PT1H
BEGIN:VTIMEZONE
TZID:America/New_York
BEGIN:DAYLIGHT
TZOFFSETFROM:-0500
TZOFFSETTO:-0400
TZNAME:EDT
DTSTART:20250309T070000
END:DAYLIGHT
BEGIN:STANDARD
TZOFFSETFROM:-0400
TZOFFSETTO:-0500
TZNAME:EST
DTSTART:20251102T060000
END:STANDARD
BEGIN:DAYLIGHT
TZOFFSETFROM:-0500
TZOFFSETTO:-0400
TZNAME:EDT
DTSTART:20260308T070000
END:DAYLIGHT
BEGIN:STANDARD
TZOFFSETFROM:-0400
TZOFFSETTO:-0500
TZNAME:EST
DTSTART:20261101T060000
END:STANDARD
BEGIN:DAYLIGHT
TZOFFSETFROM:-0500
TZOFFSETTO:-0400
TZNAME:EDT
DTSTART:20270314T070000
END:DAYLIGHT
BEGIN:STANDARD
TZOFFSETFROM:-0400
TZOFFSETTO:-0500
TZNAME:EST
DTSTART:20271107T060000
END:STANDARD
END:VTIMEZONE
BEGIN:VEVENT
DTSTART;TZID=America/New_York:20260203T180000
DTEND;TZID=America/New_York:20260203T220000
DTSTAMP:20260423T223646
CREATED:20220603T153421Z
LAST-MODIFIED:20260105T140920Z
UID:10017318-1770141600-1770156000@gamemasterspgh.com
SUMMARY:Board Game Night
DESCRIPTION:Weekly\, re-occurring board gaming on every Tuesday
URL:https://gamemasterspgh.com/event/weekly-board-game-night/2026-02-03/
LOCATION:Regular Table\, 398 Perry Hwy\, Pittsburgh\, PA\, 15229\, United States
CATEGORIES:Open
ATTACH;FMTTYPE=image/png:https://gamemasterspgh.com/wp-content/uploads/2022/06/board-games.png
ORGANIZER;CN="Phil Glotfelty":MAILTO:phil@gamemasterspgh.com
END:VEVENT
BEGIN:VEVENT
DTSTART;TZID=America/New_York:20260203T190000
DTEND;TZID=America/New_York:20260203T220000
DTSTAMP:20260423T223646
CREATED:20230215T141430Z
LAST-MODIFIED:20240406T135127Z
UID:10004519-1770145200-1770156000@gamemasterspgh.com
SUMMARY:Blood on the Clocktower
DESCRIPTION:A regularly occurring event for players in Blood on the Clocktower Discord: https://discord.gg/pCBuYpFCqH (#botc-general and #botc-scheduling) \n  \nPlease feel free to drop in and see if there are open slots! No sign up necessary. \n\n\n\n\nBlood On the Clocktower Website\n\nIn the quiet village of Ravenswood Bluff\, ‌a demon walks amongst you… \nDuring a hellish thunderstorm\, on the stroke of midnight\, there echoes a bone-chilling scream. The townsfolk rush to investigate and find the town storyteller murdered\, their body impaled on the hands of the clocktower\, blood dripping onto the cobblestones below. A Demon is on the loose\, murdering by night and disguised in human form by day. Some have scraps of information. Others have abilities that fight the evil or protect the innocent. But the Demon and its evil minions are spreading lies to confuse and breed suspicion. Will the good townsfolk put the puzzle together in time to execute the true demon and save themselves? Or will evil overrun this once peaceful village? \n  \nBlood on the Clocktower is a bluffing game enjoyed by 5 to 20 players on opposing teams of Good and Evil\, overseen by a Storyteller player who conducts the action and makes crucial decisions. The goal of the game is to successfully deduce and execute the demons before they outnumber the townfolk. \nDuring a ‘day’ phase players socialize openly and whisper privately to trade knowledge or spread lies\, culminating in a player’s execution if a majority suspects them of being Evil. Of a ‘night’ time\, players close their eyes and are woken one at a time by the Storyteller to gather information\, spread mischief\, or kill. \nThe Storyteller uses the game’s intricate playing pieces to guide each game\, leaving others free to play without a table or board. Players stay in the thick of the action to the very end even if their characters are killed\, haunting Ravenswood Bluff as ghosts trying to win from beyond the grave. \nIf you arrive late to a game\, you can enter after it’s started as a powerful Traveller character with unusual talents and questionable allegiances. Each character comes with their own special ability and no two players in a game are ever the same character.
URL:https://gamemasterspgh.com/event/blood-on-the-clocktower-series/2026-02-03/
LOCATION:Regular Table\, 398 Perry Hwy\, Pittsburgh\, PA\, 15229\, United States
CATEGORIES:Open
ATTACH;FMTTYPE=image/webp:https://gamemasterspgh.com/wp-content/uploads/2023/02/botc-e1676470352982.webp
END:VEVENT
BEGIN:VEVENT
DTSTART;TZID=America/New_York:20260204T180000
DTEND;TZID=America/New_York:20260204T220000
DTSTAMP:20260423T223646
CREATED:20230407T011722Z
LAST-MODIFIED:20230407T011722Z
UID:10010253-1770228000-1770242400@gamemasterspgh.com
SUMMARY:FrostHaven
DESCRIPTION:Frosthaven Campaign playthrough
URL:https://gamemasterspgh.com/event/frosthaven-2/2026-02-04/
LOCATION:Regular Table\, 398 Perry Hwy\, Pittsburgh\, PA\, 15229\, United States
ORGANIZER;CN="Cyril":MAILTO:gameduku@gmail.com
END:VEVENT
BEGIN:VEVENT
DTSTART;TZID=America/New_York:20260207T120000
DTEND;TZID=America/New_York:20260207T220000
DTSTAMP:20260423T223646
CREATED:20220901T160903Z
LAST-MODIFIED:20250601T160541Z
UID:10004277-1770465600-1770501600@gamemasterspgh.com
SUMMARY:Saturday All-Day Board Gaming
DESCRIPTION:Every week for all day board games!
URL:https://gamemasterspgh.com/event/saturday-board-gaming/2026-02-07/
LOCATION:Regular Table\, 398 Perry Hwy\, Pittsburgh\, PA\, 15229\, United States
CATEGORIES:Open
ATTACH;FMTTYPE=image/png:https://gamemasterspgh.com/wp-content/uploads/2022/09/hexes.png
ORGANIZER;CN="Phil Glotfelty":MAILTO:phil@gamemasterspgh.com
END:VEVENT
BEGIN:VEVENT
DTSTART;TZID=America/New_York:20260208T100000
DTEND;TZID=America/New_York:20260208T140000
DTSTAMP:20260423T223646
CREATED:20260107T131213Z
LAST-MODIFIED:20260107T131448Z
UID:10017839-1770544800-1770559200@gamemasterspgh.com
SUMMARY:Dice Throne | League
DESCRIPTION:Hello Fellow Dice Throne Nerds! \nIt will be every other week and usually bring 3 ban 1; meaning whoever you play will ban on of your characters and you pick out of the two which you will play. \nUsually Swiss best of 3 or best of 1 because of time. \nYour wins will be tracked and top 6 will get a cool alt board at end of league. \nAdditional Notes: \n\nThere will be a $10 table/tournament.\nYou will get one alt art card every month for 4 months.\nIn May we will give out an alt art board to the top 8 players of league.\nAlso in May we will have a special tournament. Details will be provided later.\n\n\nJoin the Discord Server!\nCheck out #dice-throne for latest news and any updates.
URL:https://gamemasterspgh.com/event/dice-throne-league/2026-02-08/
LOCATION:Regular Table\, 398 Perry Hwy\, Pittsburgh\, PA\, 15229\, United States
CATEGORIES:Open
ATTACH;FMTTYPE=image/png:https://gamemasterspgh.com/wp-content/uploads/2026/01/dice-throne-league.png
END:VEVENT
BEGIN:VEVENT
DTSTART;TZID=America/New_York:20260208T110000
DTEND;TZID=America/New_York:20260208T140000
DTSTAMP:20260423T223646
CREATED:20260204T125642Z
LAST-MODIFIED:20260204T125720Z
UID:10018595-1770548400-1770559200@gamemasterspgh.com
SUMMARY:[Game Demo] | Fractured Sky
DESCRIPTION:Are you a fan of hidden information\, bidding battles\, area control\, and resource management? \nCome try out the new Fractured Sky expansions in person! \nIV Studio is hosting a tour of the new expansions before they release on Kickstarter\, so come be one of the first to play the newcontent!\nPlus you’ll also be able to play a new game called Soar\, a small box game that will be releasing at the same time as the expansions! \nJoin us at Game Masters on February 8th from 11am-2pm by RSVPing at the link included. \nOnly 20 spots are available!\nhttps://partiful.com/e/bsd7PaNfZE8yCayjkb0O?c=NSZMh_h8
URL:https://gamemasterspgh.com/event/demo-fractured-sky/
LOCATION:Regular Table\, 398 Perry Hwy\, Pittsburgh\, PA\, 15229\, United States
CATEGORIES:Open
ATTACH;FMTTYPE=image/webp:https://gamemasterspgh.com/wp-content/uploads/2026/02/fractured-sky.webp
END:VEVENT
BEGIN:VEVENT
DTSTART;TZID=America/New_York:20260210T180000
DTEND;TZID=America/New_York:20260210T220000
DTSTAMP:20260423T223646
CREATED:20220603T153421Z
LAST-MODIFIED:20260105T140920Z
UID:10017319-1770746400-1770760800@gamemasterspgh.com
SUMMARY:Board Game Night
DESCRIPTION:Weekly\, re-occurring board gaming on every Tuesday
URL:https://gamemasterspgh.com/event/weekly-board-game-night/2026-02-10/
LOCATION:Regular Table\, 398 Perry Hwy\, Pittsburgh\, PA\, 15229\, United States
CATEGORIES:Open
ATTACH;FMTTYPE=image/png:https://gamemasterspgh.com/wp-content/uploads/2022/06/board-games.png
ORGANIZER;CN="Phil Glotfelty":MAILTO:phil@gamemasterspgh.com
END:VEVENT
BEGIN:VEVENT
DTSTART;TZID=America/New_York:20260210T190000
DTEND;TZID=America/New_York:20260210T220000
DTSTAMP:20260423T223646
CREATED:20230215T141430Z
LAST-MODIFIED:20240406T135127Z
UID:10004520-1770750000-1770760800@gamemasterspgh.com
SUMMARY:Blood on the Clocktower
DESCRIPTION:A regularly occurring event for players in Blood on the Clocktower Discord: https://discord.gg/pCBuYpFCqH (#botc-general and #botc-scheduling) \n  \nPlease feel free to drop in and see if there are open slots! No sign up necessary. \n\n\n\n\nBlood On the Clocktower Website\n\nIn the quiet village of Ravenswood Bluff\, ‌a demon walks amongst you… \nDuring a hellish thunderstorm\, on the stroke of midnight\, there echoes a bone-chilling scream. The townsfolk rush to investigate and find the town storyteller murdered\, their body impaled on the hands of the clocktower\, blood dripping onto the cobblestones below. A Demon is on the loose\, murdering by night and disguised in human form by day. Some have scraps of information. Others have abilities that fight the evil or protect the innocent. But the Demon and its evil minions are spreading lies to confuse and breed suspicion. Will the good townsfolk put the puzzle together in time to execute the true demon and save themselves? Or will evil overrun this once peaceful village? \n  \nBlood on the Clocktower is a bluffing game enjoyed by 5 to 20 players on opposing teams of Good and Evil\, overseen by a Storyteller player who conducts the action and makes crucial decisions. The goal of the game is to successfully deduce and execute the demons before they outnumber the townfolk. \nDuring a ‘day’ phase players socialize openly and whisper privately to trade knowledge or spread lies\, culminating in a player’s execution if a majority suspects them of being Evil. Of a ‘night’ time\, players close their eyes and are woken one at a time by the Storyteller to gather information\, spread mischief\, or kill. \nThe Storyteller uses the game’s intricate playing pieces to guide each game\, leaving others free to play without a table or board. Players stay in the thick of the action to the very end even if their characters are killed\, haunting Ravenswood Bluff as ghosts trying to win from beyond the grave. \nIf you arrive late to a game\, you can enter after it’s started as a powerful Traveller character with unusual talents and questionable allegiances. Each character comes with their own special ability and no two players in a game are ever the same character.
URL:https://gamemasterspgh.com/event/blood-on-the-clocktower-series/2026-02-10/
LOCATION:Regular Table\, 398 Perry Hwy\, Pittsburgh\, PA\, 15229\, United States
CATEGORIES:Open
ATTACH;FMTTYPE=image/webp:https://gamemasterspgh.com/wp-content/uploads/2023/02/botc-e1676470352982.webp
END:VEVENT
BEGIN:VEVENT
DTSTART;TZID=America/New_York:20260214T120000
DTEND;TZID=America/New_York:20260214T220000
DTSTAMP:20260423T223646
CREATED:20220901T160903Z
LAST-MODIFIED:20250601T160541Z
UID:10004278-1771070400-1771106400@gamemasterspgh.com
SUMMARY:Saturday All-Day Board Gaming
DESCRIPTION:Every week for all day board games!
URL:https://gamemasterspgh.com/event/saturday-board-gaming/2026-02-14/
LOCATION:Regular Table\, 398 Perry Hwy\, Pittsburgh\, PA\, 15229\, United States
CATEGORIES:Open
ATTACH;FMTTYPE=image/png:https://gamemasterspgh.com/wp-content/uploads/2022/09/hexes.png
ORGANIZER;CN="Phil Glotfelty":MAILTO:phil@gamemasterspgh.com
END:VEVENT
BEGIN:VEVENT
DTSTART;TZID=America/New_York:20260217T180000
DTEND;TZID=America/New_York:20260217T220000
DTSTAMP:20260423T223646
CREATED:20220603T153421Z
LAST-MODIFIED:20260105T140920Z
UID:10017320-1771351200-1771365600@gamemasterspgh.com
SUMMARY:Board Game Night
DESCRIPTION:Weekly\, re-occurring board gaming on every Tuesday
URL:https://gamemasterspgh.com/event/weekly-board-game-night/2026-02-17/
LOCATION:Regular Table\, 398 Perry Hwy\, Pittsburgh\, PA\, 15229\, United States
CATEGORIES:Open
ATTACH;FMTTYPE=image/png:https://gamemasterspgh.com/wp-content/uploads/2022/06/board-games.png
ORGANIZER;CN="Phil Glotfelty":MAILTO:phil@gamemasterspgh.com
END:VEVENT
BEGIN:VEVENT
DTSTART;TZID=America/New_York:20260217T190000
DTEND;TZID=America/New_York:20260217T220000
DTSTAMP:20260423T223646
CREATED:20230215T141430Z
LAST-MODIFIED:20240406T135127Z
UID:10004521-1771354800-1771365600@gamemasterspgh.com
SUMMARY:Blood on the Clocktower
DESCRIPTION:A regularly occurring event for players in Blood on the Clocktower Discord: https://discord.gg/pCBuYpFCqH (#botc-general and #botc-scheduling) \n  \nPlease feel free to drop in and see if there are open slots! No sign up necessary. \n\n\n\n\nBlood On the Clocktower Website\n\nIn the quiet village of Ravenswood Bluff\, ‌a demon walks amongst you… \nDuring a hellish thunderstorm\, on the stroke of midnight\, there echoes a bone-chilling scream. The townsfolk rush to investigate and find the town storyteller murdered\, their body impaled on the hands of the clocktower\, blood dripping onto the cobblestones below. A Demon is on the loose\, murdering by night and disguised in human form by day. Some have scraps of information. Others have abilities that fight the evil or protect the innocent. But the Demon and its evil minions are spreading lies to confuse and breed suspicion. Will the good townsfolk put the puzzle together in time to execute the true demon and save themselves? Or will evil overrun this once peaceful village? \n  \nBlood on the Clocktower is a bluffing game enjoyed by 5 to 20 players on opposing teams of Good and Evil\, overseen by a Storyteller player who conducts the action and makes crucial decisions. The goal of the game is to successfully deduce and execute the demons before they outnumber the townfolk. \nDuring a ‘day’ phase players socialize openly and whisper privately to trade knowledge or spread lies\, culminating in a player’s execution if a majority suspects them of being Evil. Of a ‘night’ time\, players close their eyes and are woken one at a time by the Storyteller to gather information\, spread mischief\, or kill. \nThe Storyteller uses the game’s intricate playing pieces to guide each game\, leaving others free to play without a table or board. Players stay in the thick of the action to the very end even if their characters are killed\, haunting Ravenswood Bluff as ghosts trying to win from beyond the grave. \nIf you arrive late to a game\, you can enter after it’s started as a powerful Traveller character with unusual talents and questionable allegiances. Each character comes with their own special ability and no two players in a game are ever the same character.
URL:https://gamemasterspgh.com/event/blood-on-the-clocktower-series/2026-02-17/
LOCATION:Regular Table\, 398 Perry Hwy\, Pittsburgh\, PA\, 15229\, United States
CATEGORIES:Open
ATTACH;FMTTYPE=image/webp:https://gamemasterspgh.com/wp-content/uploads/2023/02/botc-e1676470352982.webp
END:VEVENT
BEGIN:VEVENT
DTSTART;TZID=America/New_York:20260218T180000
DTEND;TZID=America/New_York:20260218T220000
DTSTAMP:20260423T223646
CREATED:20230407T011722Z
LAST-MODIFIED:20230407T011722Z
UID:10010254-1771437600-1771452000@gamemasterspgh.com
SUMMARY:FrostHaven
DESCRIPTION:Frosthaven Campaign playthrough
URL:https://gamemasterspgh.com/event/frosthaven-2/2026-02-18/
LOCATION:Regular Table\, 398 Perry Hwy\, Pittsburgh\, PA\, 15229\, United States
ORGANIZER;CN="Cyril":MAILTO:gameduku@gmail.com
END:VEVENT
BEGIN:VEVENT
DTSTART;TZID=America/New_York:20260221T120000
DTEND;TZID=America/New_York:20260221T220000
DTSTAMP:20260423T223646
CREATED:20220901T160903Z
LAST-MODIFIED:20250601T160541Z
UID:10004279-1771675200-1771711200@gamemasterspgh.com
SUMMARY:Saturday All-Day Board Gaming
DESCRIPTION:Every week for all day board games!
URL:https://gamemasterspgh.com/event/saturday-board-gaming/2026-02-21/
LOCATION:Regular Table\, 398 Perry Hwy\, Pittsburgh\, PA\, 15229\, United States
CATEGORIES:Open
ATTACH;FMTTYPE=image/png:https://gamemasterspgh.com/wp-content/uploads/2022/09/hexes.png
ORGANIZER;CN="Phil Glotfelty":MAILTO:phil@gamemasterspgh.com
END:VEVENT
BEGIN:VEVENT
DTSTART;TZID=America/New_York:20260222T100000
DTEND;TZID=America/New_York:20260222T140000
DTSTAMP:20260423T223646
CREATED:20260107T131213Z
LAST-MODIFIED:20260107T131448Z
UID:10017840-1771754400-1771768800@gamemasterspgh.com
SUMMARY:Dice Throne | League
DESCRIPTION:Hello Fellow Dice Throne Nerds! \nIt will be every other week and usually bring 3 ban 1; meaning whoever you play will ban on of your characters and you pick out of the two which you will play. \nUsually Swiss best of 3 or best of 1 because of time. \nYour wins will be tracked and top 6 will get a cool alt board at end of league. \nAdditional Notes: \n\nThere will be a $10 table/tournament.\nYou will get one alt art card every month for 4 months.\nIn May we will give out an alt art board to the top 8 players of league.\nAlso in May we will have a special tournament. Details will be provided later.\n\n\nJoin the Discord Server!\nCheck out #dice-throne for latest news and any updates.
URL:https://gamemasterspgh.com/event/dice-throne-league/2026-02-22/
LOCATION:Regular Table\, 398 Perry Hwy\, Pittsburgh\, PA\, 15229\, United States
CATEGORIES:Open
ATTACH;FMTTYPE=image/png:https://gamemasterspgh.com/wp-content/uploads/2026/01/dice-throne-league.png
END:VEVENT
BEGIN:VEVENT
DTSTART;TZID=America/New_York:20260224T180000
DTEND;TZID=America/New_York:20260224T220000
DTSTAMP:20260423T223646
CREATED:20220603T153421Z
LAST-MODIFIED:20260105T140920Z
UID:10017321-1771956000-1771970400@gamemasterspgh.com
SUMMARY:Board Game Night
DESCRIPTION:Weekly\, re-occurring board gaming on every Tuesday
URL:https://gamemasterspgh.com/event/weekly-board-game-night/2026-02-24/
LOCATION:Regular Table\, 398 Perry Hwy\, Pittsburgh\, PA\, 15229\, United States
CATEGORIES:Open
ATTACH;FMTTYPE=image/png:https://gamemasterspgh.com/wp-content/uploads/2022/06/board-games.png
ORGANIZER;CN="Phil Glotfelty":MAILTO:phil@gamemasterspgh.com
END:VEVENT
BEGIN:VEVENT
DTSTART;TZID=America/New_York:20260224T190000
DTEND;TZID=America/New_York:20260224T220000
DTSTAMP:20260423T223646
CREATED:20230215T141430Z
LAST-MODIFIED:20240406T135127Z
UID:10004522-1771959600-1771970400@gamemasterspgh.com
SUMMARY:Blood on the Clocktower
DESCRIPTION:A regularly occurring event for players in Blood on the Clocktower Discord: https://discord.gg/pCBuYpFCqH (#botc-general and #botc-scheduling) \n  \nPlease feel free to drop in and see if there are open slots! No sign up necessary. \n\n\n\n\nBlood On the Clocktower Website\n\nIn the quiet village of Ravenswood Bluff\, ‌a demon walks amongst you… \nDuring a hellish thunderstorm\, on the stroke of midnight\, there echoes a bone-chilling scream. The townsfolk rush to investigate and find the town storyteller murdered\, their body impaled on the hands of the clocktower\, blood dripping onto the cobblestones below. A Demon is on the loose\, murdering by night and disguised in human form by day. Some have scraps of information. Others have abilities that fight the evil or protect the innocent. But the Demon and its evil minions are spreading lies to confuse and breed suspicion. Will the good townsfolk put the puzzle together in time to execute the true demon and save themselves? Or will evil overrun this once peaceful village? \n  \nBlood on the Clocktower is a bluffing game enjoyed by 5 to 20 players on opposing teams of Good and Evil\, overseen by a Storyteller player who conducts the action and makes crucial decisions. The goal of the game is to successfully deduce and execute the demons before they outnumber the townfolk. \nDuring a ‘day’ phase players socialize openly and whisper privately to trade knowledge or spread lies\, culminating in a player’s execution if a majority suspects them of being Evil. Of a ‘night’ time\, players close their eyes and are woken one at a time by the Storyteller to gather information\, spread mischief\, or kill. \nThe Storyteller uses the game’s intricate playing pieces to guide each game\, leaving others free to play without a table or board. Players stay in the thick of the action to the very end even if their characters are killed\, haunting Ravenswood Bluff as ghosts trying to win from beyond the grave. \nIf you arrive late to a game\, you can enter after it’s started as a powerful Traveller character with unusual talents and questionable allegiances. Each character comes with their own special ability and no two players in a game are ever the same character.
URL:https://gamemasterspgh.com/event/blood-on-the-clocktower-series/2026-02-24/
LOCATION:Regular Table\, 398 Perry Hwy\, Pittsburgh\, PA\, 15229\, United States
CATEGORIES:Open
ATTACH;FMTTYPE=image/webp:https://gamemasterspgh.com/wp-content/uploads/2023/02/botc-e1676470352982.webp
END:VEVENT
BEGIN:VEVENT
DTSTART;TZID=America/New_York:20260228T120000
DTEND;TZID=America/New_York:20260228T220000
DTSTAMP:20260423T223646
CREATED:20220901T160903Z
LAST-MODIFIED:20250601T160541Z
UID:10004280-1772280000-1772316000@gamemasterspgh.com
SUMMARY:Saturday All-Day Board Gaming
DESCRIPTION:Every week for all day board games!
URL:https://gamemasterspgh.com/event/saturday-board-gaming/2026-02-28/
LOCATION:Regular Table\, 398 Perry Hwy\, Pittsburgh\, PA\, 15229\, United States
CATEGORIES:Open
ATTACH;FMTTYPE=image/png:https://gamemasterspgh.com/wp-content/uploads/2022/09/hexes.png
ORGANIZER;CN="Phil Glotfelty":MAILTO:phil@gamemasterspgh.com
END:VEVENT
END:VCALENDAR