BEGIN:VCALENDAR
VERSION:2.0
PRODID:-//Game Masters - ECPv6.15.20//NONSGML v1.0//EN
CALSCALE:GREGORIAN
METHOD:PUBLISH
X-ORIGINAL-URL:https://gamemasterspgh.com
X-WR-CALDESC:Events for Game Masters
REFRESH-INTERVAL;VALUE=DURATION:PT1H
X-Robots-Tag:noindex
X-PUBLISHED-TTL:PT1H
BEGIN:VTIMEZONE
TZID:America/New_York
BEGIN:DAYLIGHT
TZOFFSETFROM:-0500
TZOFFSETTO:-0400
TZNAME:EDT
DTSTART:20250309T070000
END:DAYLIGHT
BEGIN:STANDARD
TZOFFSETFROM:-0400
TZOFFSETTO:-0500
TZNAME:EST
DTSTART:20251102T060000
END:STANDARD
BEGIN:DAYLIGHT
TZOFFSETFROM:-0500
TZOFFSETTO:-0400
TZNAME:EDT
DTSTART:20260308T070000
END:DAYLIGHT
BEGIN:STANDARD
TZOFFSETFROM:-0400
TZOFFSETTO:-0500
TZNAME:EST
DTSTART:20261101T060000
END:STANDARD
BEGIN:DAYLIGHT
TZOFFSETFROM:-0500
TZOFFSETTO:-0400
TZNAME:EDT
DTSTART:20270314T070000
END:DAYLIGHT
BEGIN:STANDARD
TZOFFSETFROM:-0400
TZOFFSETTO:-0500
TZNAME:EST
DTSTART:20271107T060000
END:STANDARD
END:VTIMEZONE
BEGIN:VEVENT
DTSTART;TZID=America/New_York:20260214T100000
DTEND;TZID=America/New_York:20260214T143000
DTSTAMP:20260424T040127
CREATED:20250714T123444Z
LAST-MODIFIED:20251013T192416Z
UID:10016672-1771063200-1771079400@gamemasterspgh.com
SUMMARY:Pathfinder Society | Early Session
DESCRIPTION:Pathfinder Society is a worldwide fantasy roleplaying campaign using the Pathfinder (second edition) ruleset. Take on the role of an agent of the Pathfinder Society\, a legendary league of explorers\, archaeologists\, and adventurers dedicated to discovering and chronicling the greatest mysteries and wonders of an ancient world. \nPathfinder Society is a drop-in event for players to learn\, play\, and master the Pathfinder role-playplaying system. It is great for just starting out to veterans alike to bring everyone together. \n\nRegular Pathfinder Society 2nd Edition Scenarios. \nJoin Discord for channel #pathfinder-society for the latest information on playing! \nJoin the Discord Server!
URL:https://gamemasterspgh.com/event/pathfinder-society-early/2026-02-14/
LOCATION:Regular Table\, 398 Perry Hwy\, Pittsburgh\, PA\, 15229\, United States
CATEGORIES:Open
ATTACH;FMTTYPE=image/png:https://gamemasterspgh.com/wp-content/uploads/2024/09/Pittsbugh_Lodge_Poster_800x450.png
ORGANIZER;CN="Nick Greene":MAILTO:nickgpfs@gmail.com
END:VEVENT
BEGIN:VEVENT
DTSTART;TZID=America/New_York:20260214T110000
DTEND;TZID=America/New_York:20260214T180000
DTSTAMP:20260424T040127
CREATED:20260202T124354Z
LAST-MODIFIED:20260202T125429Z
UID:10018578-1771066800-1771092000@gamemasterspgh.com
SUMMARY:Pokémon | [TCG League Cup]
DESCRIPTION:Registration will open at 11:00am\nRegistration will close at 11:45am.\nPlayers must have their deck list submitted by this time. Deck lists submitted after this time may be marked as late. \nDigital Deck Registration will be required.\nInstructions for deck list submissions will be provided during registration and on the Game Masters’ Discord. \nFormat: Standard – Scarlet & Violet through Phantasmal Flames\, Regulation mark “G” thru “I”\n**Please note that Ascended Heroes will NOT be Standard legal for this event. \nSwiss round matches will be 30mins Best of 1. Top Cut matches will be 75mins Best of 3. \nPrizes: 100% of the entry will be paid out in prizes and/or store credit! \n– Top Players in each division will receive Championship Points based on their placement.\n– First Place in each age division will receive a Champion Playmat.\n– Each player will receive at least 1 Prize Series pack for participating
URL:https://gamemasterspgh.com/event/pokemon-tcg-league-cup/
LOCATION:Regular Table\, 398 Perry Hwy\, Pittsburgh\, PA\, 15229\, United States
CATEGORIES:Open
ATTACH;FMTTYPE=image/jpeg:https://gamemasterspgh.com/wp-content/uploads/2024/01/league-cup-e1770038004796.jpg
END:VEVENT
BEGIN:VEVENT
DTSTART;TZID=America/New_York:20260214T120000
DTEND;TZID=America/New_York:20260214T180000
DTSTAMP:20260424T040127
CREATED:20260202T123528Z
LAST-MODIFIED:20260202T131543Z
UID:10007070-1771070400-1771092000@gamemasterspgh.com
SUMMARY:Pokémon | [Open Play And Weekly League]
DESCRIPTION:Come join in before the weekly tournament for casual play\, trading\, conversation\, or to help get you started with learning the rules to start your very own Pokémon collection. \nThis is completely free event to attend! \n\nStandard Tournament\n\nSign Up from 12pm-1pm\nRound 1 Start at 1pm – Ascended Heroes Proxies are allowed for this event\nOpen Play & Trade\nEarly Registration for our TCG League Cup opens
URL:https://gamemasterspgh.com/event/pokemon-openplay-weeklyleague/2026-02-14/
LOCATION:Regular Table\, 398 Perry Hwy\, Pittsburgh\, PA\, 15229\, United States
CATEGORIES:Open
ATTACH;FMTTYPE=image/jpeg:https://gamemasterspgh.com/wp-content/uploads/2023/07/pokemon-e1690852217372.jpg
ORGANIZER;CN="Phil Glotfelty":MAILTO:phil@gamemasterspgh.com
END:VEVENT
BEGIN:VEVENT
DTSTART;TZID=America/New_York:20260214T120000
DTEND;TZID=America/New_York:20260214T220000
DTSTAMP:20260424T040127
CREATED:20220901T160903Z
LAST-MODIFIED:20250601T160541Z
UID:10004278-1771070400-1771106400@gamemasterspgh.com
SUMMARY:Saturday All-Day Board Gaming
DESCRIPTION:Every week for all day board games!
URL:https://gamemasterspgh.com/event/saturday-board-gaming/2026-02-14/
LOCATION:Regular Table\, 398 Perry Hwy\, Pittsburgh\, PA\, 15229\, United States
CATEGORIES:Open
ATTACH;FMTTYPE=image/png:https://gamemasterspgh.com/wp-content/uploads/2022/09/hexes.png
ORGANIZER;CN="Phil Glotfelty":MAILTO:phil@gamemasterspgh.com
END:VEVENT
BEGIN:VEVENT
DTSTART;TZID=America/New_York:20260214T130000
DTEND;TZID=America/New_York:20260214T160000
DTSTAMP:20260424T040127
CREATED:20250507T024601Z
LAST-MODIFIED:20250601T160330Z
UID:10011078-1771074000-1771084800@gamemasterspgh.com
SUMMARY:Flesh and Blood | [Armories]
DESCRIPTION:Store Link: https://fabtcg.com/en/locator/game-masters/ \n$15 buy-in\, three packs at the door. GEM pack for attendance.
URL:https://gamemasterspgh.com/event/flesh-and-blood-armories/2026-02-14/
LOCATION:Regular Table\, 398 Perry Hwy\, Pittsburgh\, PA\, 15229\, United States
CATEGORIES:Open
ATTACH;FMTTYPE=image/webp:https://gamemasterspgh.com/wp-content/uploads/2022/10/flesh-blood.webp
END:VEVENT
BEGIN:VEVENT
DTSTART;TZID=America/New_York:20260214T153000
DTEND;TZID=America/New_York:20260214T200000
DTSTAMP:20260424T040127
CREATED:20250714T123622Z
LAST-MODIFIED:20251007T163438Z
UID:10014082-1771083000-1771099200@gamemasterspgh.com
SUMMARY:Pathfinder Society | Late Session
DESCRIPTION:Pathfinder Society is a worldwide fantasy roleplaying campaign using the Pathfinder (second edition) ruleset. Take on the role of an agent of the Pathfinder Society\, a legendary league of explorers\, archaeologists\, and adventurers dedicated to discovering and chronicling the greatest mysteries and wonders of an ancient world. \nPathfinder Society is a drop-in event for players to learn\, play\, and master the Pathfinder role-playplaying system. It is great for just starting out to veterans alike to bring everyone together. \n\nRegular Pathfinder Society 2nd Edition Scenarios. \nJoin Discord for channel #pathfinder-society for the latest information on playing! \nJoin the Discord Server!
URL:https://gamemasterspgh.com/event/pathfinder-society-late-session/2026-02-14/
LOCATION:Regular Table\, 398 Perry Hwy\, Pittsburgh\, PA\, 15229\, United States
CATEGORIES:Open
ATTACH;FMTTYPE=image/png:https://gamemasterspgh.com/wp-content/uploads/2024/09/Pittsbugh_Lodge_Poster_800x450.png
ORGANIZER;CN="Nick Greene":MAILTO:nickgpfs@gmail.com
END:VEVENT
BEGIN:VEVENT
DTSTART;TZID=America/New_York:20260215T103000
DTEND;TZID=America/New_York:20260215T140000
DTSTAMP:20260424T040127
CREATED:20251103T202635Z
LAST-MODIFIED:20251107T150751Z
UID:10016866-1771151400-1771164000@gamemasterspgh.com
SUMMARY:Starfinder 2e: Society Games with Pittsburgh Lodge OPF
DESCRIPTION:Starfinder Society is a worldwide science fantasy campaign that puts you in the role of an agent of the Starfinder Society. The Society is a group of explorers who travel out into the galaxy in search of lost knowledge and technologies\, bringing what they learn back with them to share with the people of the Pact Worlds. \nWe will be doing a set of trial run games of Starfinder 2e’s Society Organized Play to see how it goes: \nhttps://paizo.com/starfindersociety \n\nRegular Pathfinder Society 2nd Edition Scenarios. Join Discord for channel #pathfinder-2e for the latest information on playing! Join the Discord Server!
URL:https://gamemasterspgh.com/event/starfinder-2e-society-games-with-pittsburgh-lodge-opf/2026-02-15/
LOCATION:Regular Table\, 398 Perry Hwy\, Pittsburgh\, PA\, 15229\, United States
CATEGORIES:Closed
ATTACH;FMTTYPE=image/jpeg:https://gamemasterspgh.com/wp-content/uploads/2025/11/358559433_168944892858083_3596475046138377887_n.jpg
ORGANIZER;CN="Steven Cook":MAILTO:ScubaSteve.PFS@gmail.com
END:VEVENT
BEGIN:VEVENT
DTSTART;TZID=America/New_York:20260216T180000
DTEND;TZID=America/New_York:20260216T220000
DTSTAMP:20260424T040127
CREATED:20250209T221720Z
LAST-MODIFIED:20250209T222048Z
UID:10009775-1771264800-1771279200@gamemasterspgh.com
SUMMARY:Star Wars Unlimited [TCG] | Weekly Play
DESCRIPTION:Join us every Monday for a weekly play at 6 PM of Star Wars Unlimited! \n  \nCheck out the Discord on #starwars-unltd-general for any weekly changes! \nJoin the Discord Server!
URL:https://gamemasterspgh.com/event/star-wars-unlimited-tcg-weekly-play/2026-02-16/
LOCATION:Regular Table\, 398 Perry Hwy\, Pittsburgh\, PA\, 15229\, United States
CATEGORIES:Open
ATTACH;FMTTYPE=image/jpeg:https://gamemasterspgh.com/wp-content/uploads/2024/02/Star_Wars_Unlimited-e1708376420326.jpg
END:VEVENT
BEGIN:VEVENT
DTSTART;TZID=America/New_York:20260216T180000
DTEND;TZID=America/New_York:20260216T220000
DTSTAMP:20260424T040127
CREATED:20250820T140909Z
LAST-MODIFIED:20260406T182121Z
UID:10015002-1771264800-1771279200@gamemasterspgh.com
SUMMARY:Another Irregulars Game
DESCRIPTION:Close group. Semi-regular cast\, irregular games played.
URL:https://gamemasterspgh.com/event/another-irregulars-game-david/2026-02-16/
LOCATION:Regular Table\, 398 Perry Hwy\, Pittsburgh\, PA\, 15229\, United States
CATEGORIES:Closed
ATTACH;FMTTYPE=image/png:https://gamemasterspgh.com/wp-content/uploads/2025/08/rally-the-troops.png
ORGANIZER;CN="David Rickman":MAILTO:rickmand@gmail.com
END:VEVENT
BEGIN:VEVENT
DTSTART;TZID=America/New_York:20260217T180000
DTEND;TZID=America/New_York:20260217T220000
DTSTAMP:20260424T040127
CREATED:20220603T153421Z
LAST-MODIFIED:20260105T140920Z
UID:10017320-1771351200-1771365600@gamemasterspgh.com
SUMMARY:Board Game Night
DESCRIPTION:Weekly\, re-occurring board gaming on every Tuesday
URL:https://gamemasterspgh.com/event/weekly-board-game-night/2026-02-17/
LOCATION:Regular Table\, 398 Perry Hwy\, Pittsburgh\, PA\, 15229\, United States
CATEGORIES:Open
ATTACH;FMTTYPE=image/png:https://gamemasterspgh.com/wp-content/uploads/2022/06/board-games.png
ORGANIZER;CN="Phil Glotfelty":MAILTO:phil@gamemasterspgh.com
END:VEVENT
BEGIN:VEVENT
DTSTART;TZID=America/New_York:20260217T180000
DTEND;TZID=America/New_York:20260217T220000
DTSTAMP:20260424T040127
CREATED:20240205T220233Z
LAST-MODIFIED:20240607T112213Z
UID:10003103-1771351200-1771365600@gamemasterspgh.com
SUMMARY:[D&D5e] | Saltmarsh
DESCRIPTION:Robert’s Saltmarsh game\, D&D 5e
URL:https://gamemasterspgh.com/event/saltmarsh-5e-2/2026-02-17/
LOCATION:Regular Table\, 398 Perry Hwy\, Pittsburgh\, PA\, 15229\, United States
ORGANIZER;CN="Robert Baugh":MAILTO:Robertcalvinbaugh@gmail.com
END:VEVENT
BEGIN:VEVENT
DTSTART;TZID=America/New_York:20260217T180000
DTEND;TZID=America/New_York:20260217T220000
DTSTAMP:20260424T040127
CREATED:20250916T125318Z
LAST-MODIFIED:20250916T125600Z
UID:10015265-1771351200-1771365600@gamemasterspgh.com
SUMMARY:Gundam | Casual Play
DESCRIPTION:Join us for Gundam The Card Game! Learn and Play casually and meet other pilots. \n  \nJump into our discord\, for #gundam to chat with other players from the store \nJoin the Discord Server!
URL:https://gamemasterspgh.com/event/gundam-casual-play/2026-02-17/
LOCATION:Regular Table\, 398 Perry Hwy\, Pittsburgh\, PA\, 15229\, United States
CATEGORIES:Open
ATTACH;FMTTYPE=image/jpeg:https://gamemasterspgh.com/wp-content/uploads/2025/09/gundam.jpg
END:VEVENT
BEGIN:VEVENT
DTSTART;TZID=America/New_York:20260217T183000
DTEND;TZID=America/New_York:20260217T220000
DTSTAMP:20260424T040127
CREATED:20260217T130929Z
LAST-MODIFIED:20260217T130929Z
UID:10019158-1771353000-1771365600@gamemasterspgh.com
SUMMARY:killteam
DESCRIPTION:hosting a game of warhammer killteam
URL:https://gamemasterspgh.com/event/killteam/
LOCATION:Regular Table\, 398 Perry Hwy\, Pittsburgh\, PA\, 15229\, United States
CATEGORIES:Closed
ORGANIZER;CN="Jeremy Harris":MAILTO:jeremy.harrisms@gmail.com
END:VEVENT
BEGIN:VEVENT
DTSTART;TZID=America/New_York:20260217T190000
DTEND;TZID=America/New_York:20260217T220000
DTSTAMP:20260424T040127
CREATED:20230215T141430Z
LAST-MODIFIED:20240406T135127Z
UID:10004521-1771354800-1771365600@gamemasterspgh.com
SUMMARY:Blood on the Clocktower
DESCRIPTION:A regularly occurring event for players in Blood on the Clocktower Discord: https://discord.gg/pCBuYpFCqH (#botc-general and #botc-scheduling) \n  \nPlease feel free to drop in and see if there are open slots! No sign up necessary. \n\n\n\n\nBlood On the Clocktower Website\n\nIn the quiet village of Ravenswood Bluff\, ‌a demon walks amongst you… \nDuring a hellish thunderstorm\, on the stroke of midnight\, there echoes a bone-chilling scream. The townsfolk rush to investigate and find the town storyteller murdered\, their body impaled on the hands of the clocktower\, blood dripping onto the cobblestones below. A Demon is on the loose\, murdering by night and disguised in human form by day. Some have scraps of information. Others have abilities that fight the evil or protect the innocent. But the Demon and its evil minions are spreading lies to confuse and breed suspicion. Will the good townsfolk put the puzzle together in time to execute the true demon and save themselves? Or will evil overrun this once peaceful village? \n  \nBlood on the Clocktower is a bluffing game enjoyed by 5 to 20 players on opposing teams of Good and Evil\, overseen by a Storyteller player who conducts the action and makes crucial decisions. The goal of the game is to successfully deduce and execute the demons before they outnumber the townfolk. \nDuring a ‘day’ phase players socialize openly and whisper privately to trade knowledge or spread lies\, culminating in a player’s execution if a majority suspects them of being Evil. Of a ‘night’ time\, players close their eyes and are woken one at a time by the Storyteller to gather information\, spread mischief\, or kill. \nThe Storyteller uses the game’s intricate playing pieces to guide each game\, leaving others free to play without a table or board. Players stay in the thick of the action to the very end even if their characters are killed\, haunting Ravenswood Bluff as ghosts trying to win from beyond the grave. \nIf you arrive late to a game\, you can enter after it’s started as a powerful Traveller character with unusual talents and questionable allegiances. Each character comes with their own special ability and no two players in a game are ever the same character.
URL:https://gamemasterspgh.com/event/blood-on-the-clocktower-series/2026-02-17/
LOCATION:Regular Table\, 398 Perry Hwy\, Pittsburgh\, PA\, 15229\, United States
CATEGORIES:Open
ATTACH;FMTTYPE=image/webp:https://gamemasterspgh.com/wp-content/uploads/2023/02/botc-e1676470352982.webp
END:VEVENT
BEGIN:VEVENT
DTSTART;TZID=America/New_York:20260218T170000
DTEND;TZID=America/New_York:20260218T220000
DTSTAMP:20260424T040127
CREATED:20250916T170609Z
LAST-MODIFIED:20250927T115358Z
UID:10016452-1771434000-1771452000@gamemasterspgh.com
SUMMARY:Sarah's Daggerheart
DESCRIPTION:Biweekly meeting of the Daggerheart campaign
URL:https://gamemasterspgh.com/event/sarah-daggerheart/2026-02-18/
LOCATION:Regular Table\, 398 Perry Hwy\, Pittsburgh\, PA\, 15229\, United States
CATEGORIES:Closed,Tavern Table
ORGANIZER;CN="Sarah Holzapfel":MAILTO:sarah.j.holzapfel@gmail.com
END:VEVENT
BEGIN:VEVENT
DTSTART;TZID=America/New_York:20260218T180000
DTEND;TZID=America/New_York:20260218T213000
DTSTAMP:20260424T040127
CREATED:20250707T203621Z
LAST-MODIFIED:20260327T143758Z
UID:10013528-1771437600-1771450200@gamemasterspgh.com
SUMMARY:Delta Green and Call of Cthulhu
DESCRIPTION:We play Delta Green and Call of Cthulhu on alternating weeks. Sometimes we throw in one-shots and short campaigns of other games (mostly horror).
URL:https://gamemasterspgh.com/event/delta-green-call-of-cthulhu/2026-02-18/
LOCATION:Regular Table\, 398 Perry Hwy\, Pittsburgh\, PA\, 15229\, United States
CATEGORIES:Closed
ATTACH;FMTTYPE=image/png:https://gamemasterspgh.com/wp-content/uploads/2022/08/126.Red-Book.png
ORGANIZER;CN="Chad Perryman":MAILTO:caperryman91@gmail.com
END:VEVENT
BEGIN:VEVENT
DTSTART;TZID=America/New_York:20260218T180000
DTEND;TZID=America/New_York:20260218T220000
DTSTAMP:20260424T040127
CREATED:20220718T132701Z
LAST-MODIFIED:20260122T163359Z
UID:10018026-1771437600-1771452000@gamemasterspgh.com
SUMMARY:Magic: the Gathering | [Commander]
DESCRIPTION:A game of Magic the Gathering with Commander format being played.
URL:https://gamemasterspgh.com/event/mtg-commander-night/2026-02-18/
LOCATION:PA
CATEGORIES:Open
ATTACH;FMTTYPE=image/jpeg:https://gamemasterspgh.com/wp-content/uploads/2022/07/MTG-commander-header.jpg
END:VEVENT
BEGIN:VEVENT
DTSTART;TZID=America/New_York:20260218T180000
DTEND;TZID=America/New_York:20260218T220000
DTSTAMP:20260424T040127
CREATED:20230407T011722Z
LAST-MODIFIED:20230407T011722Z
UID:10010254-1771437600-1771452000@gamemasterspgh.com
SUMMARY:FrostHaven
DESCRIPTION:Frosthaven Campaign playthrough
URL:https://gamemasterspgh.com/event/frosthaven-2/2026-02-18/
LOCATION:Regular Table\, 398 Perry Hwy\, Pittsburgh\, PA\, 15229\, United States
ORGANIZER;CN="Cyril":MAILTO:gameduku@gmail.com
END:VEVENT
BEGIN:VEVENT
DTSTART;TZID=America/New_York:20260218T183000
DTEND;TZID=America/New_York:20260218T213000
DTSTAMP:20260424T040127
CREATED:20230126T132900Z
LAST-MODIFIED:20251225T035240Z
UID:10009184-1771439400-1771450200@gamemasterspgh.com
SUMMARY:Savage Worlds
DESCRIPTION:Savage Worlds with a rotating setting.
URL:https://gamemasterspgh.com/event/ian-savage-worlds/2026-02-18/
LOCATION:Regular Table\, 398 Perry Hwy\, Pittsburgh\, PA\, 15229\, United States
ORGANIZER;CN="Ian Powers":MAILTO:economypowers@gmail.com
END:VEVENT
BEGIN:VEVENT
DTSTART;TZID=America/New_York:20260218T190000
DTEND;TZID=America/New_York:20260218T220000
DTSTAMP:20260424T040127
CREATED:20230209T113528Z
LAST-MODIFIED:20251225T035225Z
UID:10009509-1771441200-1771452000@gamemasterspgh.com
SUMMARY:Pathfinder 1st Edition Rise of the Runelords Adventure Path
DESCRIPTION:A weekly campaign loosely following Paizo’s first published adventure path\, a campaign that spans six books from levels 1-18. A moderate amount of homebrew content is periodically introduced\, tested\, and iterated on.
URL:https://gamemasterspgh.com/event/pathfinder-1st-edition-rise-of-the-runelords-adventure-path/2026-02-18/
LOCATION:Regular Table\, 398 Perry Hwy\, Pittsburgh\, PA\, 15229\, United States
ATTACH;FMTTYPE=image/jpeg:https://gamemasterspgh.com/wp-content/uploads/2023/02/PZO1002_500.jpeg
ORGANIZER;CN="Victor Sapp":MAILTO:silvos.ruin@gmail.com
END:VEVENT
BEGIN:VEVENT
DTSTART;TZID=America/New_York:20260218T190000
DTEND;TZID=America/New_York:20260218T220000
DTSTAMP:20260424T040127
CREATED:20251119T183722Z
LAST-MODIFIED:20251225T035216Z
UID:10016912-1771441200-1771452000@gamemasterspgh.com
SUMMARY:Victor's Pathfinder Game
DESCRIPTION:Victor run a TTRPG every Wednesday (barring holidays and cancelations)\, the game is currently a Pathfinder Adventure Path/Homebrew though that is subject to change.
URL:https://gamemasterspgh.com/event/victors-pathfinder-game/2026-02-18/
LOCATION:Regular Table\, 398 Perry Hwy\, Pittsburgh\, PA\, 15229\, United States
CATEGORIES:Closed
ATTACH;FMTTYPE=image/jpeg:https://gamemasterspgh.com/wp-content/uploads/2025/11/ROTR.jpg
ORGANIZER;CN="Victor Sapp":MAILTO:silvos.ruin@gmail.com
END:VEVENT
BEGIN:VEVENT
DTSTART;TZID=America/New_York:20260219T173000
DTEND;TZID=America/New_York:20260219T193000
DTSTAMP:20260424T040127
CREATED:20260212T131523Z
LAST-MODIFIED:20260212T131523Z
UID:10019138-1771522200-1771529400@gamemasterspgh.com
SUMMARY:Truefit Friends League
DESCRIPTION:A group of friends who work together and love boardgames
URL:https://gamemasterspgh.com/event/truefit-friends-league-2/
LOCATION:Regular Table\, 398 Perry Hwy\, Pittsburgh\, PA\, 15229\, United States
CATEGORIES:Closed
ORGANIZER;CN="John Beck":MAILTO:jbeck@truefit.io
END:VEVENT
BEGIN:VEVENT
DTSTART;TZID=America/New_York:20260219T180000
DTEND;TZID=America/New_York:20260219T220000
DTSTAMP:20260424T040127
CREATED:20240702T023437Z
LAST-MODIFIED:20251225T034827Z
UID:10002627-1771524000-1771538400@gamemasterspgh.com
SUMMARY:Miscellaneous Adventures
DESCRIPTION:A long-running campaign of various RPG systems and storytellers but mostly Paul.
URL:https://gamemasterspgh.com/event/miscellaneous-adventures-2/2026-02-19/
LOCATION:PA
ATTACH;FMTTYPE=image/png:https://gamemasterspgh.com/wp-content/uploads/2022/07/treasure-map.png
END:VEVENT
BEGIN:VEVENT
DTSTART;TZID=America/New_York:20260219T180000
DTEND;TZID=America/New_York:20260219T220000
DTSTAMP:20260424T040127
CREATED:20241111T103518Z
LAST-MODIFIED:20251229T030254Z
UID:10008086-1771524000-1771538400@gamemasterspgh.com
SUMMARY:Lorcana League
DESCRIPTION:Disney Lorcana League!\n\nCheck out the Discord for the week to determine the format or style to be played \nTrading Card Games \n\n#lorcana-general\n#lorcana-events\n\n  \nJoin the Discord Server!
URL:https://gamemasterspgh.com/event/disney-lorcana-league/2026-02-19/
LOCATION:Regular Table\, 398 Perry Hwy\, Pittsburgh\, PA\, 15229\, United States
CATEGORIES:Open
ATTACH;FMTTYPE=image/png:https://gamemasterspgh.com/wp-content/uploads/2024/02/lorcana-e1708802747711.png
ORGANIZER;CN="Phil Glotfelty":MAILTO:phil@gamemasterspgh.com
END:VEVENT
BEGIN:VEVENT
DTSTART;TZID=America/New_York:20260219T183000
DTEND;TZID=America/New_York:20260219T220000
DTSTAMP:20260424T040127
CREATED:20260205T141413Z
LAST-MODIFIED:20260205T141414Z
UID:10018601-1771525800-1771538400@gamemasterspgh.com
SUMMARY:One-Piece | Weekly Play and Tournament
DESCRIPTION:DON!! Your Decks for Thursday Night One Piece! \nThe quest for the One Piece continues this Thursday! Join us at Game Masters for our weekly tournament. \n\nWhen: Thursdays @ 6:30 PM\nStyle: Constructed\nEntry: $15\n\nClaim the throne of Pirate King!
URL:https://gamemasterspgh.com/event/one-piece-weekly/2026-02-19/
LOCATION:Regular Table\, 398 Perry Hwy\, Pittsburgh\, PA\, 15229\, United States
CATEGORIES:Open
ATTACH;FMTTYPE=image/jpeg:https://gamemasterspgh.com/wp-content/uploads/2026/02/one-piece-tcg-e1770300821911.jpg
END:VEVENT
BEGIN:VEVENT
DTSTART;TZID=America/New_York:20260220T170000
DTEND;TZID=America/New_York:20260220T220000
DTSTAMP:20260424T040127
CREATED:20231107T172819Z
LAST-MODIFIED:20240406T140430Z
UID:10005229-1771606800-1771624800@gamemasterspgh.com
SUMMARY:The Heroes of Iridias
DESCRIPTION:A Private D&D Campaign
URL:https://gamemasterspgh.com/event/the-heroes-of-iridias/2026-02-20/
LOCATION:Regular Table\, 398 Perry Hwy\, Pittsburgh\, PA\, 15229\, United States
ORGANIZER;CN="Crow (Brian Rooker)":MAILTO:mrbrianrooker@gmail.com
END:VEVENT
BEGIN:VEVENT
DTSTART;TZID=America/New_York:20260220T183000
DTEND;TZID=America/New_York:20260220T220000
DTSTAMP:20260424T040127
CREATED:20250425T181546Z
LAST-MODIFIED:20250802T023138Z
UID:10010915-1771612200-1771624800@gamemasterspgh.com
SUMMARY:KeyForge | Bi-Weekly Sealed Play
DESCRIPTION:Entry: $20 (includes one sealed deck and table fee)\nFormat: Sealed (set TBD based on latest available sets)\nPrize: Sealed decks\, TBD based on number of entrants
URL:https://gamemasterspgh.com/event/keyforge-bi-weekly/2026-02-20/
LOCATION:Regular Table\, 398 Perry Hwy\, Pittsburgh\, PA\, 15229\, United States
CATEGORIES:Open
ATTACH;FMTTYPE=image/jpeg:https://gamemasterspgh.com/wp-content/uploads/2023/08/keyforge-red.jpg
ORGANIZER;CN="Matt Carulli":MAILTO:matthewcarulli@gmail.com
END:VEVENT
BEGIN:VEVENT
DTSTART;TZID=America/New_York:20260221T120000
DTEND;TZID=America/New_York:20260221T180000
DTSTAMP:20260424T040127
CREATED:20260202T123528Z
LAST-MODIFIED:20260202T131543Z
UID:10007071-1771675200-1771696800@gamemasterspgh.com
SUMMARY:Pokémon | [Open Play And Weekly League]
DESCRIPTION:Come join in before the weekly tournament for casual play\, trading\, conversation\, or to help get you started with learning the rules to start your very own Pokémon collection. \nThis is completely free event to attend! \n\nStandard Tournament\n\nSign Up from 12pm-1pm\nRound 1 Start at 1pm – Ascended Heroes Proxies are allowed for this event\nOpen Play & Trade\nEarly Registration for our TCG League Cup opens
URL:https://gamemasterspgh.com/event/pokemon-openplay-weeklyleague/2026-02-21/
LOCATION:Regular Table\, 398 Perry Hwy\, Pittsburgh\, PA\, 15229\, United States
CATEGORIES:Open
ATTACH;FMTTYPE=image/jpeg:https://gamemasterspgh.com/wp-content/uploads/2023/07/pokemon-e1690852217372.jpg
ORGANIZER;CN="Phil Glotfelty":MAILTO:phil@gamemasterspgh.com
END:VEVENT
BEGIN:VEVENT
DTSTART;TZID=America/New_York:20260221T120000
DTEND;TZID=America/New_York:20260221T180000
DTSTAMP:20260424T040128
CREATED:20260202T125403Z
LAST-MODIFIED:20260202T125545Z
UID:10018579-1771675200-1771696800@gamemasterspgh.com
SUMMARY:Pokémon | [TCG League Challenge]
DESCRIPTION:Deck lists will be required. There will be Online Registration.\nFormat: Standard – Scarlet & Violet thru Phantasmal Flames\n(Regulation mark “G” thru “I”)\nMatches will be 30 mins Best of 1 \nPrizes: 100% of the entry will be paid out in prizes and/or store credit. \nTop Players in each age division will receive Championship Points based upon their placement in each age division. \nEach player will receive at least 1 Prize Series pack for participating.
URL:https://gamemasterspgh.com/event/pokemon-tcg-league-challenge/
LOCATION:Regular Table\, 398 Perry Hwy\, Pittsburgh\, PA\, 15229\, United States
CATEGORIES:Open
ATTACH;FMTTYPE=image/jpeg:https://gamemasterspgh.com/wp-content/uploads/2023/10/league-challenge.jpg
END:VEVENT
BEGIN:VEVENT
DTSTART;TZID=America/New_York:20260221T120000
DTEND;TZID=America/New_York:20260221T190000
DTSTAMP:20260424T040128
CREATED:20260203T154839Z
LAST-MODIFIED:20260203T154839Z
UID:10018593-1771675200-1771700400@gamemasterspgh.com
SUMMARY:Pokémon | [GO League Cup]
DESCRIPTION:Team Lists will be required. There will be blank Team Lists available day of.\nFormat: Standard – Great League\nPrizes: Store Credit will be awarded to Top Players.\nEach player will receive at least 1 Play Series Pack for participating. \nTop players in each age division will receive Championship Points based upon their placement.
URL:https://gamemasterspgh.com/event/pokemon-go-league-cup/
LOCATION:Regular Table\, 398 Perry Hwy\, Pittsburgh\, PA\, 15229\, United States
CATEGORIES:Open
ATTACH;FMTTYPE=image/png:https://gamemasterspgh.com/wp-content/uploads/2024/05/Pokemon_Go_logo-scaled-e1770037904174.png
END:VEVENT
END:VCALENDAR