BEGIN:VCALENDAR
VERSION:2.0
PRODID:-//Game Masters - ECPv6.15.20//NONSGML v1.0//EN
CALSCALE:GREGORIAN
METHOD:PUBLISH
X-ORIGINAL-URL:https://gamemasterspgh.com
X-WR-CALDESC:Events for Game Masters
REFRESH-INTERVAL;VALUE=DURATION:PT1H
X-Robots-Tag:noindex
X-PUBLISHED-TTL:PT1H
BEGIN:VTIMEZONE
TZID:America/New_York
BEGIN:DAYLIGHT
TZOFFSETFROM:-0500
TZOFFSETTO:-0400
TZNAME:EDT
DTSTART:20250309T070000
END:DAYLIGHT
BEGIN:STANDARD
TZOFFSETFROM:-0400
TZOFFSETTO:-0500
TZNAME:EST
DTSTART:20251102T060000
END:STANDARD
BEGIN:DAYLIGHT
TZOFFSETFROM:-0500
TZOFFSETTO:-0400
TZNAME:EDT
DTSTART:20260308T070000
END:DAYLIGHT
BEGIN:STANDARD
TZOFFSETFROM:-0400
TZOFFSETTO:-0500
TZNAME:EST
DTSTART:20261101T060000
END:STANDARD
BEGIN:DAYLIGHT
TZOFFSETFROM:-0500
TZOFFSETTO:-0400
TZNAME:EDT
DTSTART:20270314T070000
END:DAYLIGHT
BEGIN:STANDARD
TZOFFSETFROM:-0400
TZOFFSETTO:-0500
TZNAME:EST
DTSTART:20271107T060000
END:STANDARD
END:VTIMEZONE
BEGIN:VEVENT
DTSTART;TZID=America/New_York:20260430T183000
DTEND;TZID=America/New_York:20260430T220000
DTSTAMP:20260424T041305
CREATED:20260205T141413Z
LAST-MODIFIED:20260205T141414Z
UID:10018611-1777573800-1777586400@gamemasterspgh.com
SUMMARY:One-Piece | Weekly Play and Tournament
DESCRIPTION:DON!! Your Decks for Thursday Night One Piece! \nThe quest for the One Piece continues this Thursday! Join us at Game Masters for our weekly tournament. \n\nWhen: Thursdays @ 6:30 PM\nStyle: Constructed\nEntry: $15\n\nClaim the throne of Pirate King!
URL:https://gamemasterspgh.com/event/one-piece-weekly/2026-04-30/
LOCATION:Regular Table\, 398 Perry Hwy\, Pittsburgh\, PA\, 15229\, United States
CATEGORIES:Open
ATTACH;FMTTYPE=image/jpeg:https://gamemasterspgh.com/wp-content/uploads/2026/02/one-piece-tcg-e1770300821911.jpg
END:VEVENT
BEGIN:VEVENT
DTSTART;TZID=America/New_York:20260507T183000
DTEND;TZID=America/New_York:20260507T220000
DTSTAMP:20260424T041305
CREATED:20260205T141413Z
LAST-MODIFIED:20260205T141414Z
UID:10018612-1778178600-1778191200@gamemasterspgh.com
SUMMARY:One-Piece | Weekly Play and Tournament
DESCRIPTION:DON!! Your Decks for Thursday Night One Piece! \nThe quest for the One Piece continues this Thursday! Join us at Game Masters for our weekly tournament. \n\nWhen: Thursdays @ 6:30 PM\nStyle: Constructed\nEntry: $15\n\nClaim the throne of Pirate King!
URL:https://gamemasterspgh.com/event/one-piece-weekly/2026-05-07/
LOCATION:Regular Table\, 398 Perry Hwy\, Pittsburgh\, PA\, 15229\, United States
CATEGORIES:Open
ATTACH;FMTTYPE=image/jpeg:https://gamemasterspgh.com/wp-content/uploads/2026/02/one-piece-tcg-e1770300821911.jpg
END:VEVENT
BEGIN:VEVENT
DTSTART;TZID=America/New_York:20260514T183000
DTEND;TZID=America/New_York:20260514T220000
DTSTAMP:20260424T041305
CREATED:20260205T141413Z
LAST-MODIFIED:20260205T141414Z
UID:10018613-1778783400-1778796000@gamemasterspgh.com
SUMMARY:One-Piece | Weekly Play and Tournament
DESCRIPTION:DON!! Your Decks for Thursday Night One Piece! \nThe quest for the One Piece continues this Thursday! Join us at Game Masters for our weekly tournament. \n\nWhen: Thursdays @ 6:30 PM\nStyle: Constructed\nEntry: $15\n\nClaim the throne of Pirate King!
URL:https://gamemasterspgh.com/event/one-piece-weekly/2026-05-14/
LOCATION:Regular Table\, 398 Perry Hwy\, Pittsburgh\, PA\, 15229\, United States
CATEGORIES:Open
ATTACH;FMTTYPE=image/jpeg:https://gamemasterspgh.com/wp-content/uploads/2026/02/one-piece-tcg-e1770300821911.jpg
END:VEVENT
BEGIN:VEVENT
DTSTART;TZID=America/New_York:20260521T183000
DTEND;TZID=America/New_York:20260521T220000
DTSTAMP:20260424T041305
CREATED:20260205T141413Z
LAST-MODIFIED:20260205T141414Z
UID:10018614-1779388200-1779400800@gamemasterspgh.com
SUMMARY:One-Piece | Weekly Play and Tournament
DESCRIPTION:DON!! Your Decks for Thursday Night One Piece! \nThe quest for the One Piece continues this Thursday! Join us at Game Masters for our weekly tournament. \n\nWhen: Thursdays @ 6:30 PM\nStyle: Constructed\nEntry: $15\n\nClaim the throne of Pirate King!
URL:https://gamemasterspgh.com/event/one-piece-weekly/2026-05-21/
LOCATION:Regular Table\, 398 Perry Hwy\, Pittsburgh\, PA\, 15229\, United States
CATEGORIES:Open
ATTACH;FMTTYPE=image/jpeg:https://gamemasterspgh.com/wp-content/uploads/2026/02/one-piece-tcg-e1770300821911.jpg
END:VEVENT
BEGIN:VEVENT
DTSTART;TZID=America/New_York:20260528T183000
DTEND;TZID=America/New_York:20260528T220000
DTSTAMP:20260424T041305
CREATED:20260205T141413Z
LAST-MODIFIED:20260205T141414Z
UID:10018615-1779993000-1780005600@gamemasterspgh.com
SUMMARY:One-Piece | Weekly Play and Tournament
DESCRIPTION:DON!! Your Decks for Thursday Night One Piece! \nThe quest for the One Piece continues this Thursday! Join us at Game Masters for our weekly tournament. \n\nWhen: Thursdays @ 6:30 PM\nStyle: Constructed\nEntry: $15\n\nClaim the throne of Pirate King!
URL:https://gamemasterspgh.com/event/one-piece-weekly/2026-05-28/
LOCATION:Regular Table\, 398 Perry Hwy\, Pittsburgh\, PA\, 15229\, United States
CATEGORIES:Open
ATTACH;FMTTYPE=image/jpeg:https://gamemasterspgh.com/wp-content/uploads/2026/02/one-piece-tcg-e1770300821911.jpg
END:VEVENT
BEGIN:VEVENT
DTSTART;TZID=America/New_York:20260604T183000
DTEND;TZID=America/New_York:20260604T220000
DTSTAMP:20260424T041305
CREATED:20260205T141413Z
LAST-MODIFIED:20260205T141414Z
UID:10018616-1780597800-1780610400@gamemasterspgh.com
SUMMARY:One-Piece | Weekly Play and Tournament
DESCRIPTION:DON!! Your Decks for Thursday Night One Piece! \nThe quest for the One Piece continues this Thursday! Join us at Game Masters for our weekly tournament. \n\nWhen: Thursdays @ 6:30 PM\nStyle: Constructed\nEntry: $15\n\nClaim the throne of Pirate King!
URL:https://gamemasterspgh.com/event/one-piece-weekly/2026-06-04/
LOCATION:Regular Table\, 398 Perry Hwy\, Pittsburgh\, PA\, 15229\, United States
CATEGORIES:Open
ATTACH;FMTTYPE=image/jpeg:https://gamemasterspgh.com/wp-content/uploads/2026/02/one-piece-tcg-e1770300821911.jpg
END:VEVENT
BEGIN:VEVENT
DTSTART;TZID=America/New_York:20260611T183000
DTEND;TZID=America/New_York:20260611T220000
DTSTAMP:20260424T041305
CREATED:20260205T141413Z
LAST-MODIFIED:20260205T141414Z
UID:10018617-1781202600-1781215200@gamemasterspgh.com
SUMMARY:One-Piece | Weekly Play and Tournament
DESCRIPTION:DON!! Your Decks for Thursday Night One Piece! \nThe quest for the One Piece continues this Thursday! Join us at Game Masters for our weekly tournament. \n\nWhen: Thursdays @ 6:30 PM\nStyle: Constructed\nEntry: $15\n\nClaim the throne of Pirate King!
URL:https://gamemasterspgh.com/event/one-piece-weekly/2026-06-11/
LOCATION:Regular Table\, 398 Perry Hwy\, Pittsburgh\, PA\, 15229\, United States
CATEGORIES:Open
ATTACH;FMTTYPE=image/jpeg:https://gamemasterspgh.com/wp-content/uploads/2026/02/one-piece-tcg-e1770300821911.jpg
END:VEVENT
BEGIN:VEVENT
DTSTART;TZID=America/New_York:20260618T183000
DTEND;TZID=America/New_York:20260618T220000
DTSTAMP:20260424T041305
CREATED:20260205T141413Z
LAST-MODIFIED:20260205T141414Z
UID:10018618-1781807400-1781820000@gamemasterspgh.com
SUMMARY:One-Piece | Weekly Play and Tournament
DESCRIPTION:DON!! Your Decks for Thursday Night One Piece! \nThe quest for the One Piece continues this Thursday! Join us at Game Masters for our weekly tournament. \n\nWhen: Thursdays @ 6:30 PM\nStyle: Constructed\nEntry: $15\n\nClaim the throne of Pirate King!
URL:https://gamemasterspgh.com/event/one-piece-weekly/2026-06-18/
LOCATION:Regular Table\, 398 Perry Hwy\, Pittsburgh\, PA\, 15229\, United States
CATEGORIES:Open
ATTACH;FMTTYPE=image/jpeg:https://gamemasterspgh.com/wp-content/uploads/2026/02/one-piece-tcg-e1770300821911.jpg
END:VEVENT
BEGIN:VEVENT
DTSTART;TZID=America/New_York:20260625T183000
DTEND;TZID=America/New_York:20260625T220000
DTSTAMP:20260424T041305
CREATED:20260205T141413Z
LAST-MODIFIED:20260205T141414Z
UID:10018619-1782412200-1782424800@gamemasterspgh.com
SUMMARY:One-Piece | Weekly Play and Tournament
DESCRIPTION:DON!! Your Decks for Thursday Night One Piece! \nThe quest for the One Piece continues this Thursday! Join us at Game Masters for our weekly tournament. \n\nWhen: Thursdays @ 6:30 PM\nStyle: Constructed\nEntry: $15\n\nClaim the throne of Pirate King!
URL:https://gamemasterspgh.com/event/one-piece-weekly/2026-06-25/
LOCATION:Regular Table\, 398 Perry Hwy\, Pittsburgh\, PA\, 15229\, United States
CATEGORIES:Open
ATTACH;FMTTYPE=image/jpeg:https://gamemasterspgh.com/wp-content/uploads/2026/02/one-piece-tcg-e1770300821911.jpg
END:VEVENT
BEGIN:VEVENT
DTSTART;TZID=America/New_York:20260702T183000
DTEND;TZID=America/New_York:20260702T220000
DTSTAMP:20260424T041305
CREATED:20260205T141413Z
LAST-MODIFIED:20260205T141414Z
UID:10018620-1783017000-1783029600@gamemasterspgh.com
SUMMARY:One-Piece | Weekly Play and Tournament
DESCRIPTION:DON!! Your Decks for Thursday Night One Piece! \nThe quest for the One Piece continues this Thursday! Join us at Game Masters for our weekly tournament. \n\nWhen: Thursdays @ 6:30 PM\nStyle: Constructed\nEntry: $15\n\nClaim the throne of Pirate King!
URL:https://gamemasterspgh.com/event/one-piece-weekly/2026-07-02/
LOCATION:Regular Table\, 398 Perry Hwy\, Pittsburgh\, PA\, 15229\, United States
CATEGORIES:Open
ATTACH;FMTTYPE=image/jpeg:https://gamemasterspgh.com/wp-content/uploads/2026/02/one-piece-tcg-e1770300821911.jpg
END:VEVENT
BEGIN:VEVENT
DTSTART;TZID=America/New_York:20260709T183000
DTEND;TZID=America/New_York:20260709T220000
DTSTAMP:20260424T041305
CREATED:20260205T141413Z
LAST-MODIFIED:20260205T141414Z
UID:10018621-1783621800-1783634400@gamemasterspgh.com
SUMMARY:One-Piece | Weekly Play and Tournament
DESCRIPTION:DON!! Your Decks for Thursday Night One Piece! \nThe quest for the One Piece continues this Thursday! Join us at Game Masters for our weekly tournament. \n\nWhen: Thursdays @ 6:30 PM\nStyle: Constructed\nEntry: $15\n\nClaim the throne of Pirate King!
URL:https://gamemasterspgh.com/event/one-piece-weekly/2026-07-09/
LOCATION:Regular Table\, 398 Perry Hwy\, Pittsburgh\, PA\, 15229\, United States
CATEGORIES:Open
ATTACH;FMTTYPE=image/jpeg:https://gamemasterspgh.com/wp-content/uploads/2026/02/one-piece-tcg-e1770300821911.jpg
END:VEVENT
BEGIN:VEVENT
DTSTART;TZID=America/New_York:20260716T183000
DTEND;TZID=America/New_York:20260716T220000
DTSTAMP:20260424T041305
CREATED:20260205T141413Z
LAST-MODIFIED:20260205T141414Z
UID:10018622-1784226600-1784239200@gamemasterspgh.com
SUMMARY:One-Piece | Weekly Play and Tournament
DESCRIPTION:DON!! Your Decks for Thursday Night One Piece! \nThe quest for the One Piece continues this Thursday! Join us at Game Masters for our weekly tournament. \n\nWhen: Thursdays @ 6:30 PM\nStyle: Constructed\nEntry: $15\n\nClaim the throne of Pirate King!
URL:https://gamemasterspgh.com/event/one-piece-weekly/2026-07-16/
LOCATION:Regular Table\, 398 Perry Hwy\, Pittsburgh\, PA\, 15229\, United States
CATEGORIES:Open
ATTACH;FMTTYPE=image/jpeg:https://gamemasterspgh.com/wp-content/uploads/2026/02/one-piece-tcg-e1770300821911.jpg
END:VEVENT
BEGIN:VEVENT
DTSTART;TZID=America/New_York:20260723T183000
DTEND;TZID=America/New_York:20260723T220000
DTSTAMP:20260424T041305
CREATED:20260205T141413Z
LAST-MODIFIED:20260205T141414Z
UID:10018623-1784831400-1784844000@gamemasterspgh.com
SUMMARY:One-Piece | Weekly Play and Tournament
DESCRIPTION:DON!! Your Decks for Thursday Night One Piece! \nThe quest for the One Piece continues this Thursday! Join us at Game Masters for our weekly tournament. \n\nWhen: Thursdays @ 6:30 PM\nStyle: Constructed\nEntry: $15\n\nClaim the throne of Pirate King!
URL:https://gamemasterspgh.com/event/one-piece-weekly/2026-07-23/
LOCATION:Regular Table\, 398 Perry Hwy\, Pittsburgh\, PA\, 15229\, United States
CATEGORIES:Open
ATTACH;FMTTYPE=image/jpeg:https://gamemasterspgh.com/wp-content/uploads/2026/02/one-piece-tcg-e1770300821911.jpg
END:VEVENT
BEGIN:VEVENT
DTSTART;TZID=America/New_York:20260730T183000
DTEND;TZID=America/New_York:20260730T220000
DTSTAMP:20260424T041305
CREATED:20260205T141413Z
LAST-MODIFIED:20260205T141414Z
UID:10018624-1785436200-1785448800@gamemasterspgh.com
SUMMARY:One-Piece | Weekly Play and Tournament
DESCRIPTION:DON!! Your Decks for Thursday Night One Piece! \nThe quest for the One Piece continues this Thursday! Join us at Game Masters for our weekly tournament. \n\nWhen: Thursdays @ 6:30 PM\nStyle: Constructed\nEntry: $15\n\nClaim the throne of Pirate King!
URL:https://gamemasterspgh.com/event/one-piece-weekly/2026-07-30/
LOCATION:Regular Table\, 398 Perry Hwy\, Pittsburgh\, PA\, 15229\, United States
CATEGORIES:Open
ATTACH;FMTTYPE=image/jpeg:https://gamemasterspgh.com/wp-content/uploads/2026/02/one-piece-tcg-e1770300821911.jpg
END:VEVENT
BEGIN:VEVENT
DTSTART;TZID=America/New_York:20260806T183000
DTEND;TZID=America/New_York:20260806T220000
DTSTAMP:20260424T041305
CREATED:20260205T141413Z
LAST-MODIFIED:20260205T141414Z
UID:10018625-1786041000-1786053600@gamemasterspgh.com
SUMMARY:One-Piece | Weekly Play and Tournament
DESCRIPTION:DON!! Your Decks for Thursday Night One Piece! \nThe quest for the One Piece continues this Thursday! Join us at Game Masters for our weekly tournament. \n\nWhen: Thursdays @ 6:30 PM\nStyle: Constructed\nEntry: $15\n\nClaim the throne of Pirate King!
URL:https://gamemasterspgh.com/event/one-piece-weekly/2026-08-06/
LOCATION:Regular Table\, 398 Perry Hwy\, Pittsburgh\, PA\, 15229\, United States
CATEGORIES:Open
ATTACH;FMTTYPE=image/jpeg:https://gamemasterspgh.com/wp-content/uploads/2026/02/one-piece-tcg-e1770300821911.jpg
END:VEVENT
BEGIN:VEVENT
DTSTART;TZID=America/New_York:20260813T183000
DTEND;TZID=America/New_York:20260813T220000
DTSTAMP:20260424T041305
CREATED:20260205T141413Z
LAST-MODIFIED:20260205T141414Z
UID:10018626-1786645800-1786658400@gamemasterspgh.com
SUMMARY:One-Piece | Weekly Play and Tournament
DESCRIPTION:DON!! Your Decks for Thursday Night One Piece! \nThe quest for the One Piece continues this Thursday! Join us at Game Masters for our weekly tournament. \n\nWhen: Thursdays @ 6:30 PM\nStyle: Constructed\nEntry: $15\n\nClaim the throne of Pirate King!
URL:https://gamemasterspgh.com/event/one-piece-weekly/2026-08-13/
LOCATION:Regular Table\, 398 Perry Hwy\, Pittsburgh\, PA\, 15229\, United States
CATEGORIES:Open
ATTACH;FMTTYPE=image/jpeg:https://gamemasterspgh.com/wp-content/uploads/2026/02/one-piece-tcg-e1770300821911.jpg
END:VEVENT
BEGIN:VEVENT
DTSTART;TZID=America/New_York:20260820T183000
DTEND;TZID=America/New_York:20260820T220000
DTSTAMP:20260424T041305
CREATED:20260205T141413Z
LAST-MODIFIED:20260205T141414Z
UID:10018627-1787250600-1787263200@gamemasterspgh.com
SUMMARY:One-Piece | Weekly Play and Tournament
DESCRIPTION:DON!! Your Decks for Thursday Night One Piece! \nThe quest for the One Piece continues this Thursday! Join us at Game Masters for our weekly tournament. \n\nWhen: Thursdays @ 6:30 PM\nStyle: Constructed\nEntry: $15\n\nClaim the throne of Pirate King!
URL:https://gamemasterspgh.com/event/one-piece-weekly/2026-08-20/
LOCATION:Regular Table\, 398 Perry Hwy\, Pittsburgh\, PA\, 15229\, United States
CATEGORIES:Open
ATTACH;FMTTYPE=image/jpeg:https://gamemasterspgh.com/wp-content/uploads/2026/02/one-piece-tcg-e1770300821911.jpg
END:VEVENT
BEGIN:VEVENT
DTSTART;TZID=America/New_York:20260827T183000
DTEND;TZID=America/New_York:20260827T220000
DTSTAMP:20260424T041305
CREATED:20260205T141413Z
LAST-MODIFIED:20260205T141414Z
UID:10018628-1787855400-1787868000@gamemasterspgh.com
SUMMARY:One-Piece | Weekly Play and Tournament
DESCRIPTION:DON!! Your Decks for Thursday Night One Piece! \nThe quest for the One Piece continues this Thursday! Join us at Game Masters for our weekly tournament. \n\nWhen: Thursdays @ 6:30 PM\nStyle: Constructed\nEntry: $15\n\nClaim the throne of Pirate King!
URL:https://gamemasterspgh.com/event/one-piece-weekly/2026-08-27/
LOCATION:Regular Table\, 398 Perry Hwy\, Pittsburgh\, PA\, 15229\, United States
CATEGORIES:Open
ATTACH;FMTTYPE=image/jpeg:https://gamemasterspgh.com/wp-content/uploads/2026/02/one-piece-tcg-e1770300821911.jpg
END:VEVENT
BEGIN:VEVENT
DTSTART;TZID=America/New_York:20260903T183000
DTEND;TZID=America/New_York:20260903T220000
DTSTAMP:20260424T041305
CREATED:20260205T141413Z
LAST-MODIFIED:20260205T141414Z
UID:10018629-1788460200-1788472800@gamemasterspgh.com
SUMMARY:One-Piece | Weekly Play and Tournament
DESCRIPTION:DON!! Your Decks for Thursday Night One Piece! \nThe quest for the One Piece continues this Thursday! Join us at Game Masters for our weekly tournament. \n\nWhen: Thursdays @ 6:30 PM\nStyle: Constructed\nEntry: $15\n\nClaim the throne of Pirate King!
URL:https://gamemasterspgh.com/event/one-piece-weekly/2026-09-03/
LOCATION:Regular Table\, 398 Perry Hwy\, Pittsburgh\, PA\, 15229\, United States
CATEGORIES:Open
ATTACH;FMTTYPE=image/jpeg:https://gamemasterspgh.com/wp-content/uploads/2026/02/one-piece-tcg-e1770300821911.jpg
END:VEVENT
BEGIN:VEVENT
DTSTART;TZID=America/New_York:20260910T183000
DTEND;TZID=America/New_York:20260910T220000
DTSTAMP:20260424T041305
CREATED:20260205T141413Z
LAST-MODIFIED:20260205T141414Z
UID:10018630-1789065000-1789077600@gamemasterspgh.com
SUMMARY:One-Piece | Weekly Play and Tournament
DESCRIPTION:DON!! Your Decks for Thursday Night One Piece! \nThe quest for the One Piece continues this Thursday! Join us at Game Masters for our weekly tournament. \n\nWhen: Thursdays @ 6:30 PM\nStyle: Constructed\nEntry: $15\n\nClaim the throne of Pirate King!
URL:https://gamemasterspgh.com/event/one-piece-weekly/2026-09-10/
LOCATION:Regular Table\, 398 Perry Hwy\, Pittsburgh\, PA\, 15229\, United States
CATEGORIES:Open
ATTACH;FMTTYPE=image/jpeg:https://gamemasterspgh.com/wp-content/uploads/2026/02/one-piece-tcg-e1770300821911.jpg
END:VEVENT
BEGIN:VEVENT
DTSTART;TZID=America/New_York:20260917T183000
DTEND;TZID=America/New_York:20260917T220000
DTSTAMP:20260424T041306
CREATED:20260205T141413Z
LAST-MODIFIED:20260205T141414Z
UID:10018631-1789669800-1789682400@gamemasterspgh.com
SUMMARY:One-Piece | Weekly Play and Tournament
DESCRIPTION:DON!! Your Decks for Thursday Night One Piece! \nThe quest for the One Piece continues this Thursday! Join us at Game Masters for our weekly tournament. \n\nWhen: Thursdays @ 6:30 PM\nStyle: Constructed\nEntry: $15\n\nClaim the throne of Pirate King!
URL:https://gamemasterspgh.com/event/one-piece-weekly/2026-09-17/
LOCATION:Regular Table\, 398 Perry Hwy\, Pittsburgh\, PA\, 15229\, United States
CATEGORIES:Open
ATTACH;FMTTYPE=image/jpeg:https://gamemasterspgh.com/wp-content/uploads/2026/02/one-piece-tcg-e1770300821911.jpg
END:VEVENT
BEGIN:VEVENT
DTSTART;TZID=America/New_York:20260924T183000
DTEND;TZID=America/New_York:20260924T220000
DTSTAMP:20260424T041306
CREATED:20260205T141413Z
LAST-MODIFIED:20260205T141414Z
UID:10018632-1790274600-1790287200@gamemasterspgh.com
SUMMARY:One-Piece | Weekly Play and Tournament
DESCRIPTION:DON!! Your Decks for Thursday Night One Piece! \nThe quest for the One Piece continues this Thursday! Join us at Game Masters for our weekly tournament. \n\nWhen: Thursdays @ 6:30 PM\nStyle: Constructed\nEntry: $15\n\nClaim the throne of Pirate King!
URL:https://gamemasterspgh.com/event/one-piece-weekly/2026-09-24/
LOCATION:Regular Table\, 398 Perry Hwy\, Pittsburgh\, PA\, 15229\, United States
CATEGORIES:Open
ATTACH;FMTTYPE=image/jpeg:https://gamemasterspgh.com/wp-content/uploads/2026/02/one-piece-tcg-e1770300821911.jpg
END:VEVENT
BEGIN:VEVENT
DTSTART;TZID=America/New_York:20261001T183000
DTEND;TZID=America/New_York:20261001T220000
DTSTAMP:20260424T041306
CREATED:20260205T141413Z
LAST-MODIFIED:20260205T141414Z
UID:10018633-1790879400-1790892000@gamemasterspgh.com
SUMMARY:One-Piece | Weekly Play and Tournament
DESCRIPTION:DON!! Your Decks for Thursday Night One Piece! \nThe quest for the One Piece continues this Thursday! Join us at Game Masters for our weekly tournament. \n\nWhen: Thursdays @ 6:30 PM\nStyle: Constructed\nEntry: $15\n\nClaim the throne of Pirate King!
URL:https://gamemasterspgh.com/event/one-piece-weekly/2026-10-01/
LOCATION:Regular Table\, 398 Perry Hwy\, Pittsburgh\, PA\, 15229\, United States
CATEGORIES:Open
ATTACH;FMTTYPE=image/jpeg:https://gamemasterspgh.com/wp-content/uploads/2026/02/one-piece-tcg-e1770300821911.jpg
END:VEVENT
BEGIN:VEVENT
DTSTART;TZID=America/New_York:20261008T183000
DTEND;TZID=America/New_York:20261008T220000
DTSTAMP:20260424T041306
CREATED:20260205T141413Z
LAST-MODIFIED:20260205T141414Z
UID:10018634-1791484200-1791496800@gamemasterspgh.com
SUMMARY:One-Piece | Weekly Play and Tournament
DESCRIPTION:DON!! Your Decks for Thursday Night One Piece! \nThe quest for the One Piece continues this Thursday! Join us at Game Masters for our weekly tournament. \n\nWhen: Thursdays @ 6:30 PM\nStyle: Constructed\nEntry: $15\n\nClaim the throne of Pirate King!
URL:https://gamemasterspgh.com/event/one-piece-weekly/2026-10-08/
LOCATION:Regular Table\, 398 Perry Hwy\, Pittsburgh\, PA\, 15229\, United States
CATEGORIES:Open
ATTACH;FMTTYPE=image/jpeg:https://gamemasterspgh.com/wp-content/uploads/2026/02/one-piece-tcg-e1770300821911.jpg
END:VEVENT
BEGIN:VEVENT
DTSTART;TZID=America/New_York:20261015T183000
DTEND;TZID=America/New_York:20261015T220000
DTSTAMP:20260424T041306
CREATED:20260205T141413Z
LAST-MODIFIED:20260205T141414Z
UID:10018635-1792089000-1792101600@gamemasterspgh.com
SUMMARY:One-Piece | Weekly Play and Tournament
DESCRIPTION:DON!! Your Decks for Thursday Night One Piece! \nThe quest for the One Piece continues this Thursday! Join us at Game Masters for our weekly tournament. \n\nWhen: Thursdays @ 6:30 PM\nStyle: Constructed\nEntry: $15\n\nClaim the throne of Pirate King!
URL:https://gamemasterspgh.com/event/one-piece-weekly/2026-10-15/
LOCATION:Regular Table\, 398 Perry Hwy\, Pittsburgh\, PA\, 15229\, United States
CATEGORIES:Open
ATTACH;FMTTYPE=image/jpeg:https://gamemasterspgh.com/wp-content/uploads/2026/02/one-piece-tcg-e1770300821911.jpg
END:VEVENT
BEGIN:VEVENT
DTSTART;TZID=America/New_York:20261022T183000
DTEND;TZID=America/New_York:20261022T220000
DTSTAMP:20260424T041306
CREATED:20260205T141413Z
LAST-MODIFIED:20260205T141414Z
UID:10018636-1792693800-1792706400@gamemasterspgh.com
SUMMARY:One-Piece | Weekly Play and Tournament
DESCRIPTION:DON!! Your Decks for Thursday Night One Piece! \nThe quest for the One Piece continues this Thursday! Join us at Game Masters for our weekly tournament. \n\nWhen: Thursdays @ 6:30 PM\nStyle: Constructed\nEntry: $15\n\nClaim the throne of Pirate King!
URL:https://gamemasterspgh.com/event/one-piece-weekly/2026-10-22/
LOCATION:Regular Table\, 398 Perry Hwy\, Pittsburgh\, PA\, 15229\, United States
CATEGORIES:Open
ATTACH;FMTTYPE=image/jpeg:https://gamemasterspgh.com/wp-content/uploads/2026/02/one-piece-tcg-e1770300821911.jpg
END:VEVENT
BEGIN:VEVENT
DTSTART;TZID=America/New_York:20261029T183000
DTEND;TZID=America/New_York:20261029T220000
DTSTAMP:20260424T041306
CREATED:20260205T141413Z
LAST-MODIFIED:20260205T141414Z
UID:10018637-1793298600-1793311200@gamemasterspgh.com
SUMMARY:One-Piece | Weekly Play and Tournament
DESCRIPTION:DON!! Your Decks for Thursday Night One Piece! \nThe quest for the One Piece continues this Thursday! Join us at Game Masters for our weekly tournament. \n\nWhen: Thursdays @ 6:30 PM\nStyle: Constructed\nEntry: $15\n\nClaim the throne of Pirate King!
URL:https://gamemasterspgh.com/event/one-piece-weekly/2026-10-29/
LOCATION:Regular Table\, 398 Perry Hwy\, Pittsburgh\, PA\, 15229\, United States
CATEGORIES:Open
ATTACH;FMTTYPE=image/jpeg:https://gamemasterspgh.com/wp-content/uploads/2026/02/one-piece-tcg-e1770300821911.jpg
END:VEVENT
BEGIN:VEVENT
DTSTART;TZID=America/New_York:20261105T183000
DTEND;TZID=America/New_York:20261105T220000
DTSTAMP:20260424T041306
CREATED:20260205T141413Z
LAST-MODIFIED:20260205T141414Z
UID:10018638-1793903400-1793916000@gamemasterspgh.com
SUMMARY:One-Piece | Weekly Play and Tournament
DESCRIPTION:DON!! Your Decks for Thursday Night One Piece! \nThe quest for the One Piece continues this Thursday! Join us at Game Masters for our weekly tournament. \n\nWhen: Thursdays @ 6:30 PM\nStyle: Constructed\nEntry: $15\n\nClaim the throne of Pirate King!
URL:https://gamemasterspgh.com/event/one-piece-weekly/2026-11-05/
LOCATION:Regular Table\, 398 Perry Hwy\, Pittsburgh\, PA\, 15229\, United States
CATEGORIES:Open
ATTACH;FMTTYPE=image/jpeg:https://gamemasterspgh.com/wp-content/uploads/2026/02/one-piece-tcg-e1770300821911.jpg
END:VEVENT
BEGIN:VEVENT
DTSTART;TZID=America/New_York:20261112T183000
DTEND;TZID=America/New_York:20261112T220000
DTSTAMP:20260424T041306
CREATED:20260205T141413Z
LAST-MODIFIED:20260205T141414Z
UID:10018639-1794508200-1794520800@gamemasterspgh.com
SUMMARY:One-Piece | Weekly Play and Tournament
DESCRIPTION:DON!! Your Decks for Thursday Night One Piece! \nThe quest for the One Piece continues this Thursday! Join us at Game Masters for our weekly tournament. \n\nWhen: Thursdays @ 6:30 PM\nStyle: Constructed\nEntry: $15\n\nClaim the throne of Pirate King!
URL:https://gamemasterspgh.com/event/one-piece-weekly/2026-11-12/
LOCATION:Regular Table\, 398 Perry Hwy\, Pittsburgh\, PA\, 15229\, United States
CATEGORIES:Open
ATTACH;FMTTYPE=image/jpeg:https://gamemasterspgh.com/wp-content/uploads/2026/02/one-piece-tcg-e1770300821911.jpg
END:VEVENT
BEGIN:VEVENT
DTSTART;TZID=America/New_York:20261119T183000
DTEND;TZID=America/New_York:20261119T220000
DTSTAMP:20260424T041306
CREATED:20260205T141413Z
LAST-MODIFIED:20260205T141414Z
UID:10018640-1795113000-1795125600@gamemasterspgh.com
SUMMARY:One-Piece | Weekly Play and Tournament
DESCRIPTION:DON!! Your Decks for Thursday Night One Piece! \nThe quest for the One Piece continues this Thursday! Join us at Game Masters for our weekly tournament. \n\nWhen: Thursdays @ 6:30 PM\nStyle: Constructed\nEntry: $15\n\nClaim the throne of Pirate King!
URL:https://gamemasterspgh.com/event/one-piece-weekly/2026-11-19/
LOCATION:Regular Table\, 398 Perry Hwy\, Pittsburgh\, PA\, 15229\, United States
CATEGORIES:Open
ATTACH;FMTTYPE=image/jpeg:https://gamemasterspgh.com/wp-content/uploads/2026/02/one-piece-tcg-e1770300821911.jpg
END:VEVENT
END:VCALENDAR