BEGIN:VCALENDAR
VERSION:2.0
PRODID:-//Game Masters - ECPv6.15.20//NONSGML v1.0//EN
CALSCALE:GREGORIAN
METHOD:PUBLISH
X-WR-CALNAME:Game Masters
X-ORIGINAL-URL:https://gamemasterspgh.com
X-WR-CALDESC:Events for Game Masters
REFRESH-INTERVAL;VALUE=DURATION:PT1H
X-Robots-Tag:noindex
X-PUBLISHED-TTL:PT1H
BEGIN:VTIMEZONE
TZID:America/New_York
BEGIN:DAYLIGHT
TZOFFSETFROM:-0500
TZOFFSETTO:-0400
TZNAME:EDT
DTSTART:20250309T070000
END:DAYLIGHT
BEGIN:STANDARD
TZOFFSETFROM:-0400
TZOFFSETTO:-0500
TZNAME:EST
DTSTART:20251102T060000
END:STANDARD
BEGIN:DAYLIGHT
TZOFFSETFROM:-0500
TZOFFSETTO:-0400
TZNAME:EDT
DTSTART:20260308T070000
END:DAYLIGHT
BEGIN:STANDARD
TZOFFSETFROM:-0400
TZOFFSETTO:-0500
TZNAME:EST
DTSTART:20261101T060000
END:STANDARD
BEGIN:DAYLIGHT
TZOFFSETFROM:-0500
TZOFFSETTO:-0400
TZNAME:EDT
DTSTART:20270314T070000
END:DAYLIGHT
BEGIN:STANDARD
TZOFFSETFROM:-0400
TZOFFSETTO:-0500
TZNAME:EST
DTSTART:20271107T060000
END:STANDARD
END:VTIMEZONE
BEGIN:VEVENT
DTSTART;TZID=America/New_York:20260526T180000
DTEND;TZID=America/New_York:20260526T220000
DTSTAMP:20260424T022745
CREATED:20220603T153421Z
LAST-MODIFIED:20260105T140920Z
UID:10017334-1779818400-1779832800@gamemasterspgh.com
SUMMARY:Board Game Night
DESCRIPTION:Weekly\, re-occurring board gaming on every Tuesday
URL:https://gamemasterspgh.com/event/weekly-board-game-night/2026-05-26/
LOCATION:Regular Table\, 398 Perry Hwy\, Pittsburgh\, PA\, 15229\, United States
CATEGORIES:Open
ATTACH;FMTTYPE=image/png:https://gamemasterspgh.com/wp-content/uploads/2022/06/board-games.png
ORGANIZER;CN="Phil Glotfelty":MAILTO:phil@gamemasterspgh.com
END:VEVENT
BEGIN:VEVENT
DTSTART;TZID=America/New_York:20260526T180000
DTEND;TZID=America/New_York:20260526T220000
DTSTAMP:20260424T022745
CREATED:20240205T220233Z
LAST-MODIFIED:20240607T112213Z
UID:10003117-1779818400-1779832800@gamemasterspgh.com
SUMMARY:[D&D5e] | Saltmarsh
DESCRIPTION:Robert’s Saltmarsh game\, D&D 5e
URL:https://gamemasterspgh.com/event/saltmarsh-5e-2/2026-05-26/
LOCATION:Regular Table\, 398 Perry Hwy\, Pittsburgh\, PA\, 15229\, United States
ORGANIZER;CN="Robert Baugh":MAILTO:Robertcalvinbaugh@gmail.com
END:VEVENT
BEGIN:VEVENT
DTSTART;TZID=America/New_York:20260526T180000
DTEND;TZID=America/New_York:20260526T220000
DTSTAMP:20260424T022745
CREATED:20250916T125318Z
LAST-MODIFIED:20250916T125600Z
UID:10015279-1779818400-1779832800@gamemasterspgh.com
SUMMARY:Gundam | Casual Play
DESCRIPTION:Join us for Gundam The Card Game! Learn and Play casually and meet other pilots. \n  \nJump into our discord\, for #gundam to chat with other players from the store \nJoin the Discord Server!
URL:https://gamemasterspgh.com/event/gundam-casual-play/2026-05-26/
LOCATION:Regular Table\, 398 Perry Hwy\, Pittsburgh\, PA\, 15229\, United States
CATEGORIES:Open
ATTACH;FMTTYPE=image/jpeg:https://gamemasterspgh.com/wp-content/uploads/2025/09/gundam.jpg
END:VEVENT
BEGIN:VEVENT
DTSTART;TZID=America/New_York:20260526T190000
DTEND;TZID=America/New_York:20260526T220000
DTSTAMP:20260424T022745
CREATED:20230215T141430Z
LAST-MODIFIED:20240406T135127Z
UID:10004535-1779822000-1779832800@gamemasterspgh.com
SUMMARY:Blood on the Clocktower
DESCRIPTION:A regularly occurring event for players in Blood on the Clocktower Discord: https://discord.gg/pCBuYpFCqH (#botc-general and #botc-scheduling) \n  \nPlease feel free to drop in and see if there are open slots! No sign up necessary. \n\n\n\n\nBlood On the Clocktower Website\n\nIn the quiet village of Ravenswood Bluff\, ‌a demon walks amongst you… \nDuring a hellish thunderstorm\, on the stroke of midnight\, there echoes a bone-chilling scream. The townsfolk rush to investigate and find the town storyteller murdered\, their body impaled on the hands of the clocktower\, blood dripping onto the cobblestones below. A Demon is on the loose\, murdering by night and disguised in human form by day. Some have scraps of information. Others have abilities that fight the evil or protect the innocent. But the Demon and its evil minions are spreading lies to confuse and breed suspicion. Will the good townsfolk put the puzzle together in time to execute the true demon and save themselves? Or will evil overrun this once peaceful village? \n  \nBlood on the Clocktower is a bluffing game enjoyed by 5 to 20 players on opposing teams of Good and Evil\, overseen by a Storyteller player who conducts the action and makes crucial decisions. The goal of the game is to successfully deduce and execute the demons before they outnumber the townfolk. \nDuring a ‘day’ phase players socialize openly and whisper privately to trade knowledge or spread lies\, culminating in a player’s execution if a majority suspects them of being Evil. Of a ‘night’ time\, players close their eyes and are woken one at a time by the Storyteller to gather information\, spread mischief\, or kill. \nThe Storyteller uses the game’s intricate playing pieces to guide each game\, leaving others free to play without a table or board. Players stay in the thick of the action to the very end even if their characters are killed\, haunting Ravenswood Bluff as ghosts trying to win from beyond the grave. \nIf you arrive late to a game\, you can enter after it’s started as a powerful Traveller character with unusual talents and questionable allegiances. Each character comes with their own special ability and no two players in a game are ever the same character.
URL:https://gamemasterspgh.com/event/blood-on-the-clocktower-series/2026-05-26/
LOCATION:Regular Table\, 398 Perry Hwy\, Pittsburgh\, PA\, 15229\, United States
CATEGORIES:Open
ATTACH;FMTTYPE=image/webp:https://gamemasterspgh.com/wp-content/uploads/2023/02/botc-e1676470352982.webp
END:VEVENT
BEGIN:VEVENT
DTSTART;TZID=America/New_York:20260527T170000
DTEND;TZID=America/New_York:20260527T220000
DTSTAMP:20260424T022745
CREATED:20250916T170609Z
LAST-MODIFIED:20250927T115358Z
UID:10016459-1779901200-1779919200@gamemasterspgh.com
SUMMARY:Sarah's Daggerheart
DESCRIPTION:Biweekly meeting of the Daggerheart campaign
URL:https://gamemasterspgh.com/event/sarah-daggerheart/2026-05-27/
LOCATION:Regular Table\, 398 Perry Hwy\, Pittsburgh\, PA\, 15229\, United States
CATEGORIES:Closed,Tavern Table
ORGANIZER;CN="Sarah Holzapfel":MAILTO:sarah.j.holzapfel@gmail.com
END:VEVENT
BEGIN:VEVENT
DTSTART;TZID=America/New_York:20260527T180000
DTEND;TZID=America/New_York:20260527T213000
DTSTAMP:20260424T022745
CREATED:20250707T203621Z
LAST-MODIFIED:20260327T143758Z
UID:10013542-1779904800-1779917400@gamemasterspgh.com
SUMMARY:Delta Green and Call of Cthulhu
DESCRIPTION:We play Delta Green and Call of Cthulhu on alternating weeks. Sometimes we throw in one-shots and short campaigns of other games (mostly horror).
URL:https://gamemasterspgh.com/event/delta-green-call-of-cthulhu/2026-05-27/
LOCATION:Regular Table\, 398 Perry Hwy\, Pittsburgh\, PA\, 15229\, United States
CATEGORIES:Closed
ATTACH;FMTTYPE=image/png:https://gamemasterspgh.com/wp-content/uploads/2022/08/126.Red-Book.png
ORGANIZER;CN="Chad Perryman":MAILTO:caperryman91@gmail.com
END:VEVENT
BEGIN:VEVENT
DTSTART;TZID=America/New_York:20260527T180000
DTEND;TZID=America/New_York:20260527T220000
DTSTAMP:20260424T022745
CREATED:20220718T132701Z
LAST-MODIFIED:20260122T163359Z
UID:10018040-1779904800-1779919200@gamemasterspgh.com
SUMMARY:Magic: the Gathering | [Commander]
DESCRIPTION:A game of Magic the Gathering with Commander format being played.
URL:https://gamemasterspgh.com/event/mtg-commander-night/2026-05-27/
LOCATION:PA
CATEGORIES:Open
ATTACH;FMTTYPE=image/jpeg:https://gamemasterspgh.com/wp-content/uploads/2022/07/MTG-commander-header.jpg
END:VEVENT
BEGIN:VEVENT
DTSTART;TZID=America/New_York:20260527T180000
DTEND;TZID=America/New_York:20260527T220000
DTSTAMP:20260424T022745
CREATED:20230407T011722Z
LAST-MODIFIED:20230407T011722Z
UID:10010261-1779904800-1779919200@gamemasterspgh.com
SUMMARY:FrostHaven
DESCRIPTION:Frosthaven Campaign playthrough
URL:https://gamemasterspgh.com/event/frosthaven-2/2026-05-27/
LOCATION:Regular Table\, 398 Perry Hwy\, Pittsburgh\, PA\, 15229\, United States
ORGANIZER;CN="Cyril":MAILTO:gameduku@gmail.com
END:VEVENT
BEGIN:VEVENT
DTSTART;TZID=America/New_York:20260527T183000
DTEND;TZID=America/New_York:20260527T213000
DTSTAMP:20260424T022745
CREATED:20230126T132900Z
LAST-MODIFIED:20251225T035240Z
UID:10009198-1779906600-1779917400@gamemasterspgh.com
SUMMARY:Savage Worlds
DESCRIPTION:Savage Worlds with a rotating setting.
URL:https://gamemasterspgh.com/event/ian-savage-worlds/2026-05-27/
LOCATION:Regular Table\, 398 Perry Hwy\, Pittsburgh\, PA\, 15229\, United States
ORGANIZER;CN="Ian Powers":MAILTO:economypowers@gmail.com
END:VEVENT
BEGIN:VEVENT
DTSTART;TZID=America/New_York:20260527T190000
DTEND;TZID=America/New_York:20260527T220000
DTSTAMP:20260424T022745
CREATED:20230209T113528Z
LAST-MODIFIED:20251225T035225Z
UID:10009523-1779908400-1779919200@gamemasterspgh.com
SUMMARY:Pathfinder 1st Edition Rise of the Runelords Adventure Path
DESCRIPTION:A weekly campaign loosely following Paizo’s first published adventure path\, a campaign that spans six books from levels 1-18. A moderate amount of homebrew content is periodically introduced\, tested\, and iterated on.
URL:https://gamemasterspgh.com/event/pathfinder-1st-edition-rise-of-the-runelords-adventure-path/2026-05-27/
LOCATION:Regular Table\, 398 Perry Hwy\, Pittsburgh\, PA\, 15229\, United States
ATTACH;FMTTYPE=image/jpeg:https://gamemasterspgh.com/wp-content/uploads/2023/02/PZO1002_500.jpeg
ORGANIZER;CN="Victor Sapp":MAILTO:silvos.ruin@gmail.com
END:VEVENT
BEGIN:VEVENT
DTSTART;TZID=America/New_York:20260527T190000
DTEND;TZID=America/New_York:20260527T220000
DTSTAMP:20260424T022745
CREATED:20251119T183722Z
LAST-MODIFIED:20251225T035216Z
UID:10016926-1779908400-1779919200@gamemasterspgh.com
SUMMARY:Victor's Pathfinder Game
DESCRIPTION:Victor run a TTRPG every Wednesday (barring holidays and cancelations)\, the game is currently a Pathfinder Adventure Path/Homebrew though that is subject to change.
URL:https://gamemasterspgh.com/event/victors-pathfinder-game/2026-05-27/
LOCATION:Regular Table\, 398 Perry Hwy\, Pittsburgh\, PA\, 15229\, United States
CATEGORIES:Closed
ATTACH;FMTTYPE=image/jpeg:https://gamemasterspgh.com/wp-content/uploads/2025/11/ROTR.jpg
ORGANIZER;CN="Victor Sapp":MAILTO:silvos.ruin@gmail.com
END:VEVENT
BEGIN:VEVENT
DTSTART;TZID=America/New_York:20260528T180000
DTEND;TZID=America/New_York:20260528T220000
DTSTAMP:20260424T022745
CREATED:20240702T023437Z
LAST-MODIFIED:20251225T034827Z
UID:10002641-1779991200-1780005600@gamemasterspgh.com
SUMMARY:Miscellaneous Adventures
DESCRIPTION:A long-running campaign of various RPG systems and storytellers but mostly Paul.
URL:https://gamemasterspgh.com/event/miscellaneous-adventures-2/2026-05-28/
LOCATION:PA
ATTACH;FMTTYPE=image/png:https://gamemasterspgh.com/wp-content/uploads/2022/07/treasure-map.png
END:VEVENT
BEGIN:VEVENT
DTSTART;TZID=America/New_York:20260528T180000
DTEND;TZID=America/New_York:20260528T220000
DTSTAMP:20260424T022745
CREATED:20241111T103518Z
LAST-MODIFIED:20251229T030254Z
UID:10008100-1779991200-1780005600@gamemasterspgh.com
SUMMARY:Lorcana League
DESCRIPTION:Disney Lorcana League!\n\nCheck out the Discord for the week to determine the format or style to be played \nTrading Card Games \n\n#lorcana-general\n#lorcana-events\n\n  \nJoin the Discord Server!
URL:https://gamemasterspgh.com/event/disney-lorcana-league/2026-05-28/
LOCATION:Regular Table\, 398 Perry Hwy\, Pittsburgh\, PA\, 15229\, United States
CATEGORIES:Open
ATTACH;FMTTYPE=image/png:https://gamemasterspgh.com/wp-content/uploads/2024/02/lorcana-e1708802747711.png
ORGANIZER;CN="Phil Glotfelty":MAILTO:phil@gamemasterspgh.com
END:VEVENT
BEGIN:VEVENT
DTSTART;TZID=America/New_York:20260528T183000
DTEND;TZID=America/New_York:20260528T220000
DTSTAMP:20260424T022745
CREATED:20260205T141413Z
LAST-MODIFIED:20260205T141414Z
UID:10018615-1779993000-1780005600@gamemasterspgh.com
SUMMARY:One-Piece | Weekly Play and Tournament
DESCRIPTION:DON!! Your Decks for Thursday Night One Piece! \nThe quest for the One Piece continues this Thursday! Join us at Game Masters for our weekly tournament. \n\nWhen: Thursdays @ 6:30 PM\nStyle: Constructed\nEntry: $15\n\nClaim the throne of Pirate King!
URL:https://gamemasterspgh.com/event/one-piece-weekly/2026-05-28/
LOCATION:Regular Table\, 398 Perry Hwy\, Pittsburgh\, PA\, 15229\, United States
CATEGORIES:Open
ATTACH;FMTTYPE=image/jpeg:https://gamemasterspgh.com/wp-content/uploads/2026/02/one-piece-tcg-e1770300821911.jpg
END:VEVENT
BEGIN:VEVENT
DTSTART;TZID=America/New_York:20260529T170000
DTEND;TZID=America/New_York:20260529T220000
DTSTAMP:20260424T022745
CREATED:20231107T172819Z
LAST-MODIFIED:20240406T140430Z
UID:10005236-1780074000-1780092000@gamemasterspgh.com
SUMMARY:The Heroes of Iridias
DESCRIPTION:A Private D&D Campaign
URL:https://gamemasterspgh.com/event/the-heroes-of-iridias/2026-05-29/
LOCATION:Regular Table\, 398 Perry Hwy\, Pittsburgh\, PA\, 15229\, United States
ORGANIZER;CN="Crow (Brian Rooker)":MAILTO:mrbrianrooker@gmail.com
END:VEVENT
BEGIN:VEVENT
DTSTART;TZID=America/New_York:20260529T183000
DTEND;TZID=America/New_York:20260529T220000
DTSTAMP:20260424T022745
CREATED:20250425T181546Z
LAST-MODIFIED:20250802T023138Z
UID:10010922-1780079400-1780092000@gamemasterspgh.com
SUMMARY:KeyForge | Bi-Weekly Sealed Play
DESCRIPTION:Entry: $20 (includes one sealed deck and table fee)\nFormat: Sealed (set TBD based on latest available sets)\nPrize: Sealed decks\, TBD based on number of entrants
URL:https://gamemasterspgh.com/event/keyforge-bi-weekly/2026-05-29/
LOCATION:Regular Table\, 398 Perry Hwy\, Pittsburgh\, PA\, 15229\, United States
CATEGORIES:Open
ATTACH;FMTTYPE=image/jpeg:https://gamemasterspgh.com/wp-content/uploads/2023/08/keyforge-red.jpg
ORGANIZER;CN="Matt Carulli":MAILTO:matthewcarulli@gmail.com
END:VEVENT
BEGIN:VEVENT
DTSTART;TZID=America/New_York:20260530T120000
DTEND;TZID=America/New_York:20260530T180000
DTSTAMP:20260424T022745
CREATED:20260202T133405Z
LAST-MODIFIED:20260202T133406Z
UID:10007085-1780142400-1780164000@gamemasterspgh.com
SUMMARY:Pokémon | [Open Play And Weekly League]
DESCRIPTION:Come join in before the weekly tournament for casual play\, trading\, conversation\, or to help get you started with learning the rules to start your very own Pokémon collection. \nThis is completely free event to attend! \n\nStandard Tournament\n\nSign Up from 12pm-1pm\nRound 1 Start at 1pm – Perfect Order Proxies are allowed for this event\nOpen Play & Trade\nEarly Registration for our TCG League Cup opens
URL:https://gamemasterspgh.com/event/pokemon-openplay-weeklyleague-2/2026-05-30/
LOCATION:Regular Table\, 398 Perry Hwy\, Pittsburgh\, PA\, 15229\, United States
CATEGORIES:Open
ATTACH;FMTTYPE=image/jpeg:https://gamemasterspgh.com/wp-content/uploads/2023/07/pokemon-e1690852217372.jpg
ORGANIZER;CN="Phil Glotfelty":MAILTO:phil@gamemasterspgh.com
END:VEVENT
BEGIN:VEVENT
DTSTART;TZID=America/New_York:20260530T120000
DTEND;TZID=America/New_York:20260530T220000
DTSTAMP:20260424T022745
CREATED:20220901T160903Z
LAST-MODIFIED:20250601T160541Z
UID:10004293-1780142400-1780178400@gamemasterspgh.com
SUMMARY:Saturday All-Day Board Gaming
DESCRIPTION:Every week for all day board games!
URL:https://gamemasterspgh.com/event/saturday-board-gaming/2026-05-30/
LOCATION:Regular Table\, 398 Perry Hwy\, Pittsburgh\, PA\, 15229\, United States
CATEGORIES:Open
ATTACH;FMTTYPE=image/png:https://gamemasterspgh.com/wp-content/uploads/2022/09/hexes.png
ORGANIZER;CN="Phil Glotfelty":MAILTO:phil@gamemasterspgh.com
END:VEVENT
BEGIN:VEVENT
DTSTART;TZID=America/New_York:20260530T130000
DTEND;TZID=America/New_York:20260530T160000
DTSTAMP:20260424T022745
CREATED:20250507T024601Z
LAST-MODIFIED:20250601T160330Z
UID:10011093-1780146000-1780156800@gamemasterspgh.com
SUMMARY:Flesh and Blood | [Armories]
DESCRIPTION:Store Link: https://fabtcg.com/en/locator/game-masters/ \n$15 buy-in\, three packs at the door. GEM pack for attendance.
URL:https://gamemasterspgh.com/event/flesh-and-blood-armories/2026-05-30/
LOCATION:Regular Table\, 398 Perry Hwy\, Pittsburgh\, PA\, 15229\, United States
CATEGORIES:Open
ATTACH;FMTTYPE=image/webp:https://gamemasterspgh.com/wp-content/uploads/2022/10/flesh-blood.webp
END:VEVENT
BEGIN:VEVENT
DTSTART;TZID=America/New_York:20260531T100000
DTEND;TZID=America/New_York:20260531T140000
DTSTAMP:20260424T022745
CREATED:20260107T131213Z
LAST-MODIFIED:20260107T131448Z
UID:10017847-1780221600-1780236000@gamemasterspgh.com
SUMMARY:Dice Throne | League
DESCRIPTION:Hello Fellow Dice Throne Nerds! \nIt will be every other week and usually bring 3 ban 1; meaning whoever you play will ban on of your characters and you pick out of the two which you will play. \nUsually Swiss best of 3 or best of 1 because of time. \nYour wins will be tracked and top 6 will get a cool alt board at end of league. \nAdditional Notes: \n\nThere will be a $10 table/tournament.\nYou will get one alt art card every month for 4 months.\nIn May we will give out an alt art board to the top 8 players of league.\nAlso in May we will have a special tournament. Details will be provided later.\n\n\nJoin the Discord Server!\nCheck out #dice-throne for latest news and any updates.
URL:https://gamemasterspgh.com/event/dice-throne-league/2026-05-31/
LOCATION:Regular Table\, 398 Perry Hwy\, Pittsburgh\, PA\, 15229\, United States
CATEGORIES:Open
ATTACH;FMTTYPE=image/png:https://gamemasterspgh.com/wp-content/uploads/2026/01/dice-throne-league.png
END:VEVENT
BEGIN:VEVENT
DTSTART;TZID=America/New_York:20260601T180000
DTEND;TZID=America/New_York:20260601T220000
DTSTAMP:20260424T022745
CREATED:20250209T221720Z
LAST-MODIFIED:20250209T222048Z
UID:10009790-1780336800-1780351200@gamemasterspgh.com
SUMMARY:Star Wars Unlimited [TCG] | Weekly Play
DESCRIPTION:Join us every Monday for a weekly play at 6 PM of Star Wars Unlimited! \n  \nCheck out the Discord on #starwars-unltd-general for any weekly changes! \nJoin the Discord Server!
URL:https://gamemasterspgh.com/event/star-wars-unlimited-tcg-weekly-play/2026-06-01/
LOCATION:Regular Table\, 398 Perry Hwy\, Pittsburgh\, PA\, 15229\, United States
CATEGORIES:Open
ATTACH;FMTTYPE=image/jpeg:https://gamemasterspgh.com/wp-content/uploads/2024/02/Star_Wars_Unlimited-e1708376420326.jpg
END:VEVENT
BEGIN:VEVENT
DTSTART;TZID=America/New_York:20260601T180000
DTEND;TZID=America/New_York:20260601T220000
DTSTAMP:20260424T022745
CREATED:20250408T145308Z
LAST-MODIFIED:20260406T182133Z
UID:10010522-1780336800-1780351200@gamemasterspgh.com
SUMMARY:Irregulars Game
DESCRIPTION:Close group. Semi-regular cast\, irregular games played.
URL:https://gamemasterspgh.com/event/irregulars-game/2026-06-01/
LOCATION:Regular Table\, 398 Perry Hwy\, Pittsburgh\, PA\, 15229\, United States
CATEGORIES:Closed
ATTACH;FMTTYPE=image/png:https://gamemasterspgh.com/wp-content/uploads/2025/08/rally-the-troops.png
ORGANIZER;CN="David Rickman":MAILTO:rickmand@gmail.com
END:VEVENT
BEGIN:VEVENT
DTSTART;TZID=America/New_York:20260602T180000
DTEND;TZID=America/New_York:20260602T220000
DTSTAMP:20260424T022745
CREATED:20220603T153421Z
LAST-MODIFIED:20260105T140920Z
UID:10017335-1780423200-1780437600@gamemasterspgh.com
SUMMARY:Board Game Night
DESCRIPTION:Weekly\, re-occurring board gaming on every Tuesday
URL:https://gamemasterspgh.com/event/weekly-board-game-night/2026-06-02/
LOCATION:Regular Table\, 398 Perry Hwy\, Pittsburgh\, PA\, 15229\, United States
CATEGORIES:Open
ATTACH;FMTTYPE=image/png:https://gamemasterspgh.com/wp-content/uploads/2022/06/board-games.png
ORGANIZER;CN="Phil Glotfelty":MAILTO:phil@gamemasterspgh.com
END:VEVENT
BEGIN:VEVENT
DTSTART;TZID=America/New_York:20260602T180000
DTEND;TZID=America/New_York:20260602T220000
DTSTAMP:20260424T022745
CREATED:20240205T220233Z
LAST-MODIFIED:20240607T112213Z
UID:10003118-1780423200-1780437600@gamemasterspgh.com
SUMMARY:[D&D5e] | Saltmarsh
DESCRIPTION:Robert’s Saltmarsh game\, D&D 5e
URL:https://gamemasterspgh.com/event/saltmarsh-5e-2/2026-06-02/
LOCATION:Regular Table\, 398 Perry Hwy\, Pittsburgh\, PA\, 15229\, United States
ORGANIZER;CN="Robert Baugh":MAILTO:Robertcalvinbaugh@gmail.com
END:VEVENT
BEGIN:VEVENT
DTSTART;TZID=America/New_York:20260602T180000
DTEND;TZID=America/New_York:20260602T220000
DTSTAMP:20260424T022745
CREATED:20250916T125318Z
LAST-MODIFIED:20250916T125600Z
UID:10015280-1780423200-1780437600@gamemasterspgh.com
SUMMARY:Gundam | Casual Play
DESCRIPTION:Join us for Gundam The Card Game! Learn and Play casually and meet other pilots. \n  \nJump into our discord\, for #gundam to chat with other players from the store \nJoin the Discord Server!
URL:https://gamemasterspgh.com/event/gundam-casual-play/2026-06-02/
LOCATION:Regular Table\, 398 Perry Hwy\, Pittsburgh\, PA\, 15229\, United States
CATEGORIES:Open
ATTACH;FMTTYPE=image/jpeg:https://gamemasterspgh.com/wp-content/uploads/2025/09/gundam.jpg
END:VEVENT
BEGIN:VEVENT
DTSTART;TZID=America/New_York:20260602T183000
DTEND;TZID=America/New_York:20260602T220000
DTSTAMP:20260424T022745
CREATED:20250918T123730Z
LAST-MODIFIED:20250925T175734Z
UID:10016326-1780425000-1780437600@gamemasterspgh.com
SUMMARY:Tracie's Daggerheart Game
DESCRIPTION:Tracie runs a Daggerheart game every other Tuesday. \nPlaying on the tavern table.
URL:https://gamemasterspgh.com/event/tracies-daggerheart-game/2026-06-02/
LOCATION:Tavern Table\, 398 Perry Hwy\, Pittsburgh\, PA\, 15229\, United States
CATEGORIES:Closed,Tavern Table
ATTACH;FMTTYPE=image/jpeg:https://gamemasterspgh.com/wp-content/uploads/2025/09/daggerheart-banner.jpg
END:VEVENT
BEGIN:VEVENT
DTSTART;TZID=America/New_York:20260602T190000
DTEND;TZID=America/New_York:20260602T220000
DTSTAMP:20260424T022745
CREATED:20230215T141430Z
LAST-MODIFIED:20240406T135127Z
UID:10004536-1780426800-1780437600@gamemasterspgh.com
SUMMARY:Blood on the Clocktower
DESCRIPTION:A regularly occurring event for players in Blood on the Clocktower Discord: https://discord.gg/pCBuYpFCqH (#botc-general and #botc-scheduling) \n  \nPlease feel free to drop in and see if there are open slots! No sign up necessary. \n\n\n\n\nBlood On the Clocktower Website\n\nIn the quiet village of Ravenswood Bluff\, ‌a demon walks amongst you… \nDuring a hellish thunderstorm\, on the stroke of midnight\, there echoes a bone-chilling scream. The townsfolk rush to investigate and find the town storyteller murdered\, their body impaled on the hands of the clocktower\, blood dripping onto the cobblestones below. A Demon is on the loose\, murdering by night and disguised in human form by day. Some have scraps of information. Others have abilities that fight the evil or protect the innocent. But the Demon and its evil minions are spreading lies to confuse and breed suspicion. Will the good townsfolk put the puzzle together in time to execute the true demon and save themselves? Or will evil overrun this once peaceful village? \n  \nBlood on the Clocktower is a bluffing game enjoyed by 5 to 20 players on opposing teams of Good and Evil\, overseen by a Storyteller player who conducts the action and makes crucial decisions. The goal of the game is to successfully deduce and execute the demons before they outnumber the townfolk. \nDuring a ‘day’ phase players socialize openly and whisper privately to trade knowledge or spread lies\, culminating in a player’s execution if a majority suspects them of being Evil. Of a ‘night’ time\, players close their eyes and are woken one at a time by the Storyteller to gather information\, spread mischief\, or kill. \nThe Storyteller uses the game’s intricate playing pieces to guide each game\, leaving others free to play without a table or board. Players stay in the thick of the action to the very end even if their characters are killed\, haunting Ravenswood Bluff as ghosts trying to win from beyond the grave. \nIf you arrive late to a game\, you can enter after it’s started as a powerful Traveller character with unusual talents and questionable allegiances. Each character comes with their own special ability and no two players in a game are ever the same character.
URL:https://gamemasterspgh.com/event/blood-on-the-clocktower-series/2026-06-02/
LOCATION:Regular Table\, 398 Perry Hwy\, Pittsburgh\, PA\, 15229\, United States
CATEGORIES:Open
ATTACH;FMTTYPE=image/webp:https://gamemasterspgh.com/wp-content/uploads/2023/02/botc-e1676470352982.webp
END:VEVENT
BEGIN:VEVENT
DTSTART;TZID=America/New_York:20260603T180000
DTEND;TZID=America/New_York:20260603T213000
DTSTAMP:20260424T022745
CREATED:20250707T203621Z
LAST-MODIFIED:20260327T143758Z
UID:10013543-1780509600-1780522200@gamemasterspgh.com
SUMMARY:Delta Green and Call of Cthulhu
DESCRIPTION:We play Delta Green and Call of Cthulhu on alternating weeks. Sometimes we throw in one-shots and short campaigns of other games (mostly horror).
URL:https://gamemasterspgh.com/event/delta-green-call-of-cthulhu/2026-06-03/
LOCATION:Regular Table\, 398 Perry Hwy\, Pittsburgh\, PA\, 15229\, United States
CATEGORIES:Closed
ATTACH;FMTTYPE=image/png:https://gamemasterspgh.com/wp-content/uploads/2022/08/126.Red-Book.png
ORGANIZER;CN="Chad Perryman":MAILTO:caperryman91@gmail.com
END:VEVENT
BEGIN:VEVENT
DTSTART;TZID=America/New_York:20260603T180000
DTEND;TZID=America/New_York:20260603T220000
DTSTAMP:20260424T022745
CREATED:20220718T132701Z
LAST-MODIFIED:20260122T163359Z
UID:10018041-1780509600-1780524000@gamemasterspgh.com
SUMMARY:Magic: the Gathering | [Commander]
DESCRIPTION:A game of Magic the Gathering with Commander format being played.
URL:https://gamemasterspgh.com/event/mtg-commander-night/2026-06-03/
LOCATION:PA
CATEGORIES:Open
ATTACH;FMTTYPE=image/jpeg:https://gamemasterspgh.com/wp-content/uploads/2022/07/MTG-commander-header.jpg
END:VEVENT
BEGIN:VEVENT
DTSTART;TZID=America/New_York:20260603T183000
DTEND;TZID=America/New_York:20260603T213000
DTSTAMP:20260424T022745
CREATED:20230126T132900Z
LAST-MODIFIED:20251225T035240Z
UID:10009199-1780511400-1780522200@gamemasterspgh.com
SUMMARY:Savage Worlds
DESCRIPTION:Savage Worlds with a rotating setting.
URL:https://gamemasterspgh.com/event/ian-savage-worlds/2026-06-03/
LOCATION:Regular Table\, 398 Perry Hwy\, Pittsburgh\, PA\, 15229\, United States
ORGANIZER;CN="Ian Powers":MAILTO:economypowers@gmail.com
END:VEVENT
END:VCALENDAR