BEGIN:VCALENDAR
VERSION:2.0
PRODID:-//Game Masters - ECPv6.15.20//NONSGML v1.0//EN
CALSCALE:GREGORIAN
METHOD:PUBLISH
X-ORIGINAL-URL:https://gamemasterspgh.com
X-WR-CALDESC:Events for Game Masters
REFRESH-INTERVAL;VALUE=DURATION:PT1H
X-Robots-Tag:noindex
X-PUBLISHED-TTL:PT1H
BEGIN:VTIMEZONE
TZID:America/New_York
BEGIN:DAYLIGHT
TZOFFSETFROM:-0500
TZOFFSETTO:-0400
TZNAME:EDT
DTSTART:20250309T070000
END:DAYLIGHT
BEGIN:STANDARD
TZOFFSETFROM:-0400
TZOFFSETTO:-0500
TZNAME:EST
DTSTART:20251102T060000
END:STANDARD
BEGIN:DAYLIGHT
TZOFFSETFROM:-0500
TZOFFSETTO:-0400
TZNAME:EDT
DTSTART:20260308T070000
END:DAYLIGHT
BEGIN:STANDARD
TZOFFSETFROM:-0400
TZOFFSETTO:-0500
TZNAME:EST
DTSTART:20261101T060000
END:STANDARD
BEGIN:DAYLIGHT
TZOFFSETFROM:-0500
TZOFFSETTO:-0400
TZNAME:EDT
DTSTART:20270314T070000
END:DAYLIGHT
BEGIN:STANDARD
TZOFFSETFROM:-0400
TZOFFSETTO:-0500
TZNAME:EST
DTSTART:20271107T060000
END:STANDARD
END:VTIMEZONE
BEGIN:VEVENT
DTSTART;TZID=America/New_York:20260624T170000
DTEND;TZID=America/New_York:20260624T220000
DTSTAMP:20260425T073140
CREATED:20250916T170609Z
LAST-MODIFIED:20250927T115358Z
UID:10016461-1782320400-1782338400@gamemasterspgh.com
SUMMARY:Sarah's Daggerheart
DESCRIPTION:Biweekly meeting of the Daggerheart campaign
URL:https://gamemasterspgh.com/event/sarah-daggerheart/2026-06-24/
LOCATION:Regular Table\, 398 Perry Hwy\, Pittsburgh\, PA\, 15229\, United States
CATEGORIES:Closed,Tavern Table
ORGANIZER;CN="Sarah Holzapfel":MAILTO:sarah.j.holzapfel@gmail.com
END:VEVENT
END:VCALENDAR