BEGIN:VCALENDAR
VERSION:2.0
PRODID:-//Game Masters - ECPv6.15.20//NONSGML v1.0//EN
CALSCALE:GREGORIAN
METHOD:PUBLISH
X-WR-CALNAME:Game Masters
X-ORIGINAL-URL:https://gamemasterspgh.com
X-WR-CALDESC:Events for Game Masters
REFRESH-INTERVAL;VALUE=DURATION:PT1H
X-Robots-Tag:noindex
X-PUBLISHED-TTL:PT1H
BEGIN:VTIMEZONE
TZID:America/New_York
BEGIN:DAYLIGHT
TZOFFSETFROM:-0500
TZOFFSETTO:-0400
TZNAME:EDT
DTSTART:20280312T070000
END:DAYLIGHT
BEGIN:STANDARD
TZOFFSETFROM:-0400
TZOFFSETTO:-0500
TZNAME:EST
DTSTART:20281105T060000
END:STANDARD
BEGIN:DAYLIGHT
TZOFFSETFROM:-0500
TZOFFSETTO:-0400
TZNAME:EDT
DTSTART:20290311T070000
END:DAYLIGHT
BEGIN:STANDARD
TZOFFSETFROM:-0400
TZOFFSETTO:-0500
TZNAME:EST
DTSTART:20291104T060000
END:STANDARD
BEGIN:DAYLIGHT
TZOFFSETFROM:-0500
TZOFFSETTO:-0400
TZNAME:EDT
DTSTART:20300310T070000
END:DAYLIGHT
BEGIN:STANDARD
TZOFFSETFROM:-0400
TZOFFSETTO:-0500
TZNAME:EST
DTSTART:20301103T060000
END:STANDARD
END:VTIMEZONE
BEGIN:VEVENT
DTSTART;TZID=America/New_York:20290517T180000
DTEND;TZID=America/New_York:20290517T220000
DTSTAMP:20260425T234151
CREATED:20230126T132017Z
LAST-MODIFIED:20251229T030314Z
UID:10007292-1873735200-1873749600@gamemasterspgh.com
SUMMARY:D&D 5E - Adventurers League
DESCRIPTION:Join us on the Discord channel – for regular updates. \nJoin the Discord Server! \n\nD&D Adventurers League is a setup for beginners new to the system and veterans of it alike! \nThe D&D Adventurers League is an ongoing official campaign for Dungeons & Dragons. It uses the fifth edition Dungeons & Dragons rules\, and features the Forgotten Realms setting. You can play D&D Adventurers League games literally anywhere. Players use the fifth edition rules to create a character and bring that character to games anywhere D&D Adventurers League play is happening. \nFor more information check out the D&D website – https://dnd.wizards.com/adventurers-league \nRemember to join the Discord channel!
URL:https://gamemasterspgh.com/event/dnd5e-adventurers-league/2029-05-17/
LOCATION:Regular Table\, 398 Perry Hwy\, Pittsburgh\, PA\, 15229\, United States
CATEGORIES:Open,Tavern Table
ATTACH;FMTTYPE=image/png:https://gamemasterspgh.com/wp-content/uploads/2023/01/DnD_Swath_Scndry_Center_V1_L_RGB.png
END:VEVENT
BEGIN:VEVENT
DTSTART;TZID=America/New_York:20290523T170000
DTEND;TZID=America/New_York:20290523T220000
DTSTAMP:20260425T234151
CREATED:20250916T170609Z
LAST-MODIFIED:20250927T115358Z
UID:10016537-1874250000-1874268000@gamemasterspgh.com
SUMMARY:Sarah's Daggerheart
DESCRIPTION:Biweekly meeting of the Daggerheart campaign
URL:https://gamemasterspgh.com/event/sarah-daggerheart/2029-05-23/
LOCATION:Regular Table\, 398 Perry Hwy\, Pittsburgh\, PA\, 15229\, United States
CATEGORIES:Closed,Tavern Table
ORGANIZER;CN="Sarah Holzapfel":MAILTO:sarah.j.holzapfel@gmail.com
END:VEVENT
BEGIN:VEVENT
DTSTART;TZID=America/New_York:20290529T183000
DTEND;TZID=America/New_York:20290529T220000
DTSTAMP:20260425T234151
CREATED:20250918T123730Z
LAST-MODIFIED:20250925T175734Z
UID:10016404-1874773800-1874786400@gamemasterspgh.com
SUMMARY:Tracie's Daggerheart Game
DESCRIPTION:Tracie runs a Daggerheart game every other Tuesday. \nPlaying on the tavern table.
URL:https://gamemasterspgh.com/event/tracies-daggerheart-game/2029-05-29/
LOCATION:Tavern Table\, 398 Perry Hwy\, Pittsburgh\, PA\, 15229\, United States
CATEGORIES:Closed,Tavern Table
ATTACH;FMTTYPE=image/jpeg:https://gamemasterspgh.com/wp-content/uploads/2025/09/daggerheart-banner.jpg
END:VEVENT
BEGIN:VEVENT
DTSTART;TZID=America/New_York:20290531T180000
DTEND;TZID=America/New_York:20290531T220000
DTSTAMP:20260425T234151
CREATED:20230126T132017Z
LAST-MODIFIED:20251229T030314Z
UID:10007293-1874944800-1874959200@gamemasterspgh.com
SUMMARY:D&D 5E - Adventurers League
DESCRIPTION:Join us on the Discord channel – for regular updates. \nJoin the Discord Server! \n\nD&D Adventurers League is a setup for beginners new to the system and veterans of it alike! \nThe D&D Adventurers League is an ongoing official campaign for Dungeons & Dragons. It uses the fifth edition Dungeons & Dragons rules\, and features the Forgotten Realms setting. You can play D&D Adventurers League games literally anywhere. Players use the fifth edition rules to create a character and bring that character to games anywhere D&D Adventurers League play is happening. \nFor more information check out the D&D website – https://dnd.wizards.com/adventurers-league \nRemember to join the Discord channel!
URL:https://gamemasterspgh.com/event/dnd5e-adventurers-league/2029-05-31/
LOCATION:Regular Table\, 398 Perry Hwy\, Pittsburgh\, PA\, 15229\, United States
CATEGORIES:Open,Tavern Table
ATTACH;FMTTYPE=image/png:https://gamemasterspgh.com/wp-content/uploads/2023/01/DnD_Swath_Scndry_Center_V1_L_RGB.png
END:VEVENT
BEGIN:VEVENT
DTSTART;TZID=America/New_York:20290606T170000
DTEND;TZID=America/New_York:20290606T220000
DTSTAMP:20260425T234151
CREATED:20250916T170609Z
LAST-MODIFIED:20250927T115358Z
UID:10016538-1875459600-1875477600@gamemasterspgh.com
SUMMARY:Sarah's Daggerheart
DESCRIPTION:Biweekly meeting of the Daggerheart campaign
URL:https://gamemasterspgh.com/event/sarah-daggerheart/2029-06-06/
LOCATION:Regular Table\, 398 Perry Hwy\, Pittsburgh\, PA\, 15229\, United States
CATEGORIES:Closed,Tavern Table
ORGANIZER;CN="Sarah Holzapfel":MAILTO:sarah.j.holzapfel@gmail.com
END:VEVENT
BEGIN:VEVENT
DTSTART;TZID=America/New_York:20290612T183000
DTEND;TZID=America/New_York:20290612T220000
DTSTAMP:20260425T234151
CREATED:20250918T123730Z
LAST-MODIFIED:20250925T175734Z
UID:10016405-1875983400-1875996000@gamemasterspgh.com
SUMMARY:Tracie's Daggerheart Game
DESCRIPTION:Tracie runs a Daggerheart game every other Tuesday. \nPlaying on the tavern table.
URL:https://gamemasterspgh.com/event/tracies-daggerheart-game/2029-06-12/
LOCATION:Tavern Table\, 398 Perry Hwy\, Pittsburgh\, PA\, 15229\, United States
CATEGORIES:Closed,Tavern Table
ATTACH;FMTTYPE=image/jpeg:https://gamemasterspgh.com/wp-content/uploads/2025/09/daggerheart-banner.jpg
END:VEVENT
BEGIN:VEVENT
DTSTART;TZID=America/New_York:20290614T180000
DTEND;TZID=America/New_York:20290614T220000
DTSTAMP:20260425T234151
CREATED:20230126T132017Z
LAST-MODIFIED:20251229T030314Z
UID:10007294-1876154400-1876168800@gamemasterspgh.com
SUMMARY:D&D 5E - Adventurers League
DESCRIPTION:Join us on the Discord channel – for regular updates. \nJoin the Discord Server! \n\nD&D Adventurers League is a setup for beginners new to the system and veterans of it alike! \nThe D&D Adventurers League is an ongoing official campaign for Dungeons & Dragons. It uses the fifth edition Dungeons & Dragons rules\, and features the Forgotten Realms setting. You can play D&D Adventurers League games literally anywhere. Players use the fifth edition rules to create a character and bring that character to games anywhere D&D Adventurers League play is happening. \nFor more information check out the D&D website – https://dnd.wizards.com/adventurers-league \nRemember to join the Discord channel!
URL:https://gamemasterspgh.com/event/dnd5e-adventurers-league/2029-06-14/
LOCATION:Regular Table\, 398 Perry Hwy\, Pittsburgh\, PA\, 15229\, United States
CATEGORIES:Open,Tavern Table
ATTACH;FMTTYPE=image/png:https://gamemasterspgh.com/wp-content/uploads/2023/01/DnD_Swath_Scndry_Center_V1_L_RGB.png
END:VEVENT
BEGIN:VEVENT
DTSTART;TZID=America/New_York:20290620T170000
DTEND;TZID=America/New_York:20290620T220000
DTSTAMP:20260425T234151
CREATED:20250916T170609Z
LAST-MODIFIED:20250927T115358Z
UID:10016539-1876669200-1876687200@gamemasterspgh.com
SUMMARY:Sarah's Daggerheart
DESCRIPTION:Biweekly meeting of the Daggerheart campaign
URL:https://gamemasterspgh.com/event/sarah-daggerheart/2029-06-20/
LOCATION:Regular Table\, 398 Perry Hwy\, Pittsburgh\, PA\, 15229\, United States
CATEGORIES:Closed,Tavern Table
ORGANIZER;CN="Sarah Holzapfel":MAILTO:sarah.j.holzapfel@gmail.com
END:VEVENT
BEGIN:VEVENT
DTSTART;TZID=America/New_York:20290626T183000
DTEND;TZID=America/New_York:20290626T220000
DTSTAMP:20260425T234151
CREATED:20250918T123730Z
LAST-MODIFIED:20250925T175734Z
UID:10016406-1877193000-1877205600@gamemasterspgh.com
SUMMARY:Tracie's Daggerheart Game
DESCRIPTION:Tracie runs a Daggerheart game every other Tuesday. \nPlaying on the tavern table.
URL:https://gamemasterspgh.com/event/tracies-daggerheart-game/2029-06-26/
LOCATION:Tavern Table\, 398 Perry Hwy\, Pittsburgh\, PA\, 15229\, United States
CATEGORIES:Closed,Tavern Table
ATTACH;FMTTYPE=image/jpeg:https://gamemasterspgh.com/wp-content/uploads/2025/09/daggerheart-banner.jpg
END:VEVENT
BEGIN:VEVENT
DTSTART;TZID=America/New_York:20290628T180000
DTEND;TZID=America/New_York:20290628T220000
DTSTAMP:20260425T234151
CREATED:20230126T132017Z
LAST-MODIFIED:20251229T030314Z
UID:10007295-1877364000-1877378400@gamemasterspgh.com
SUMMARY:D&D 5E - Adventurers League
DESCRIPTION:Join us on the Discord channel – for regular updates. \nJoin the Discord Server! \n\nD&D Adventurers League is a setup for beginners new to the system and veterans of it alike! \nThe D&D Adventurers League is an ongoing official campaign for Dungeons & Dragons. It uses the fifth edition Dungeons & Dragons rules\, and features the Forgotten Realms setting. You can play D&D Adventurers League games literally anywhere. Players use the fifth edition rules to create a character and bring that character to games anywhere D&D Adventurers League play is happening. \nFor more information check out the D&D website – https://dnd.wizards.com/adventurers-league \nRemember to join the Discord channel!
URL:https://gamemasterspgh.com/event/dnd5e-adventurers-league/2029-06-28/
LOCATION:Regular Table\, 398 Perry Hwy\, Pittsburgh\, PA\, 15229\, United States
CATEGORIES:Open,Tavern Table
ATTACH;FMTTYPE=image/png:https://gamemasterspgh.com/wp-content/uploads/2023/01/DnD_Swath_Scndry_Center_V1_L_RGB.png
END:VEVENT
BEGIN:VEVENT
DTSTART;TZID=America/New_York:20290704T170000
DTEND;TZID=America/New_York:20290704T220000
DTSTAMP:20260425T234151
CREATED:20250916T170609Z
LAST-MODIFIED:20250927T115358Z
UID:10016540-1877878800-1877896800@gamemasterspgh.com
SUMMARY:Sarah's Daggerheart
DESCRIPTION:Biweekly meeting of the Daggerheart campaign
URL:https://gamemasterspgh.com/event/sarah-daggerheart/2029-07-04/
LOCATION:Regular Table\, 398 Perry Hwy\, Pittsburgh\, PA\, 15229\, United States
CATEGORIES:Closed,Tavern Table
ORGANIZER;CN="Sarah Holzapfel":MAILTO:sarah.j.holzapfel@gmail.com
END:VEVENT
BEGIN:VEVENT
DTSTART;TZID=America/New_York:20290710T183000
DTEND;TZID=America/New_York:20290710T220000
DTSTAMP:20260425T234151
CREATED:20250918T123730Z
LAST-MODIFIED:20250925T175734Z
UID:10016407-1878402600-1878415200@gamemasterspgh.com
SUMMARY:Tracie's Daggerheart Game
DESCRIPTION:Tracie runs a Daggerheart game every other Tuesday. \nPlaying on the tavern table.
URL:https://gamemasterspgh.com/event/tracies-daggerheart-game/2029-07-10/
LOCATION:Tavern Table\, 398 Perry Hwy\, Pittsburgh\, PA\, 15229\, United States
CATEGORIES:Closed,Tavern Table
ATTACH;FMTTYPE=image/jpeg:https://gamemasterspgh.com/wp-content/uploads/2025/09/daggerheart-banner.jpg
END:VEVENT
BEGIN:VEVENT
DTSTART;TZID=America/New_York:20290712T180000
DTEND;TZID=America/New_York:20290712T220000
DTSTAMP:20260425T234151
CREATED:20230126T132017Z
LAST-MODIFIED:20251229T030314Z
UID:10007545-1878573600-1878588000@gamemasterspgh.com
SUMMARY:D&D 5E - Adventurers League
DESCRIPTION:Join us on the Discord channel – for regular updates. \nJoin the Discord Server! \n\nD&D Adventurers League is a setup for beginners new to the system and veterans of it alike! \nThe D&D Adventurers League is an ongoing official campaign for Dungeons & Dragons. It uses the fifth edition Dungeons & Dragons rules\, and features the Forgotten Realms setting. You can play D&D Adventurers League games literally anywhere. Players use the fifth edition rules to create a character and bring that character to games anywhere D&D Adventurers League play is happening. \nFor more information check out the D&D website – https://dnd.wizards.com/adventurers-league \nRemember to join the Discord channel!
URL:https://gamemasterspgh.com/event/dnd5e-adventurers-league/2029-07-12/
LOCATION:Regular Table\, 398 Perry Hwy\, Pittsburgh\, PA\, 15229\, United States
CATEGORIES:Open,Tavern Table
ATTACH;FMTTYPE=image/png:https://gamemasterspgh.com/wp-content/uploads/2023/01/DnD_Swath_Scndry_Center_V1_L_RGB.png
END:VEVENT
BEGIN:VEVENT
DTSTART;TZID=America/New_York:20290718T170000
DTEND;TZID=America/New_York:20290718T220000
DTSTAMP:20260425T234151
CREATED:20250916T170609Z
LAST-MODIFIED:20250927T115358Z
UID:10016541-1879088400-1879106400@gamemasterspgh.com
SUMMARY:Sarah's Daggerheart
DESCRIPTION:Biweekly meeting of the Daggerheart campaign
URL:https://gamemasterspgh.com/event/sarah-daggerheart/2029-07-18/
LOCATION:Regular Table\, 398 Perry Hwy\, Pittsburgh\, PA\, 15229\, United States
CATEGORIES:Closed,Tavern Table
ORGANIZER;CN="Sarah Holzapfel":MAILTO:sarah.j.holzapfel@gmail.com
END:VEVENT
BEGIN:VEVENT
DTSTART;TZID=America/New_York:20290724T183000
DTEND;TZID=America/New_York:20290724T220000
DTSTAMP:20260425T234151
CREATED:20250918T123730Z
LAST-MODIFIED:20250925T175734Z
UID:10016408-1879612200-1879624800@gamemasterspgh.com
SUMMARY:Tracie's Daggerheart Game
DESCRIPTION:Tracie runs a Daggerheart game every other Tuesday. \nPlaying on the tavern table.
URL:https://gamemasterspgh.com/event/tracies-daggerheart-game/2029-07-24/
LOCATION:Tavern Table\, 398 Perry Hwy\, Pittsburgh\, PA\, 15229\, United States
CATEGORIES:Closed,Tavern Table
ATTACH;FMTTYPE=image/jpeg:https://gamemasterspgh.com/wp-content/uploads/2025/09/daggerheart-banner.jpg
END:VEVENT
BEGIN:VEVENT
DTSTART;TZID=America/New_York:20290726T180000
DTEND;TZID=America/New_York:20290726T220000
DTSTAMP:20260425T234151
CREATED:20230126T132017Z
LAST-MODIFIED:20251229T030314Z
UID:10007546-1879783200-1879797600@gamemasterspgh.com
SUMMARY:D&D 5E - Adventurers League
DESCRIPTION:Join us on the Discord channel – for regular updates. \nJoin the Discord Server! \n\nD&D Adventurers League is a setup for beginners new to the system and veterans of it alike! \nThe D&D Adventurers League is an ongoing official campaign for Dungeons & Dragons. It uses the fifth edition Dungeons & Dragons rules\, and features the Forgotten Realms setting. You can play D&D Adventurers League games literally anywhere. Players use the fifth edition rules to create a character and bring that character to games anywhere D&D Adventurers League play is happening. \nFor more information check out the D&D website – https://dnd.wizards.com/adventurers-league \nRemember to join the Discord channel!
URL:https://gamemasterspgh.com/event/dnd5e-adventurers-league/2029-07-26/
LOCATION:Regular Table\, 398 Perry Hwy\, Pittsburgh\, PA\, 15229\, United States
CATEGORIES:Open,Tavern Table
ATTACH;FMTTYPE=image/png:https://gamemasterspgh.com/wp-content/uploads/2023/01/DnD_Swath_Scndry_Center_V1_L_RGB.png
END:VEVENT
BEGIN:VEVENT
DTSTART;TZID=America/New_York:20290801T170000
DTEND;TZID=America/New_York:20290801T220000
DTSTAMP:20260425T234151
CREATED:20250916T170609Z
LAST-MODIFIED:20250927T115358Z
UID:10016542-1880298000-1880316000@gamemasterspgh.com
SUMMARY:Sarah's Daggerheart
DESCRIPTION:Biweekly meeting of the Daggerheart campaign
URL:https://gamemasterspgh.com/event/sarah-daggerheart/2029-08-01/
LOCATION:Regular Table\, 398 Perry Hwy\, Pittsburgh\, PA\, 15229\, United States
CATEGORIES:Closed,Tavern Table
ORGANIZER;CN="Sarah Holzapfel":MAILTO:sarah.j.holzapfel@gmail.com
END:VEVENT
BEGIN:VEVENT
DTSTART;TZID=America/New_York:20290807T183000
DTEND;TZID=America/New_York:20290807T220000
DTSTAMP:20260425T234151
CREATED:20250918T123730Z
LAST-MODIFIED:20250925T175734Z
UID:10016409-1880821800-1880834400@gamemasterspgh.com
SUMMARY:Tracie's Daggerheart Game
DESCRIPTION:Tracie runs a Daggerheart game every other Tuesday. \nPlaying on the tavern table.
URL:https://gamemasterspgh.com/event/tracies-daggerheart-game/2029-08-07/
LOCATION:Tavern Table\, 398 Perry Hwy\, Pittsburgh\, PA\, 15229\, United States
CATEGORIES:Closed,Tavern Table
ATTACH;FMTTYPE=image/jpeg:https://gamemasterspgh.com/wp-content/uploads/2025/09/daggerheart-banner.jpg
END:VEVENT
BEGIN:VEVENT
DTSTART;TZID=America/New_York:20290809T180000
DTEND;TZID=America/New_York:20290809T220000
DTSTAMP:20260425T234151
CREATED:20230126T132017Z
LAST-MODIFIED:20251229T030314Z
UID:10007547-1880992800-1881007200@gamemasterspgh.com
SUMMARY:D&D 5E - Adventurers League
DESCRIPTION:Join us on the Discord channel – for regular updates. \nJoin the Discord Server! \n\nD&D Adventurers League is a setup for beginners new to the system and veterans of it alike! \nThe D&D Adventurers League is an ongoing official campaign for Dungeons & Dragons. It uses the fifth edition Dungeons & Dragons rules\, and features the Forgotten Realms setting. You can play D&D Adventurers League games literally anywhere. Players use the fifth edition rules to create a character and bring that character to games anywhere D&D Adventurers League play is happening. \nFor more information check out the D&D website – https://dnd.wizards.com/adventurers-league \nRemember to join the Discord channel!
URL:https://gamemasterspgh.com/event/dnd5e-adventurers-league/2029-08-09/
LOCATION:Regular Table\, 398 Perry Hwy\, Pittsburgh\, PA\, 15229\, United States
CATEGORIES:Open,Tavern Table
ATTACH;FMTTYPE=image/png:https://gamemasterspgh.com/wp-content/uploads/2023/01/DnD_Swath_Scndry_Center_V1_L_RGB.png
END:VEVENT
BEGIN:VEVENT
DTSTART;TZID=America/New_York:20290815T170000
DTEND;TZID=America/New_York:20290815T220000
DTSTAMP:20260425T234151
CREATED:20250916T170609Z
LAST-MODIFIED:20250927T115358Z
UID:10016543-1881507600-1881525600@gamemasterspgh.com
SUMMARY:Sarah's Daggerheart
DESCRIPTION:Biweekly meeting of the Daggerheart campaign
URL:https://gamemasterspgh.com/event/sarah-daggerheart/2029-08-15/
LOCATION:Regular Table\, 398 Perry Hwy\, Pittsburgh\, PA\, 15229\, United States
CATEGORIES:Closed,Tavern Table
ORGANIZER;CN="Sarah Holzapfel":MAILTO:sarah.j.holzapfel@gmail.com
END:VEVENT
BEGIN:VEVENT
DTSTART;TZID=America/New_York:20290821T183000
DTEND;TZID=America/New_York:20290821T220000
DTSTAMP:20260425T234151
CREATED:20250918T123730Z
LAST-MODIFIED:20250925T175734Z
UID:10016410-1882031400-1882044000@gamemasterspgh.com
SUMMARY:Tracie's Daggerheart Game
DESCRIPTION:Tracie runs a Daggerheart game every other Tuesday. \nPlaying on the tavern table.
URL:https://gamemasterspgh.com/event/tracies-daggerheart-game/2029-08-21/
LOCATION:Tavern Table\, 398 Perry Hwy\, Pittsburgh\, PA\, 15229\, United States
CATEGORIES:Closed,Tavern Table
ATTACH;FMTTYPE=image/jpeg:https://gamemasterspgh.com/wp-content/uploads/2025/09/daggerheart-banner.jpg
END:VEVENT
BEGIN:VEVENT
DTSTART;TZID=America/New_York:20290823T180000
DTEND;TZID=America/New_York:20290823T220000
DTSTAMP:20260425T234151
CREATED:20230126T132017Z
LAST-MODIFIED:20251229T030314Z
UID:10007548-1882202400-1882216800@gamemasterspgh.com
SUMMARY:D&D 5E - Adventurers League
DESCRIPTION:Join us on the Discord channel – for regular updates. \nJoin the Discord Server! \n\nD&D Adventurers League is a setup for beginners new to the system and veterans of it alike! \nThe D&D Adventurers League is an ongoing official campaign for Dungeons & Dragons. It uses the fifth edition Dungeons & Dragons rules\, and features the Forgotten Realms setting. You can play D&D Adventurers League games literally anywhere. Players use the fifth edition rules to create a character and bring that character to games anywhere D&D Adventurers League play is happening. \nFor more information check out the D&D website – https://dnd.wizards.com/adventurers-league \nRemember to join the Discord channel!
URL:https://gamemasterspgh.com/event/dnd5e-adventurers-league/2029-08-23/
LOCATION:Regular Table\, 398 Perry Hwy\, Pittsburgh\, PA\, 15229\, United States
CATEGORIES:Open,Tavern Table
ATTACH;FMTTYPE=image/png:https://gamemasterspgh.com/wp-content/uploads/2023/01/DnD_Swath_Scndry_Center_V1_L_RGB.png
END:VEVENT
BEGIN:VEVENT
DTSTART;TZID=America/New_York:20290829T170000
DTEND;TZID=America/New_York:20290829T220000
DTSTAMP:20260425T234151
CREATED:20250916T170609Z
LAST-MODIFIED:20250927T115358Z
UID:10016544-1882717200-1882735200@gamemasterspgh.com
SUMMARY:Sarah's Daggerheart
DESCRIPTION:Biweekly meeting of the Daggerheart campaign
URL:https://gamemasterspgh.com/event/sarah-daggerheart/2029-08-29/
LOCATION:Regular Table\, 398 Perry Hwy\, Pittsburgh\, PA\, 15229\, United States
CATEGORIES:Closed,Tavern Table
ORGANIZER;CN="Sarah Holzapfel":MAILTO:sarah.j.holzapfel@gmail.com
END:VEVENT
BEGIN:VEVENT
DTSTART;TZID=America/New_York:20290904T183000
DTEND;TZID=America/New_York:20290904T220000
DTSTAMP:20260425T234151
CREATED:20250918T123730Z
LAST-MODIFIED:20250925T175734Z
UID:10016411-1883241000-1883253600@gamemasterspgh.com
SUMMARY:Tracie's Daggerheart Game
DESCRIPTION:Tracie runs a Daggerheart game every other Tuesday. \nPlaying on the tavern table.
URL:https://gamemasterspgh.com/event/tracies-daggerheart-game/2029-09-04/
LOCATION:Tavern Table\, 398 Perry Hwy\, Pittsburgh\, PA\, 15229\, United States
CATEGORIES:Closed,Tavern Table
ATTACH;FMTTYPE=image/jpeg:https://gamemasterspgh.com/wp-content/uploads/2025/09/daggerheart-banner.jpg
END:VEVENT
BEGIN:VEVENT
DTSTART;TZID=America/New_York:20290906T180000
DTEND;TZID=America/New_York:20290906T220000
DTSTAMP:20260425T234151
CREATED:20230126T132017Z
LAST-MODIFIED:20251229T030314Z
UID:10007549-1883412000-1883426400@gamemasterspgh.com
SUMMARY:D&D 5E - Adventurers League
DESCRIPTION:Join us on the Discord channel – for regular updates. \nJoin the Discord Server! \n\nD&D Adventurers League is a setup for beginners new to the system and veterans of it alike! \nThe D&D Adventurers League is an ongoing official campaign for Dungeons & Dragons. It uses the fifth edition Dungeons & Dragons rules\, and features the Forgotten Realms setting. You can play D&D Adventurers League games literally anywhere. Players use the fifth edition rules to create a character and bring that character to games anywhere D&D Adventurers League play is happening. \nFor more information check out the D&D website – https://dnd.wizards.com/adventurers-league \nRemember to join the Discord channel!
URL:https://gamemasterspgh.com/event/dnd5e-adventurers-league/2029-09-06/
LOCATION:Regular Table\, 398 Perry Hwy\, Pittsburgh\, PA\, 15229\, United States
CATEGORIES:Open,Tavern Table
ATTACH;FMTTYPE=image/png:https://gamemasterspgh.com/wp-content/uploads/2023/01/DnD_Swath_Scndry_Center_V1_L_RGB.png
END:VEVENT
BEGIN:VEVENT
DTSTART;TZID=America/New_York:20290912T170000
DTEND;TZID=America/New_York:20290912T220000
DTSTAMP:20260425T234151
CREATED:20250916T170609Z
LAST-MODIFIED:20250927T115358Z
UID:10016545-1883926800-1883944800@gamemasterspgh.com
SUMMARY:Sarah's Daggerheart
DESCRIPTION:Biweekly meeting of the Daggerheart campaign
URL:https://gamemasterspgh.com/event/sarah-daggerheart/2029-09-12/
LOCATION:Regular Table\, 398 Perry Hwy\, Pittsburgh\, PA\, 15229\, United States
CATEGORIES:Closed,Tavern Table
ORGANIZER;CN="Sarah Holzapfel":MAILTO:sarah.j.holzapfel@gmail.com
END:VEVENT
BEGIN:VEVENT
DTSTART;TZID=America/New_York:20290918T183000
DTEND;TZID=America/New_York:20290918T220000
DTSTAMP:20260425T234151
CREATED:20250918T123730Z
LAST-MODIFIED:20250925T175734Z
UID:10016412-1884450600-1884463200@gamemasterspgh.com
SUMMARY:Tracie's Daggerheart Game
DESCRIPTION:Tracie runs a Daggerheart game every other Tuesday. \nPlaying on the tavern table.
URL:https://gamemasterspgh.com/event/tracies-daggerheart-game/2029-09-18/
LOCATION:Tavern Table\, 398 Perry Hwy\, Pittsburgh\, PA\, 15229\, United States
CATEGORIES:Closed,Tavern Table
ATTACH;FMTTYPE=image/jpeg:https://gamemasterspgh.com/wp-content/uploads/2025/09/daggerheart-banner.jpg
END:VEVENT
BEGIN:VEVENT
DTSTART;TZID=America/New_York:20290920T180000
DTEND;TZID=America/New_York:20290920T220000
DTSTAMP:20260425T234151
CREATED:20230126T132017Z
LAST-MODIFIED:20251229T030314Z
UID:10008002-1884621600-1884636000@gamemasterspgh.com
SUMMARY:D&D 5E - Adventurers League
DESCRIPTION:Join us on the Discord channel – for regular updates. \nJoin the Discord Server! \n\nD&D Adventurers League is a setup for beginners new to the system and veterans of it alike! \nThe D&D Adventurers League is an ongoing official campaign for Dungeons & Dragons. It uses the fifth edition Dungeons & Dragons rules\, and features the Forgotten Realms setting. You can play D&D Adventurers League games literally anywhere. Players use the fifth edition rules to create a character and bring that character to games anywhere D&D Adventurers League play is happening. \nFor more information check out the D&D website – https://dnd.wizards.com/adventurers-league \nRemember to join the Discord channel!
URL:https://gamemasterspgh.com/event/dnd5e-adventurers-league/2029-09-20/
LOCATION:Regular Table\, 398 Perry Hwy\, Pittsburgh\, PA\, 15229\, United States
CATEGORIES:Open,Tavern Table
ATTACH;FMTTYPE=image/png:https://gamemasterspgh.com/wp-content/uploads/2023/01/DnD_Swath_Scndry_Center_V1_L_RGB.png
END:VEVENT
BEGIN:VEVENT
DTSTART;TZID=America/New_York:20290926T170000
DTEND;TZID=America/New_York:20290926T220000
DTSTAMP:20260425T234151
CREATED:20250916T170609Z
LAST-MODIFIED:20250927T115358Z
UID:10016546-1885136400-1885154400@gamemasterspgh.com
SUMMARY:Sarah's Daggerheart
DESCRIPTION:Biweekly meeting of the Daggerheart campaign
URL:https://gamemasterspgh.com/event/sarah-daggerheart/2029-09-26/
LOCATION:Regular Table\, 398 Perry Hwy\, Pittsburgh\, PA\, 15229\, United States
CATEGORIES:Closed,Tavern Table
ORGANIZER;CN="Sarah Holzapfel":MAILTO:sarah.j.holzapfel@gmail.com
END:VEVENT
BEGIN:VEVENT
DTSTART;TZID=America/New_York:20291002T183000
DTEND;TZID=America/New_York:20291002T220000
DTSTAMP:20260425T234151
CREATED:20250918T123730Z
LAST-MODIFIED:20250925T175734Z
UID:10016413-1885660200-1885672800@gamemasterspgh.com
SUMMARY:Tracie's Daggerheart Game
DESCRIPTION:Tracie runs a Daggerheart game every other Tuesday. \nPlaying on the tavern table.
URL:https://gamemasterspgh.com/event/tracies-daggerheart-game/2029-10-02/
LOCATION:Tavern Table\, 398 Perry Hwy\, Pittsburgh\, PA\, 15229\, United States
CATEGORIES:Closed,Tavern Table
ATTACH;FMTTYPE=image/jpeg:https://gamemasterspgh.com/wp-content/uploads/2025/09/daggerheart-banner.jpg
END:VEVENT
END:VCALENDAR