BEGIN:VCALENDAR
VERSION:2.0
PRODID:-//Game Masters - ECPv6.15.20//NONSGML v1.0//EN
CALSCALE:GREGORIAN
METHOD:PUBLISH
X-WR-CALNAME:Game Masters
X-ORIGINAL-URL:https://gamemasterspgh.com
X-WR-CALDESC:Events for Game Masters
REFRESH-INTERVAL;VALUE=DURATION:PT1H
X-Robots-Tag:noindex
X-PUBLISHED-TTL:PT1H
BEGIN:VTIMEZONE
TZID:America/New_York
BEGIN:DAYLIGHT
TZOFFSETFROM:-0500
TZOFFSETTO:-0400
TZNAME:EDT
DTSTART:20280312T070000
END:DAYLIGHT
BEGIN:STANDARD
TZOFFSETFROM:-0400
TZOFFSETTO:-0500
TZNAME:EST
DTSTART:20281105T060000
END:STANDARD
BEGIN:DAYLIGHT
TZOFFSETFROM:-0500
TZOFFSETTO:-0400
TZNAME:EDT
DTSTART:20290311T070000
END:DAYLIGHT
BEGIN:STANDARD
TZOFFSETFROM:-0400
TZOFFSETTO:-0500
TZNAME:EST
DTSTART:20291104T060000
END:STANDARD
BEGIN:DAYLIGHT
TZOFFSETFROM:-0500
TZOFFSETTO:-0400
TZNAME:EDT
DTSTART:20300310T070000
END:DAYLIGHT
BEGIN:STANDARD
TZOFFSETFROM:-0400
TZOFFSETTO:-0500
TZNAME:EST
DTSTART:20301103T060000
END:STANDARD
END:VTIMEZONE
BEGIN:VEVENT
DTSTART;TZID=America/New_York:20290214T170000
DTEND;TZID=America/New_York:20290214T220000
DTSTAMP:20260425T220741
CREATED:20250916T170609Z
LAST-MODIFIED:20250927T115358Z
UID:10016530-1865782800-1865800800@gamemasterspgh.com
SUMMARY:Sarah's Daggerheart
DESCRIPTION:Biweekly meeting of the Daggerheart campaign
URL:https://gamemasterspgh.com/event/sarah-daggerheart/2029-02-14/
LOCATION:Regular Table\, 398 Perry Hwy\, Pittsburgh\, PA\, 15229\, United States
CATEGORIES:Closed,Tavern Table
ORGANIZER;CN="Sarah Holzapfel":MAILTO:sarah.j.holzapfel@gmail.com
END:VEVENT
BEGIN:VEVENT
DTSTART;TZID=America/New_York:20290220T183000
DTEND;TZID=America/New_York:20290220T220000
DTSTAMP:20260425T220741
CREATED:20250918T123730Z
LAST-MODIFIED:20250925T175734Z
UID:10016397-1866306600-1866319200@gamemasterspgh.com
SUMMARY:Tracie's Daggerheart Game
DESCRIPTION:Tracie runs a Daggerheart game every other Tuesday. \nPlaying on the tavern table.
URL:https://gamemasterspgh.com/event/tracies-daggerheart-game/2029-02-20/
LOCATION:Tavern Table\, 398 Perry Hwy\, Pittsburgh\, PA\, 15229\, United States
CATEGORIES:Closed,Tavern Table
ATTACH;FMTTYPE=image/jpeg:https://gamemasterspgh.com/wp-content/uploads/2025/09/daggerheart-banner.jpg
END:VEVENT
BEGIN:VEVENT
DTSTART;TZID=America/New_York:20290222T180000
DTEND;TZID=America/New_York:20290222T220000
DTSTAMP:20260425T220741
CREATED:20230126T132017Z
LAST-MODIFIED:20251229T030314Z
UID:10005324-1866477600-1866492000@gamemasterspgh.com
SUMMARY:D&D 5E - Adventurers League
DESCRIPTION:Join us on the Discord channel – for regular updates. \nJoin the Discord Server! \n\nD&D Adventurers League is a setup for beginners new to the system and veterans of it alike! \nThe D&D Adventurers League is an ongoing official campaign for Dungeons & Dragons. It uses the fifth edition Dungeons & Dragons rules\, and features the Forgotten Realms setting. You can play D&D Adventurers League games literally anywhere. Players use the fifth edition rules to create a character and bring that character to games anywhere D&D Adventurers League play is happening. \nFor more information check out the D&D website – https://dnd.wizards.com/adventurers-league \nRemember to join the Discord channel!
URL:https://gamemasterspgh.com/event/dnd5e-adventurers-league/2029-02-22/
LOCATION:Regular Table\, 398 Perry Hwy\, Pittsburgh\, PA\, 15229\, United States
CATEGORIES:Open,Tavern Table
ATTACH;FMTTYPE=image/png:https://gamemasterspgh.com/wp-content/uploads/2023/01/DnD_Swath_Scndry_Center_V1_L_RGB.png
END:VEVENT
BEGIN:VEVENT
DTSTART;TZID=America/New_York:20290228T170000
DTEND;TZID=America/New_York:20290228T220000
DTSTAMP:20260425T220741
CREATED:20250916T170609Z
LAST-MODIFIED:20250927T115358Z
UID:10016531-1866992400-1867010400@gamemasterspgh.com
SUMMARY:Sarah's Daggerheart
DESCRIPTION:Biweekly meeting of the Daggerheart campaign
URL:https://gamemasterspgh.com/event/sarah-daggerheart/2029-02-28/
LOCATION:Regular Table\, 398 Perry Hwy\, Pittsburgh\, PA\, 15229\, United States
CATEGORIES:Closed,Tavern Table
ORGANIZER;CN="Sarah Holzapfel":MAILTO:sarah.j.holzapfel@gmail.com
END:VEVENT
BEGIN:VEVENT
DTSTART;TZID=America/New_York:20290306T183000
DTEND;TZID=America/New_York:20290306T220000
DTSTAMP:20260425T220741
CREATED:20250918T123730Z
LAST-MODIFIED:20250925T175734Z
UID:10016398-1867516200-1867528800@gamemasterspgh.com
SUMMARY:Tracie's Daggerheart Game
DESCRIPTION:Tracie runs a Daggerheart game every other Tuesday. \nPlaying on the tavern table.
URL:https://gamemasterspgh.com/event/tracies-daggerheart-game/2029-03-06/
LOCATION:Tavern Table\, 398 Perry Hwy\, Pittsburgh\, PA\, 15229\, United States
CATEGORIES:Closed,Tavern Table
ATTACH;FMTTYPE=image/jpeg:https://gamemasterspgh.com/wp-content/uploads/2025/09/daggerheart-banner.jpg
END:VEVENT
BEGIN:VEVENT
DTSTART;TZID=America/New_York:20290308T180000
DTEND;TZID=America/New_York:20290308T220000
DTSTAMP:20260425T220741
CREATED:20230126T132017Z
LAST-MODIFIED:20251229T030314Z
UID:10005325-1867687200-1867701600@gamemasterspgh.com
SUMMARY:D&D 5E - Adventurers League
DESCRIPTION:Join us on the Discord channel – for regular updates. \nJoin the Discord Server! \n\nD&D Adventurers League is a setup for beginners new to the system and veterans of it alike! \nThe D&D Adventurers League is an ongoing official campaign for Dungeons & Dragons. It uses the fifth edition Dungeons & Dragons rules\, and features the Forgotten Realms setting. You can play D&D Adventurers League games literally anywhere. Players use the fifth edition rules to create a character and bring that character to games anywhere D&D Adventurers League play is happening. \nFor more information check out the D&D website – https://dnd.wizards.com/adventurers-league \nRemember to join the Discord channel!
URL:https://gamemasterspgh.com/event/dnd5e-adventurers-league/2029-03-08/
LOCATION:Regular Table\, 398 Perry Hwy\, Pittsburgh\, PA\, 15229\, United States
CATEGORIES:Open,Tavern Table
ATTACH;FMTTYPE=image/png:https://gamemasterspgh.com/wp-content/uploads/2023/01/DnD_Swath_Scndry_Center_V1_L_RGB.png
END:VEVENT
BEGIN:VEVENT
DTSTART;TZID=America/New_York:20290314T170000
DTEND;TZID=America/New_York:20290314T220000
DTSTAMP:20260425T220741
CREATED:20250916T170609Z
LAST-MODIFIED:20250927T115358Z
UID:10016532-1868202000-1868220000@gamemasterspgh.com
SUMMARY:Sarah's Daggerheart
DESCRIPTION:Biweekly meeting of the Daggerheart campaign
URL:https://gamemasterspgh.com/event/sarah-daggerheart/2029-03-14/
LOCATION:Regular Table\, 398 Perry Hwy\, Pittsburgh\, PA\, 15229\, United States
CATEGORIES:Closed,Tavern Table
ORGANIZER;CN="Sarah Holzapfel":MAILTO:sarah.j.holzapfel@gmail.com
END:VEVENT
BEGIN:VEVENT
DTSTART;TZID=America/New_York:20290320T183000
DTEND;TZID=America/New_York:20290320T220000
DTSTAMP:20260425T220741
CREATED:20250918T123730Z
LAST-MODIFIED:20250925T175734Z
UID:10016399-1868725800-1868738400@gamemasterspgh.com
SUMMARY:Tracie's Daggerheart Game
DESCRIPTION:Tracie runs a Daggerheart game every other Tuesday. \nPlaying on the tavern table.
URL:https://gamemasterspgh.com/event/tracies-daggerheart-game/2029-03-20/
LOCATION:Tavern Table\, 398 Perry Hwy\, Pittsburgh\, PA\, 15229\, United States
CATEGORIES:Closed,Tavern Table
ATTACH;FMTTYPE=image/jpeg:https://gamemasterspgh.com/wp-content/uploads/2025/09/daggerheart-banner.jpg
END:VEVENT
BEGIN:VEVENT
DTSTART;TZID=America/New_York:20290322T180000
DTEND;TZID=America/New_York:20290322T220000
DTSTAMP:20260425T220741
CREATED:20230126T132017Z
LAST-MODIFIED:20251229T030314Z
UID:10005326-1868896800-1868911200@gamemasterspgh.com
SUMMARY:D&D 5E - Adventurers League
DESCRIPTION:Join us on the Discord channel – for regular updates. \nJoin the Discord Server! \n\nD&D Adventurers League is a setup for beginners new to the system and veterans of it alike! \nThe D&D Adventurers League is an ongoing official campaign for Dungeons & Dragons. It uses the fifth edition Dungeons & Dragons rules\, and features the Forgotten Realms setting. You can play D&D Adventurers League games literally anywhere. Players use the fifth edition rules to create a character and bring that character to games anywhere D&D Adventurers League play is happening. \nFor more information check out the D&D website – https://dnd.wizards.com/adventurers-league \nRemember to join the Discord channel!
URL:https://gamemasterspgh.com/event/dnd5e-adventurers-league/2029-03-22/
LOCATION:Regular Table\, 398 Perry Hwy\, Pittsburgh\, PA\, 15229\, United States
CATEGORIES:Open,Tavern Table
ATTACH;FMTTYPE=image/png:https://gamemasterspgh.com/wp-content/uploads/2023/01/DnD_Swath_Scndry_Center_V1_L_RGB.png
END:VEVENT
BEGIN:VEVENT
DTSTART;TZID=America/New_York:20290328T170000
DTEND;TZID=America/New_York:20290328T220000
DTSTAMP:20260425T220741
CREATED:20250916T170609Z
LAST-MODIFIED:20250927T115358Z
UID:10016533-1869411600-1869429600@gamemasterspgh.com
SUMMARY:Sarah's Daggerheart
DESCRIPTION:Biweekly meeting of the Daggerheart campaign
URL:https://gamemasterspgh.com/event/sarah-daggerheart/2029-03-28/
LOCATION:Regular Table\, 398 Perry Hwy\, Pittsburgh\, PA\, 15229\, United States
CATEGORIES:Closed,Tavern Table
ORGANIZER;CN="Sarah Holzapfel":MAILTO:sarah.j.holzapfel@gmail.com
END:VEVENT
BEGIN:VEVENT
DTSTART;TZID=America/New_York:20290403T183000
DTEND;TZID=America/New_York:20290403T220000
DTSTAMP:20260425T220741
CREATED:20250918T123730Z
LAST-MODIFIED:20250925T175734Z
UID:10016400-1869935400-1869948000@gamemasterspgh.com
SUMMARY:Tracie's Daggerheart Game
DESCRIPTION:Tracie runs a Daggerheart game every other Tuesday. \nPlaying on the tavern table.
URL:https://gamemasterspgh.com/event/tracies-daggerheart-game/2029-04-03/
LOCATION:Tavern Table\, 398 Perry Hwy\, Pittsburgh\, PA\, 15229\, United States
CATEGORIES:Closed,Tavern Table
ATTACH;FMTTYPE=image/jpeg:https://gamemasterspgh.com/wp-content/uploads/2025/09/daggerheart-banner.jpg
END:VEVENT
BEGIN:VEVENT
DTSTART;TZID=America/New_York:20290405T180000
DTEND;TZID=America/New_York:20290405T220000
DTSTAMP:20260425T220741
CREATED:20230126T132017Z
LAST-MODIFIED:20251229T030314Z
UID:10005327-1870106400-1870120800@gamemasterspgh.com
SUMMARY:D&D 5E - Adventurers League
DESCRIPTION:Join us on the Discord channel – for regular updates. \nJoin the Discord Server! \n\nD&D Adventurers League is a setup for beginners new to the system and veterans of it alike! \nThe D&D Adventurers League is an ongoing official campaign for Dungeons & Dragons. It uses the fifth edition Dungeons & Dragons rules\, and features the Forgotten Realms setting. You can play D&D Adventurers League games literally anywhere. Players use the fifth edition rules to create a character and bring that character to games anywhere D&D Adventurers League play is happening. \nFor more information check out the D&D website – https://dnd.wizards.com/adventurers-league \nRemember to join the Discord channel!
URL:https://gamemasterspgh.com/event/dnd5e-adventurers-league/2029-04-05/
LOCATION:Regular Table\, 398 Perry Hwy\, Pittsburgh\, PA\, 15229\, United States
CATEGORIES:Open,Tavern Table
ATTACH;FMTTYPE=image/png:https://gamemasterspgh.com/wp-content/uploads/2023/01/DnD_Swath_Scndry_Center_V1_L_RGB.png
END:VEVENT
BEGIN:VEVENT
DTSTART;TZID=America/New_York:20290411T170000
DTEND;TZID=America/New_York:20290411T220000
DTSTAMP:20260425T220742
CREATED:20250916T170609Z
LAST-MODIFIED:20250927T115358Z
UID:10016534-1870621200-1870639200@gamemasterspgh.com
SUMMARY:Sarah's Daggerheart
DESCRIPTION:Biweekly meeting of the Daggerheart campaign
URL:https://gamemasterspgh.com/event/sarah-daggerheart/2029-04-11/
LOCATION:Regular Table\, 398 Perry Hwy\, Pittsburgh\, PA\, 15229\, United States
CATEGORIES:Closed,Tavern Table
ORGANIZER;CN="Sarah Holzapfel":MAILTO:sarah.j.holzapfel@gmail.com
END:VEVENT
BEGIN:VEVENT
DTSTART;TZID=America/New_York:20290417T183000
DTEND;TZID=America/New_York:20290417T220000
DTSTAMP:20260425T220742
CREATED:20250918T123730Z
LAST-MODIFIED:20250925T175734Z
UID:10016401-1871145000-1871157600@gamemasterspgh.com
SUMMARY:Tracie's Daggerheart Game
DESCRIPTION:Tracie runs a Daggerheart game every other Tuesday. \nPlaying on the tavern table.
URL:https://gamemasterspgh.com/event/tracies-daggerheart-game/2029-04-17/
LOCATION:Tavern Table\, 398 Perry Hwy\, Pittsburgh\, PA\, 15229\, United States
CATEGORIES:Closed,Tavern Table
ATTACH;FMTTYPE=image/jpeg:https://gamemasterspgh.com/wp-content/uploads/2025/09/daggerheart-banner.jpg
END:VEVENT
BEGIN:VEVENT
DTSTART;TZID=America/New_York:20290419T180000
DTEND;TZID=America/New_York:20290419T220000
DTSTAMP:20260425T220742
CREATED:20230126T132017Z
LAST-MODIFIED:20251229T030314Z
UID:10007290-1871316000-1871330400@gamemasterspgh.com
SUMMARY:D&D 5E - Adventurers League
DESCRIPTION:Join us on the Discord channel – for regular updates. \nJoin the Discord Server! \n\nD&D Adventurers League is a setup for beginners new to the system and veterans of it alike! \nThe D&D Adventurers League is an ongoing official campaign for Dungeons & Dragons. It uses the fifth edition Dungeons & Dragons rules\, and features the Forgotten Realms setting. You can play D&D Adventurers League games literally anywhere. Players use the fifth edition rules to create a character and bring that character to games anywhere D&D Adventurers League play is happening. \nFor more information check out the D&D website – https://dnd.wizards.com/adventurers-league \nRemember to join the Discord channel!
URL:https://gamemasterspgh.com/event/dnd5e-adventurers-league/2029-04-19/
LOCATION:Regular Table\, 398 Perry Hwy\, Pittsburgh\, PA\, 15229\, United States
CATEGORIES:Open,Tavern Table
ATTACH;FMTTYPE=image/png:https://gamemasterspgh.com/wp-content/uploads/2023/01/DnD_Swath_Scndry_Center_V1_L_RGB.png
END:VEVENT
BEGIN:VEVENT
DTSTART;TZID=America/New_York:20290425T170000
DTEND;TZID=America/New_York:20290425T220000
DTSTAMP:20260425T220742
CREATED:20250916T170609Z
LAST-MODIFIED:20250927T115358Z
UID:10016535-1871830800-1871848800@gamemasterspgh.com
SUMMARY:Sarah's Daggerheart
DESCRIPTION:Biweekly meeting of the Daggerheart campaign
URL:https://gamemasterspgh.com/event/sarah-daggerheart/2029-04-25/
LOCATION:Regular Table\, 398 Perry Hwy\, Pittsburgh\, PA\, 15229\, United States
CATEGORIES:Closed,Tavern Table
ORGANIZER;CN="Sarah Holzapfel":MAILTO:sarah.j.holzapfel@gmail.com
END:VEVENT
BEGIN:VEVENT
DTSTART;TZID=America/New_York:20290501T183000
DTEND;TZID=America/New_York:20290501T220000
DTSTAMP:20260425T220742
CREATED:20250918T123730Z
LAST-MODIFIED:20250925T175734Z
UID:10016402-1872354600-1872367200@gamemasterspgh.com
SUMMARY:Tracie's Daggerheart Game
DESCRIPTION:Tracie runs a Daggerheart game every other Tuesday. \nPlaying on the tavern table.
URL:https://gamemasterspgh.com/event/tracies-daggerheart-game/2029-05-01/
LOCATION:Tavern Table\, 398 Perry Hwy\, Pittsburgh\, PA\, 15229\, United States
CATEGORIES:Closed,Tavern Table
ATTACH;FMTTYPE=image/jpeg:https://gamemasterspgh.com/wp-content/uploads/2025/09/daggerheart-banner.jpg
END:VEVENT
BEGIN:VEVENT
DTSTART;TZID=America/New_York:20290503T180000
DTEND;TZID=America/New_York:20290503T220000
DTSTAMP:20260425T220742
CREATED:20230126T132017Z
LAST-MODIFIED:20251229T030314Z
UID:10007291-1872525600-1872540000@gamemasterspgh.com
SUMMARY:D&D 5E - Adventurers League
DESCRIPTION:Join us on the Discord channel – for regular updates. \nJoin the Discord Server! \n\nD&D Adventurers League is a setup for beginners new to the system and veterans of it alike! \nThe D&D Adventurers League is an ongoing official campaign for Dungeons & Dragons. It uses the fifth edition Dungeons & Dragons rules\, and features the Forgotten Realms setting. You can play D&D Adventurers League games literally anywhere. Players use the fifth edition rules to create a character and bring that character to games anywhere D&D Adventurers League play is happening. \nFor more information check out the D&D website – https://dnd.wizards.com/adventurers-league \nRemember to join the Discord channel!
URL:https://gamemasterspgh.com/event/dnd5e-adventurers-league/2029-05-03/
LOCATION:Regular Table\, 398 Perry Hwy\, Pittsburgh\, PA\, 15229\, United States
CATEGORIES:Open,Tavern Table
ATTACH;FMTTYPE=image/png:https://gamemasterspgh.com/wp-content/uploads/2023/01/DnD_Swath_Scndry_Center_V1_L_RGB.png
END:VEVENT
BEGIN:VEVENT
DTSTART;TZID=America/New_York:20290509T170000
DTEND;TZID=America/New_York:20290509T220000
DTSTAMP:20260425T220742
CREATED:20250916T170609Z
LAST-MODIFIED:20250927T115358Z
UID:10016536-1873040400-1873058400@gamemasterspgh.com
SUMMARY:Sarah's Daggerheart
DESCRIPTION:Biweekly meeting of the Daggerheart campaign
URL:https://gamemasterspgh.com/event/sarah-daggerheart/2029-05-09/
LOCATION:Regular Table\, 398 Perry Hwy\, Pittsburgh\, PA\, 15229\, United States
CATEGORIES:Closed,Tavern Table
ORGANIZER;CN="Sarah Holzapfel":MAILTO:sarah.j.holzapfel@gmail.com
END:VEVENT
BEGIN:VEVENT
DTSTART;TZID=America/New_York:20290515T183000
DTEND;TZID=America/New_York:20290515T220000
DTSTAMP:20260425T220742
CREATED:20250918T123730Z
LAST-MODIFIED:20250925T175734Z
UID:10016403-1873564200-1873576800@gamemasterspgh.com
SUMMARY:Tracie's Daggerheart Game
DESCRIPTION:Tracie runs a Daggerheart game every other Tuesday. \nPlaying on the tavern table.
URL:https://gamemasterspgh.com/event/tracies-daggerheart-game/2029-05-15/
LOCATION:Tavern Table\, 398 Perry Hwy\, Pittsburgh\, PA\, 15229\, United States
CATEGORIES:Closed,Tavern Table
ATTACH;FMTTYPE=image/jpeg:https://gamemasterspgh.com/wp-content/uploads/2025/09/daggerheart-banner.jpg
END:VEVENT
BEGIN:VEVENT
DTSTART;TZID=America/New_York:20290517T180000
DTEND;TZID=America/New_York:20290517T220000
DTSTAMP:20260425T220742
CREATED:20230126T132017Z
LAST-MODIFIED:20251229T030314Z
UID:10007292-1873735200-1873749600@gamemasterspgh.com
SUMMARY:D&D 5E - Adventurers League
DESCRIPTION:Join us on the Discord channel – for regular updates. \nJoin the Discord Server! \n\nD&D Adventurers League is a setup for beginners new to the system and veterans of it alike! \nThe D&D Adventurers League is an ongoing official campaign for Dungeons & Dragons. It uses the fifth edition Dungeons & Dragons rules\, and features the Forgotten Realms setting. You can play D&D Adventurers League games literally anywhere. Players use the fifth edition rules to create a character and bring that character to games anywhere D&D Adventurers League play is happening. \nFor more information check out the D&D website – https://dnd.wizards.com/adventurers-league \nRemember to join the Discord channel!
URL:https://gamemasterspgh.com/event/dnd5e-adventurers-league/2029-05-17/
LOCATION:Regular Table\, 398 Perry Hwy\, Pittsburgh\, PA\, 15229\, United States
CATEGORIES:Open,Tavern Table
ATTACH;FMTTYPE=image/png:https://gamemasterspgh.com/wp-content/uploads/2023/01/DnD_Swath_Scndry_Center_V1_L_RGB.png
END:VEVENT
BEGIN:VEVENT
DTSTART;TZID=America/New_York:20290523T170000
DTEND;TZID=America/New_York:20290523T220000
DTSTAMP:20260425T220742
CREATED:20250916T170609Z
LAST-MODIFIED:20250927T115358Z
UID:10016537-1874250000-1874268000@gamemasterspgh.com
SUMMARY:Sarah's Daggerheart
DESCRIPTION:Biweekly meeting of the Daggerheart campaign
URL:https://gamemasterspgh.com/event/sarah-daggerheart/2029-05-23/
LOCATION:Regular Table\, 398 Perry Hwy\, Pittsburgh\, PA\, 15229\, United States
CATEGORIES:Closed,Tavern Table
ORGANIZER;CN="Sarah Holzapfel":MAILTO:sarah.j.holzapfel@gmail.com
END:VEVENT
BEGIN:VEVENT
DTSTART;TZID=America/New_York:20290529T183000
DTEND;TZID=America/New_York:20290529T220000
DTSTAMP:20260425T220742
CREATED:20250918T123730Z
LAST-MODIFIED:20250925T175734Z
UID:10016404-1874773800-1874786400@gamemasterspgh.com
SUMMARY:Tracie's Daggerheart Game
DESCRIPTION:Tracie runs a Daggerheart game every other Tuesday. \nPlaying on the tavern table.
URL:https://gamemasterspgh.com/event/tracies-daggerheart-game/2029-05-29/
LOCATION:Tavern Table\, 398 Perry Hwy\, Pittsburgh\, PA\, 15229\, United States
CATEGORIES:Closed,Tavern Table
ATTACH;FMTTYPE=image/jpeg:https://gamemasterspgh.com/wp-content/uploads/2025/09/daggerheart-banner.jpg
END:VEVENT
BEGIN:VEVENT
DTSTART;TZID=America/New_York:20290531T180000
DTEND;TZID=America/New_York:20290531T220000
DTSTAMP:20260425T220742
CREATED:20230126T132017Z
LAST-MODIFIED:20251229T030314Z
UID:10007293-1874944800-1874959200@gamemasterspgh.com
SUMMARY:D&D 5E - Adventurers League
DESCRIPTION:Join us on the Discord channel – for regular updates. \nJoin the Discord Server! \n\nD&D Adventurers League is a setup for beginners new to the system and veterans of it alike! \nThe D&D Adventurers League is an ongoing official campaign for Dungeons & Dragons. It uses the fifth edition Dungeons & Dragons rules\, and features the Forgotten Realms setting. You can play D&D Adventurers League games literally anywhere. Players use the fifth edition rules to create a character and bring that character to games anywhere D&D Adventurers League play is happening. \nFor more information check out the D&D website – https://dnd.wizards.com/adventurers-league \nRemember to join the Discord channel!
URL:https://gamemasterspgh.com/event/dnd5e-adventurers-league/2029-05-31/
LOCATION:Regular Table\, 398 Perry Hwy\, Pittsburgh\, PA\, 15229\, United States
CATEGORIES:Open,Tavern Table
ATTACH;FMTTYPE=image/png:https://gamemasterspgh.com/wp-content/uploads/2023/01/DnD_Swath_Scndry_Center_V1_L_RGB.png
END:VEVENT
BEGIN:VEVENT
DTSTART;TZID=America/New_York:20290606T170000
DTEND;TZID=America/New_York:20290606T220000
DTSTAMP:20260425T220742
CREATED:20250916T170609Z
LAST-MODIFIED:20250927T115358Z
UID:10016538-1875459600-1875477600@gamemasterspgh.com
SUMMARY:Sarah's Daggerheart
DESCRIPTION:Biweekly meeting of the Daggerheart campaign
URL:https://gamemasterspgh.com/event/sarah-daggerheart/2029-06-06/
LOCATION:Regular Table\, 398 Perry Hwy\, Pittsburgh\, PA\, 15229\, United States
CATEGORIES:Closed,Tavern Table
ORGANIZER;CN="Sarah Holzapfel":MAILTO:sarah.j.holzapfel@gmail.com
END:VEVENT
BEGIN:VEVENT
DTSTART;TZID=America/New_York:20290612T183000
DTEND;TZID=America/New_York:20290612T220000
DTSTAMP:20260425T220742
CREATED:20250918T123730Z
LAST-MODIFIED:20250925T175734Z
UID:10016405-1875983400-1875996000@gamemasterspgh.com
SUMMARY:Tracie's Daggerheart Game
DESCRIPTION:Tracie runs a Daggerheart game every other Tuesday. \nPlaying on the tavern table.
URL:https://gamemasterspgh.com/event/tracies-daggerheart-game/2029-06-12/
LOCATION:Tavern Table\, 398 Perry Hwy\, Pittsburgh\, PA\, 15229\, United States
CATEGORIES:Closed,Tavern Table
ATTACH;FMTTYPE=image/jpeg:https://gamemasterspgh.com/wp-content/uploads/2025/09/daggerheart-banner.jpg
END:VEVENT
BEGIN:VEVENT
DTSTART;TZID=America/New_York:20290614T180000
DTEND;TZID=America/New_York:20290614T220000
DTSTAMP:20260425T220742
CREATED:20230126T132017Z
LAST-MODIFIED:20251229T030314Z
UID:10007294-1876154400-1876168800@gamemasterspgh.com
SUMMARY:D&D 5E - Adventurers League
DESCRIPTION:Join us on the Discord channel – for regular updates. \nJoin the Discord Server! \n\nD&D Adventurers League is a setup for beginners new to the system and veterans of it alike! \nThe D&D Adventurers League is an ongoing official campaign for Dungeons & Dragons. It uses the fifth edition Dungeons & Dragons rules\, and features the Forgotten Realms setting. You can play D&D Adventurers League games literally anywhere. Players use the fifth edition rules to create a character and bring that character to games anywhere D&D Adventurers League play is happening. \nFor more information check out the D&D website – https://dnd.wizards.com/adventurers-league \nRemember to join the Discord channel!
URL:https://gamemasterspgh.com/event/dnd5e-adventurers-league/2029-06-14/
LOCATION:Regular Table\, 398 Perry Hwy\, Pittsburgh\, PA\, 15229\, United States
CATEGORIES:Open,Tavern Table
ATTACH;FMTTYPE=image/png:https://gamemasterspgh.com/wp-content/uploads/2023/01/DnD_Swath_Scndry_Center_V1_L_RGB.png
END:VEVENT
BEGIN:VEVENT
DTSTART;TZID=America/New_York:20290620T170000
DTEND;TZID=America/New_York:20290620T220000
DTSTAMP:20260425T220742
CREATED:20250916T170609Z
LAST-MODIFIED:20250927T115358Z
UID:10016539-1876669200-1876687200@gamemasterspgh.com
SUMMARY:Sarah's Daggerheart
DESCRIPTION:Biweekly meeting of the Daggerheart campaign
URL:https://gamemasterspgh.com/event/sarah-daggerheart/2029-06-20/
LOCATION:Regular Table\, 398 Perry Hwy\, Pittsburgh\, PA\, 15229\, United States
CATEGORIES:Closed,Tavern Table
ORGANIZER;CN="Sarah Holzapfel":MAILTO:sarah.j.holzapfel@gmail.com
END:VEVENT
BEGIN:VEVENT
DTSTART;TZID=America/New_York:20290626T183000
DTEND;TZID=America/New_York:20290626T220000
DTSTAMP:20260425T220742
CREATED:20250918T123730Z
LAST-MODIFIED:20250925T175734Z
UID:10016406-1877193000-1877205600@gamemasterspgh.com
SUMMARY:Tracie's Daggerheart Game
DESCRIPTION:Tracie runs a Daggerheart game every other Tuesday. \nPlaying on the tavern table.
URL:https://gamemasterspgh.com/event/tracies-daggerheart-game/2029-06-26/
LOCATION:Tavern Table\, 398 Perry Hwy\, Pittsburgh\, PA\, 15229\, United States
CATEGORIES:Closed,Tavern Table
ATTACH;FMTTYPE=image/jpeg:https://gamemasterspgh.com/wp-content/uploads/2025/09/daggerheart-banner.jpg
END:VEVENT
BEGIN:VEVENT
DTSTART;TZID=America/New_York:20290628T180000
DTEND;TZID=America/New_York:20290628T220000
DTSTAMP:20260425T220742
CREATED:20230126T132017Z
LAST-MODIFIED:20251229T030314Z
UID:10007295-1877364000-1877378400@gamemasterspgh.com
SUMMARY:D&D 5E - Adventurers League
DESCRIPTION:Join us on the Discord channel – for regular updates. \nJoin the Discord Server! \n\nD&D Adventurers League is a setup for beginners new to the system and veterans of it alike! \nThe D&D Adventurers League is an ongoing official campaign for Dungeons & Dragons. It uses the fifth edition Dungeons & Dragons rules\, and features the Forgotten Realms setting. You can play D&D Adventurers League games literally anywhere. Players use the fifth edition rules to create a character and bring that character to games anywhere D&D Adventurers League play is happening. \nFor more information check out the D&D website – https://dnd.wizards.com/adventurers-league \nRemember to join the Discord channel!
URL:https://gamemasterspgh.com/event/dnd5e-adventurers-league/2029-06-28/
LOCATION:Regular Table\, 398 Perry Hwy\, Pittsburgh\, PA\, 15229\, United States
CATEGORIES:Open,Tavern Table
ATTACH;FMTTYPE=image/png:https://gamemasterspgh.com/wp-content/uploads/2023/01/DnD_Swath_Scndry_Center_V1_L_RGB.png
END:VEVENT
END:VCALENDAR