BEGIN:VCALENDAR
VERSION:2.0
PRODID:-//Game Masters - ECPv6.15.20//NONSGML v1.0//EN
CALSCALE:GREGORIAN
METHOD:PUBLISH
X-WR-CALNAME:Game Masters
X-ORIGINAL-URL:https://gamemasterspgh.com
X-WR-CALDESC:Events for Game Masters
REFRESH-INTERVAL;VALUE=DURATION:PT1H
X-Robots-Tag:noindex
X-PUBLISHED-TTL:PT1H
BEGIN:VTIMEZONE
TZID:America/New_York
BEGIN:DAYLIGHT
TZOFFSETFROM:-0500
TZOFFSETTO:-0400
TZNAME:EDT
DTSTART:20250309T070000
END:DAYLIGHT
BEGIN:STANDARD
TZOFFSETFROM:-0400
TZOFFSETTO:-0500
TZNAME:EST
DTSTART:20251102T060000
END:STANDARD
BEGIN:DAYLIGHT
TZOFFSETFROM:-0500
TZOFFSETTO:-0400
TZNAME:EDT
DTSTART:20260308T070000
END:DAYLIGHT
BEGIN:STANDARD
TZOFFSETFROM:-0400
TZOFFSETTO:-0500
TZNAME:EST
DTSTART:20261101T060000
END:STANDARD
BEGIN:DAYLIGHT
TZOFFSETFROM:-0500
TZOFFSETTO:-0400
TZNAME:EDT
DTSTART:20270314T070000
END:DAYLIGHT
BEGIN:STANDARD
TZOFFSETFROM:-0400
TZOFFSETTO:-0500
TZNAME:EST
DTSTART:20271107T060000
END:STANDARD
END:VTIMEZONE
BEGIN:VEVENT
DTSTART;TZID=America/New_York:20260404T170000
DTEND;TZID=America/New_York:20260404T220000
DTSTAMP:20260424T142420
CREATED:20260330T145510Z
LAST-MODIFIED:20260330T145510Z
UID:10019266-1775322000-1775340000@gamemasterspgh.com
SUMMARY:Friends in Melee Range
DESCRIPTION:A semi-regular closed DND 5e game.
URL:https://gamemasterspgh.com/event/friends-in-melee-range-2/
LOCATION:Tavern Table\, 398 Perry Hwy\, Pittsburgh\, PA\, 15229\, United States
CATEGORIES:Closed,Tavern Table
ORGANIZER;CN="Sara Conway":MAILTO:simply.sara36@gmail.com
END:VEVENT
END:VCALENDAR