BEGIN:VCALENDAR
VERSION:2.0
PRODID:-//Game Masters - ECPv6.15.20//NONSGML v1.0//EN
CALSCALE:GREGORIAN
METHOD:PUBLISH
X-WR-CALNAME:Game Masters
X-ORIGINAL-URL:https://gamemasterspgh.com
X-WR-CALDESC:Events for Game Masters
REFRESH-INTERVAL;VALUE=DURATION:PT1H
X-Robots-Tag:noindex
X-PUBLISHED-TTL:PT1H
BEGIN:VTIMEZONE
TZID:America/New_York
BEGIN:DAYLIGHT
TZOFFSETFROM:-0500
TZOFFSETTO:-0400
TZNAME:EDT
DTSTART:20250309T070000
END:DAYLIGHT
BEGIN:STANDARD
TZOFFSETFROM:-0400
TZOFFSETTO:-0500
TZNAME:EST
DTSTART:20251102T060000
END:STANDARD
BEGIN:DAYLIGHT
TZOFFSETFROM:-0500
TZOFFSETTO:-0400
TZNAME:EDT
DTSTART:20260308T070000
END:DAYLIGHT
BEGIN:STANDARD
TZOFFSETFROM:-0400
TZOFFSETTO:-0500
TZNAME:EST
DTSTART:20261101T060000
END:STANDARD
BEGIN:DAYLIGHT
TZOFFSETFROM:-0500
TZOFFSETTO:-0400
TZNAME:EDT
DTSTART:20270314T070000
END:DAYLIGHT
BEGIN:STANDARD
TZOFFSETFROM:-0400
TZOFFSETTO:-0500
TZNAME:EST
DTSTART:20271107T060000
END:STANDARD
END:VTIMEZONE
BEGIN:VEVENT
DTSTART;TZID=America/New_York:20260423T180000
DTEND;TZID=America/New_York:20260423T220000
DTSTAMP:20260423T090620
CREATED:20230126T132017Z
LAST-MODIFIED:20251229T030314Z
UID:10000396-1776967200-1776981600@gamemasterspgh.com
SUMMARY:D&D 5E - Adventurers League
DESCRIPTION:Join us on the Discord channel – for regular updates. \nJoin the Discord Server! \n\nD&D Adventurers League is a setup for beginners new to the system and veterans of it alike! \nThe D&D Adventurers League is an ongoing official campaign for Dungeons & Dragons. It uses the fifth edition Dungeons & Dragons rules\, and features the Forgotten Realms setting. You can play D&D Adventurers League games literally anywhere. Players use the fifth edition rules to create a character and bring that character to games anywhere D&D Adventurers League play is happening. \nFor more information check out the D&D website – https://dnd.wizards.com/adventurers-league \nRemember to join the Discord channel!
URL:https://gamemasterspgh.com/event/dnd5e-adventurers-league/2026-04-23/
LOCATION:Regular Table\, 398 Perry Hwy\, Pittsburgh\, PA\, 15229\, United States
CATEGORIES:Open,Tavern Table
ATTACH;FMTTYPE=image/png:https://gamemasterspgh.com/wp-content/uploads/2023/01/DnD_Swath_Scndry_Center_V1_L_RGB.png
END:VEVENT
BEGIN:VEVENT
DTSTART;TZID=America/New_York:20260423T180000
DTEND;TZID=America/New_York:20260423T220000
DTSTAMP:20260423T090620
CREATED:20240702T023437Z
LAST-MODIFIED:20251225T034827Z
UID:10002636-1776967200-1776981600@gamemasterspgh.com
SUMMARY:Miscellaneous Adventures
DESCRIPTION:A long-running campaign of various RPG systems and storytellers but mostly Paul.
URL:https://gamemasterspgh.com/event/miscellaneous-adventures-2/2026-04-23/
LOCATION:PA
ATTACH;FMTTYPE=image/png:https://gamemasterspgh.com/wp-content/uploads/2022/07/treasure-map.png
END:VEVENT
BEGIN:VEVENT
DTSTART;TZID=America/New_York:20260423T180000
DTEND;TZID=America/New_York:20260423T220000
DTSTAMP:20260423T090620
CREATED:20241111T103518Z
LAST-MODIFIED:20251229T030254Z
UID:10008095-1776967200-1776981600@gamemasterspgh.com
SUMMARY:Lorcana League
DESCRIPTION:Disney Lorcana League!\n\nCheck out the Discord for the week to determine the format or style to be played \nTrading Card Games \n\n#lorcana-general\n#lorcana-events\n\n  \nJoin the Discord Server!
URL:https://gamemasterspgh.com/event/disney-lorcana-league/2026-04-23/
LOCATION:Regular Table\, 398 Perry Hwy\, Pittsburgh\, PA\, 15229\, United States
CATEGORIES:Open
ATTACH;FMTTYPE=image/png:https://gamemasterspgh.com/wp-content/uploads/2024/02/lorcana-e1708802747711.png
ORGANIZER;CN="Phil Glotfelty":MAILTO:phil@gamemasterspgh.com
END:VEVENT
BEGIN:VEVENT
DTSTART;TZID=America/New_York:20260423T183000
DTEND;TZID=America/New_York:20260423T220000
DTSTAMP:20260423T090620
CREATED:20260205T141413Z
LAST-MODIFIED:20260205T141414Z
UID:10018610-1776969000-1776981600@gamemasterspgh.com
SUMMARY:One-Piece | Weekly Play and Tournament
DESCRIPTION:DON!! Your Decks for Thursday Night One Piece! \nThe quest for the One Piece continues this Thursday! Join us at Game Masters for our weekly tournament. \n\nWhen: Thursdays @ 6:30 PM\nStyle: Constructed\nEntry: $15\n\nClaim the throne of Pirate King!
URL:https://gamemasterspgh.com/event/one-piece-weekly/2026-04-23/
LOCATION:Regular Table\, 398 Perry Hwy\, Pittsburgh\, PA\, 15229\, United States
CATEGORIES:Open
ATTACH;FMTTYPE=image/jpeg:https://gamemasterspgh.com/wp-content/uploads/2026/02/one-piece-tcg-e1770300821911.jpg
END:VEVENT
BEGIN:VEVENT
DTSTART;TZID=America/New_York:20260424T183000
DTEND;TZID=America/New_York:20260424T210000
DTSTAMP:20260423T090620
CREATED:20250728T131000Z
LAST-MODIFIED:20250728T131147Z
UID:10014450-1777055400-1777064400@gamemasterspgh.com
SUMMARY:KeyForge | Adaptive Night
DESCRIPTION:Entry: $5 table fee\nFormat: Adaptive (bring your own deck)\nPrize: TBD depending on number of entrants \nAdaptive is a format where both players evaluate the deck each player brings and decide which deck they would rather play in the matchup. If the players choose different decks\, they play a game with the chosen deck (even if it is the deck the opponent brought!). If they choose the same deck\, players bid chains on the right to play that deck in the matchup. The winner plays the chosen deck with the number of chains bid on the deck. \nSince this format sometimes results in your opponent playing your deck\, it is strongly recommended to make sure your deck is sleeved.
URL:https://gamemasterspgh.com/event/keyforge-adaptive-night/2026-04-24/
LOCATION:Regular Table\, 398 Perry Hwy\, Pittsburgh\, PA\, 15229\, United States
CATEGORIES:Open
ATTACH;FMTTYPE=image/png:https://gamemasterspgh.com/wp-content/uploads/2025/07/KF-banner-scaled.png
ORGANIZER;CN="Matt Carulli":MAILTO:matthewcarulli@gmail.com
END:VEVENT
BEGIN:VEVENT
DTSTART;TZID=America/New_York:20260425T100000
DTEND;TZID=America/New_York:20260425T143000
DTSTAMP:20260423T090620
CREATED:20250714T123444Z
LAST-MODIFIED:20251013T192416Z
UID:10016677-1777111200-1777127400@gamemasterspgh.com
SUMMARY:Pathfinder Society | Early Session
DESCRIPTION:Pathfinder Society is a worldwide fantasy roleplaying campaign using the Pathfinder (second edition) ruleset. Take on the role of an agent of the Pathfinder Society\, a legendary league of explorers\, archaeologists\, and adventurers dedicated to discovering and chronicling the greatest mysteries and wonders of an ancient world. \nPathfinder Society is a drop-in event for players to learn\, play\, and master the Pathfinder role-playplaying system. It is great for just starting out to veterans alike to bring everyone together. \n\nRegular Pathfinder Society 2nd Edition Scenarios. \nJoin Discord for channel #pathfinder-society for the latest information on playing! \nJoin the Discord Server!
URL:https://gamemasterspgh.com/event/pathfinder-society-early/2026-04-25/
LOCATION:Regular Table\, 398 Perry Hwy\, Pittsburgh\, PA\, 15229\, United States
CATEGORIES:Open
ATTACH;FMTTYPE=image/png:https://gamemasterspgh.com/wp-content/uploads/2024/09/Pittsbugh_Lodge_Poster_800x450.png
ORGANIZER;CN="Nick Greene":MAILTO:nickgpfs@gmail.com
END:VEVENT
BEGIN:VEVENT
DTSTART;TZID=America/New_York:20260425T120000
DTEND;TZID=America/New_York:20260425T180000
DTSTAMP:20260423T090620
CREATED:20260202T133405Z
LAST-MODIFIED:20260202T133406Z
UID:10007080-1777118400-1777140000@gamemasterspgh.com
SUMMARY:Pokémon | [Open Play And Weekly League]
DESCRIPTION:Come join in before the weekly tournament for casual play\, trading\, conversation\, or to help get you started with learning the rules to start your very own Pokémon collection. \nThis is completely free event to attend! \n\nStandard Tournament\n\nSign Up from 12pm-1pm\nRound 1 Start at 1pm – Perfect Order Proxies are allowed for this event\nOpen Play & Trade\nEarly Registration for our TCG League Cup opens
URL:https://gamemasterspgh.com/event/pokemon-openplay-weeklyleague-2/2026-04-25/
LOCATION:Regular Table\, 398 Perry Hwy\, Pittsburgh\, PA\, 15229\, United States
CATEGORIES:Open
ATTACH;FMTTYPE=image/jpeg:https://gamemasterspgh.com/wp-content/uploads/2023/07/pokemon-e1690852217372.jpg
ORGANIZER;CN="Phil Glotfelty":MAILTO:phil@gamemasterspgh.com
END:VEVENT
BEGIN:VEVENT
DTSTART;TZID=America/New_York:20260425T120000
DTEND;TZID=America/New_York:20260425T220000
DTSTAMP:20260423T090621
CREATED:20220901T160903Z
LAST-MODIFIED:20250601T160541Z
UID:10004288-1777118400-1777154400@gamemasterspgh.com
SUMMARY:Saturday All-Day Board Gaming
DESCRIPTION:Every week for all day board games!
URL:https://gamemasterspgh.com/event/saturday-board-gaming/2026-04-25/
LOCATION:Regular Table\, 398 Perry Hwy\, Pittsburgh\, PA\, 15229\, United States
CATEGORIES:Open
ATTACH;FMTTYPE=image/png:https://gamemasterspgh.com/wp-content/uploads/2022/09/hexes.png
ORGANIZER;CN="Phil Glotfelty":MAILTO:phil@gamemasterspgh.com
END:VEVENT
BEGIN:VEVENT
DTSTART;TZID=America/New_York:20260425T130000
DTEND;TZID=America/New_York:20260425T160000
DTSTAMP:20260423T090621
CREATED:20250507T024601Z
LAST-MODIFIED:20250601T160330Z
UID:10011088-1777122000-1777132800@gamemasterspgh.com
SUMMARY:Flesh and Blood | [Armories]
DESCRIPTION:Store Link: https://fabtcg.com/en/locator/game-masters/ \n$15 buy-in\, three packs at the door. GEM pack for attendance.
URL:https://gamemasterspgh.com/event/flesh-and-blood-armories/2026-04-25/
LOCATION:Regular Table\, 398 Perry Hwy\, Pittsburgh\, PA\, 15229\, United States
CATEGORIES:Open
ATTACH;FMTTYPE=image/webp:https://gamemasterspgh.com/wp-content/uploads/2022/10/flesh-blood.webp
END:VEVENT
BEGIN:VEVENT
DTSTART;TZID=America/New_York:20260425T153000
DTEND;TZID=America/New_York:20260425T200000
DTSTAMP:20260423T090621
CREATED:20250714T123622Z
LAST-MODIFIED:20251007T163438Z
UID:10014087-1777131000-1777147200@gamemasterspgh.com
SUMMARY:Pathfinder Society | Late Session
DESCRIPTION:Pathfinder Society is a worldwide fantasy roleplaying campaign using the Pathfinder (second edition) ruleset. Take on the role of an agent of the Pathfinder Society\, a legendary league of explorers\, archaeologists\, and adventurers dedicated to discovering and chronicling the greatest mysteries and wonders of an ancient world. \nPathfinder Society is a drop-in event for players to learn\, play\, and master the Pathfinder role-playplaying system. It is great for just starting out to veterans alike to bring everyone together. \n\nRegular Pathfinder Society 2nd Edition Scenarios. \nJoin Discord for channel #pathfinder-society for the latest information on playing! \nJoin the Discord Server!
URL:https://gamemasterspgh.com/event/pathfinder-society-late-session/2026-04-25/
LOCATION:Regular Table\, 398 Perry Hwy\, Pittsburgh\, PA\, 15229\, United States
CATEGORIES:Open
ATTACH;FMTTYPE=image/png:https://gamemasterspgh.com/wp-content/uploads/2024/09/Pittsbugh_Lodge_Poster_800x450.png
ORGANIZER;CN="Nick Greene":MAILTO:nickgpfs@gmail.com
END:VEVENT
BEGIN:VEVENT
DTSTART;TZID=America/New_York:20260425T180000
DTEND;TZID=America/New_York:20260425T210000
DTSTAMP:20260423T090621
CREATED:20240828T131447Z
LAST-MODIFIED:20240828T131447Z
UID:10007492-1777140000-1777150800@gamemasterspgh.com
SUMMARY:Dragonlance-Adventures in Ergoth
DESCRIPTION:A 5th edition Dragonlance game exploring events in the War of the Lance beyond the occurrences in the novels.
URL:https://gamemasterspgh.com/event/dragonlance-adventures-in-ergoth/2026-04-25/
LOCATION:Regular Table\, 398 Perry Hwy\, Pittsburgh\, PA\, 15229\, United States
CATEGORIES:Looking For Group
ORGANIZER;CN="Dustin Synan":MAILTO:threeriversbard@gmail.com
END:VEVENT
BEGIN:VEVENT
DTSTART;TZID=America/New_York:20260426T103000
DTEND;TZID=America/New_York:20260426T140000
DTSTAMP:20260423T090621
CREATED:20251103T202635Z
LAST-MODIFIED:20251107T150751Z
UID:10016870-1777199400-1777212000@gamemasterspgh.com
SUMMARY:Starfinder 2e: Society Games with Pittsburgh Lodge OPF
DESCRIPTION:Starfinder Society is a worldwide science fantasy campaign that puts you in the role of an agent of the Starfinder Society. The Society is a group of explorers who travel out into the galaxy in search of lost knowledge and technologies\, bringing what they learn back with them to share with the people of the Pact Worlds. \nWe will be doing a set of trial run games of Starfinder 2e’s Society Organized Play to see how it goes: \nhttps://paizo.com/starfindersociety \n\nRegular Pathfinder Society 2nd Edition Scenarios. Join Discord for channel #pathfinder-2e for the latest information on playing! Join the Discord Server!
URL:https://gamemasterspgh.com/event/starfinder-2e-society-games-with-pittsburgh-lodge-opf/2026-04-26/
LOCATION:Regular Table\, 398 Perry Hwy\, Pittsburgh\, PA\, 15229\, United States
CATEGORIES:Closed
ATTACH;FMTTYPE=image/jpeg:https://gamemasterspgh.com/wp-content/uploads/2025/11/358559433_168944892858083_3596475046138377887_n.jpg
ORGANIZER;CN="Steven Cook":MAILTO:ScubaSteve.PFS@gmail.com
END:VEVENT
BEGIN:VEVENT
DTSTART;TZID=America/New_York:20260427T180000
DTEND;TZID=America/New_York:20260427T220000
DTSTAMP:20260423T090621
CREATED:20250209T221720Z
LAST-MODIFIED:20250209T222048Z
UID:10009785-1777312800-1777327200@gamemasterspgh.com
SUMMARY:Star Wars Unlimited [TCG] | Weekly Play
DESCRIPTION:Join us every Monday for a weekly play at 6 PM of Star Wars Unlimited! \n  \nCheck out the Discord on #starwars-unltd-general for any weekly changes! \nJoin the Discord Server!
URL:https://gamemasterspgh.com/event/star-wars-unlimited-tcg-weekly-play/2026-04-27/
LOCATION:Regular Table\, 398 Perry Hwy\, Pittsburgh\, PA\, 15229\, United States
CATEGORIES:Open
ATTACH;FMTTYPE=image/jpeg:https://gamemasterspgh.com/wp-content/uploads/2024/02/Star_Wars_Unlimited-e1708376420326.jpg
END:VEVENT
BEGIN:VEVENT
DTSTART;TZID=America/New_York:20260427T180000
DTEND;TZID=America/New_York:20260427T220000
DTSTAMP:20260423T090621
CREATED:20250820T140909Z
LAST-MODIFIED:20260406T182121Z
UID:10015007-1777312800-1777327200@gamemasterspgh.com
SUMMARY:Another Irregulars Game
DESCRIPTION:Close group. Semi-regular cast\, irregular games played.
URL:https://gamemasterspgh.com/event/another-irregulars-game-david/2026-04-27/
LOCATION:Regular Table\, 398 Perry Hwy\, Pittsburgh\, PA\, 15229\, United States
CATEGORIES:Closed
ATTACH;FMTTYPE=image/png:https://gamemasterspgh.com/wp-content/uploads/2025/08/rally-the-troops.png
ORGANIZER;CN="David Rickman":MAILTO:rickmand@gmail.com
END:VEVENT
BEGIN:VEVENT
DTSTART;TZID=America/New_York:20260428T180000
DTEND;TZID=America/New_York:20260428T220000
DTSTAMP:20260423T090621
CREATED:20220603T153421Z
LAST-MODIFIED:20260105T140920Z
UID:10017330-1777399200-1777413600@gamemasterspgh.com
SUMMARY:Board Game Night
DESCRIPTION:Weekly\, re-occurring board gaming on every Tuesday
URL:https://gamemasterspgh.com/event/weekly-board-game-night/2026-04-28/
LOCATION:Regular Table\, 398 Perry Hwy\, Pittsburgh\, PA\, 15229\, United States
CATEGORIES:Open
ATTACH;FMTTYPE=image/png:https://gamemasterspgh.com/wp-content/uploads/2022/06/board-games.png
ORGANIZER;CN="Phil Glotfelty":MAILTO:phil@gamemasterspgh.com
END:VEVENT
BEGIN:VEVENT
DTSTART;TZID=America/New_York:20260428T180000
DTEND;TZID=America/New_York:20260428T220000
DTSTAMP:20260423T090621
CREATED:20240205T220233Z
LAST-MODIFIED:20240607T112213Z
UID:10003113-1777399200-1777413600@gamemasterspgh.com
SUMMARY:[D&D5e] | Saltmarsh
DESCRIPTION:Robert’s Saltmarsh game\, D&D 5e
URL:https://gamemasterspgh.com/event/saltmarsh-5e-2/2026-04-28/
LOCATION:Regular Table\, 398 Perry Hwy\, Pittsburgh\, PA\, 15229\, United States
ORGANIZER;CN="Robert Baugh":MAILTO:Robertcalvinbaugh@gmail.com
END:VEVENT
BEGIN:VEVENT
DTSTART;TZID=America/New_York:20260428T180000
DTEND;TZID=America/New_York:20260428T220000
DTSTAMP:20260423T090621
CREATED:20250916T125318Z
LAST-MODIFIED:20250916T125600Z
UID:10015275-1777399200-1777413600@gamemasterspgh.com
SUMMARY:Gundam | Casual Play
DESCRIPTION:Join us for Gundam The Card Game! Learn and Play casually and meet other pilots. \n  \nJump into our discord\, for #gundam to chat with other players from the store \nJoin the Discord Server!
URL:https://gamemasterspgh.com/event/gundam-casual-play/2026-04-28/
LOCATION:Regular Table\, 398 Perry Hwy\, Pittsburgh\, PA\, 15229\, United States
CATEGORIES:Open
ATTACH;FMTTYPE=image/jpeg:https://gamemasterspgh.com/wp-content/uploads/2025/09/gundam.jpg
END:VEVENT
BEGIN:VEVENT
DTSTART;TZID=America/New_York:20260428T190000
DTEND;TZID=America/New_York:20260428T220000
DTSTAMP:20260423T090621
CREATED:20230215T141430Z
LAST-MODIFIED:20240406T135127Z
UID:10004531-1777402800-1777413600@gamemasterspgh.com
SUMMARY:Blood on the Clocktower
DESCRIPTION:A regularly occurring event for players in Blood on the Clocktower Discord: https://discord.gg/pCBuYpFCqH (#botc-general and #botc-scheduling) \n  \nPlease feel free to drop in and see if there are open slots! No sign up necessary. \n\n\n\n\nBlood On the Clocktower Website\n\nIn the quiet village of Ravenswood Bluff\, ‌a demon walks amongst you… \nDuring a hellish thunderstorm\, on the stroke of midnight\, there echoes a bone-chilling scream. The townsfolk rush to investigate and find the town storyteller murdered\, their body impaled on the hands of the clocktower\, blood dripping onto the cobblestones below. A Demon is on the loose\, murdering by night and disguised in human form by day. Some have scraps of information. Others have abilities that fight the evil or protect the innocent. But the Demon and its evil minions are spreading lies to confuse and breed suspicion. Will the good townsfolk put the puzzle together in time to execute the true demon and save themselves? Or will evil overrun this once peaceful village? \n  \nBlood on the Clocktower is a bluffing game enjoyed by 5 to 20 players on opposing teams of Good and Evil\, overseen by a Storyteller player who conducts the action and makes crucial decisions. The goal of the game is to successfully deduce and execute the demons before they outnumber the townfolk. \nDuring a ‘day’ phase players socialize openly and whisper privately to trade knowledge or spread lies\, culminating in a player’s execution if a majority suspects them of being Evil. Of a ‘night’ time\, players close their eyes and are woken one at a time by the Storyteller to gather information\, spread mischief\, or kill. \nThe Storyteller uses the game’s intricate playing pieces to guide each game\, leaving others free to play without a table or board. Players stay in the thick of the action to the very end even if their characters are killed\, haunting Ravenswood Bluff as ghosts trying to win from beyond the grave. \nIf you arrive late to a game\, you can enter after it’s started as a powerful Traveller character with unusual talents and questionable allegiances. Each character comes with their own special ability and no two players in a game are ever the same character.
URL:https://gamemasterspgh.com/event/blood-on-the-clocktower-series/2026-04-28/
LOCATION:Regular Table\, 398 Perry Hwy\, Pittsburgh\, PA\, 15229\, United States
CATEGORIES:Open
ATTACH;FMTTYPE=image/webp:https://gamemasterspgh.com/wp-content/uploads/2023/02/botc-e1676470352982.webp
END:VEVENT
BEGIN:VEVENT
DTSTART;TZID=America/New_York:20260429T170000
DTEND;TZID=America/New_York:20260429T220000
DTSTAMP:20260423T090621
CREATED:20250916T170609Z
LAST-MODIFIED:20250927T115358Z
UID:10016457-1777482000-1777500000@gamemasterspgh.com
SUMMARY:Sarah's Daggerheart
DESCRIPTION:Biweekly meeting of the Daggerheart campaign
URL:https://gamemasterspgh.com/event/sarah-daggerheart/2026-04-29/
LOCATION:Regular Table\, 398 Perry Hwy\, Pittsburgh\, PA\, 15229\, United States
CATEGORIES:Closed,Tavern Table
ORGANIZER;CN="Sarah Holzapfel":MAILTO:sarah.j.holzapfel@gmail.com
END:VEVENT
BEGIN:VEVENT
DTSTART;TZID=America/New_York:20260429T180000
DTEND;TZID=America/New_York:20260429T213000
DTSTAMP:20260423T090621
CREATED:20250707T203621Z
LAST-MODIFIED:20260327T143758Z
UID:10013538-1777485600-1777498200@gamemasterspgh.com
SUMMARY:Delta Green and Call of Cthulhu
DESCRIPTION:We play Delta Green and Call of Cthulhu on alternating weeks. Sometimes we throw in one-shots and short campaigns of other games (mostly horror).
URL:https://gamemasterspgh.com/event/delta-green-call-of-cthulhu/2026-04-29/
LOCATION:Regular Table\, 398 Perry Hwy\, Pittsburgh\, PA\, 15229\, United States
CATEGORIES:Closed
ATTACH;FMTTYPE=image/png:https://gamemasterspgh.com/wp-content/uploads/2022/08/126.Red-Book.png
ORGANIZER;CN="Chad Perryman":MAILTO:caperryman91@gmail.com
END:VEVENT
BEGIN:VEVENT
DTSTART;TZID=America/New_York:20260429T180000
DTEND;TZID=America/New_York:20260429T220000
DTSTAMP:20260423T090621
CREATED:20220718T132701Z
LAST-MODIFIED:20260122T163359Z
UID:10018036-1777485600-1777500000@gamemasterspgh.com
SUMMARY:Magic: the Gathering | [Commander]
DESCRIPTION:A game of Magic the Gathering with Commander format being played.
URL:https://gamemasterspgh.com/event/mtg-commander-night/2026-04-29/
LOCATION:PA
CATEGORIES:Open
ATTACH;FMTTYPE=image/jpeg:https://gamemasterspgh.com/wp-content/uploads/2022/07/MTG-commander-header.jpg
END:VEVENT
BEGIN:VEVENT
DTSTART;TZID=America/New_York:20260429T180000
DTEND;TZID=America/New_York:20260429T220000
DTSTAMP:20260423T090621
CREATED:20230407T011722Z
LAST-MODIFIED:20230407T011722Z
UID:10010259-1777485600-1777500000@gamemasterspgh.com
SUMMARY:FrostHaven
DESCRIPTION:Frosthaven Campaign playthrough
URL:https://gamemasterspgh.com/event/frosthaven-2/2026-04-29/
LOCATION:Regular Table\, 398 Perry Hwy\, Pittsburgh\, PA\, 15229\, United States
ORGANIZER;CN="Cyril":MAILTO:gameduku@gmail.com
END:VEVENT
BEGIN:VEVENT
DTSTART;TZID=America/New_York:20260429T183000
DTEND;TZID=America/New_York:20260429T213000
DTSTAMP:20260423T090621
CREATED:20230126T132900Z
LAST-MODIFIED:20251225T035240Z
UID:10009194-1777487400-1777498200@gamemasterspgh.com
SUMMARY:Savage Worlds
DESCRIPTION:Savage Worlds with a rotating setting.
URL:https://gamemasterspgh.com/event/ian-savage-worlds/2026-04-29/
LOCATION:Regular Table\, 398 Perry Hwy\, Pittsburgh\, PA\, 15229\, United States
ORGANIZER;CN="Ian Powers":MAILTO:economypowers@gmail.com
END:VEVENT
BEGIN:VEVENT
DTSTART;TZID=America/New_York:20260429T190000
DTEND;TZID=America/New_York:20260429T220000
DTSTAMP:20260423T090621
CREATED:20230209T113528Z
LAST-MODIFIED:20251225T035225Z
UID:10009519-1777489200-1777500000@gamemasterspgh.com
SUMMARY:Pathfinder 1st Edition Rise of the Runelords Adventure Path
DESCRIPTION:A weekly campaign loosely following Paizo’s first published adventure path\, a campaign that spans six books from levels 1-18. A moderate amount of homebrew content is periodically introduced\, tested\, and iterated on.
URL:https://gamemasterspgh.com/event/pathfinder-1st-edition-rise-of-the-runelords-adventure-path/2026-04-29/
LOCATION:Regular Table\, 398 Perry Hwy\, Pittsburgh\, PA\, 15229\, United States
ATTACH;FMTTYPE=image/jpeg:https://gamemasterspgh.com/wp-content/uploads/2023/02/PZO1002_500.jpeg
ORGANIZER;CN="Victor Sapp":MAILTO:silvos.ruin@gmail.com
END:VEVENT
BEGIN:VEVENT
DTSTART;TZID=America/New_York:20260429T190000
DTEND;TZID=America/New_York:20260429T220000
DTSTAMP:20260423T090621
CREATED:20251119T183722Z
LAST-MODIFIED:20251225T035216Z
UID:10016922-1777489200-1777500000@gamemasterspgh.com
SUMMARY:Victor's Pathfinder Game
DESCRIPTION:Victor run a TTRPG every Wednesday (barring holidays and cancelations)\, the game is currently a Pathfinder Adventure Path/Homebrew though that is subject to change.
URL:https://gamemasterspgh.com/event/victors-pathfinder-game/2026-04-29/
LOCATION:Regular Table\, 398 Perry Hwy\, Pittsburgh\, PA\, 15229\, United States
CATEGORIES:Closed
ATTACH;FMTTYPE=image/jpeg:https://gamemasterspgh.com/wp-content/uploads/2025/11/ROTR.jpg
ORGANIZER;CN="Victor Sapp":MAILTO:silvos.ruin@gmail.com
END:VEVENT
BEGIN:VEVENT
DTSTART;TZID=America/New_York:20260430T180000
DTEND;TZID=America/New_York:20260430T220000
DTSTAMP:20260423T090621
CREATED:20240702T023437Z
LAST-MODIFIED:20251225T034827Z
UID:10002637-1777572000-1777586400@gamemasterspgh.com
SUMMARY:Miscellaneous Adventures
DESCRIPTION:A long-running campaign of various RPG systems and storytellers but mostly Paul.
URL:https://gamemasterspgh.com/event/miscellaneous-adventures-2/2026-04-30/
LOCATION:PA
ATTACH;FMTTYPE=image/png:https://gamemasterspgh.com/wp-content/uploads/2022/07/treasure-map.png
END:VEVENT
BEGIN:VEVENT
DTSTART;TZID=America/New_York:20260430T180000
DTEND;TZID=America/New_York:20260430T220000
DTSTAMP:20260423T090621
CREATED:20241111T103518Z
LAST-MODIFIED:20251229T030254Z
UID:10008096-1777572000-1777586400@gamemasterspgh.com
SUMMARY:Lorcana League
DESCRIPTION:Disney Lorcana League!\n\nCheck out the Discord for the week to determine the format or style to be played \nTrading Card Games \n\n#lorcana-general\n#lorcana-events\n\n  \nJoin the Discord Server!
URL:https://gamemasterspgh.com/event/disney-lorcana-league/2026-04-30/
LOCATION:Regular Table\, 398 Perry Hwy\, Pittsburgh\, PA\, 15229\, United States
CATEGORIES:Open
ATTACH;FMTTYPE=image/png:https://gamemasterspgh.com/wp-content/uploads/2024/02/lorcana-e1708802747711.png
ORGANIZER;CN="Phil Glotfelty":MAILTO:phil@gamemasterspgh.com
END:VEVENT
BEGIN:VEVENT
DTSTART;TZID=America/New_York:20260430T183000
DTEND;TZID=America/New_York:20260430T220000
DTSTAMP:20260423T090621
CREATED:20260205T141413Z
LAST-MODIFIED:20260205T141414Z
UID:10018611-1777573800-1777586400@gamemasterspgh.com
SUMMARY:One-Piece | Weekly Play and Tournament
DESCRIPTION:DON!! Your Decks for Thursday Night One Piece! \nThe quest for the One Piece continues this Thursday! Join us at Game Masters for our weekly tournament. \n\nWhen: Thursdays @ 6:30 PM\nStyle: Constructed\nEntry: $15\n\nClaim the throne of Pirate King!
URL:https://gamemasterspgh.com/event/one-piece-weekly/2026-04-30/
LOCATION:Regular Table\, 398 Perry Hwy\, Pittsburgh\, PA\, 15229\, United States
CATEGORIES:Open
ATTACH;FMTTYPE=image/jpeg:https://gamemasterspgh.com/wp-content/uploads/2026/02/one-piece-tcg-e1770300821911.jpg
END:VEVENT
END:VCALENDAR