BEGIN:VCALENDAR
VERSION:2.0
PRODID:-//Game Masters - ECPv6.15.20//NONSGML v1.0//EN
CALSCALE:GREGORIAN
METHOD:PUBLISH
X-WR-CALNAME:Game Masters
X-ORIGINAL-URL:https://gamemasterspgh.com
X-WR-CALDESC:Events for Game Masters
REFRESH-INTERVAL;VALUE=DURATION:PT1H
X-Robots-Tag:noindex
X-PUBLISHED-TTL:PT1H
BEGIN:VTIMEZONE
TZID:America/New_York
BEGIN:DAYLIGHT
TZOFFSETFROM:-0500
TZOFFSETTO:-0400
TZNAME:EDT
DTSTART:20250309T070000
END:DAYLIGHT
BEGIN:STANDARD
TZOFFSETFROM:-0400
TZOFFSETTO:-0500
TZNAME:EST
DTSTART:20251102T060000
END:STANDARD
BEGIN:DAYLIGHT
TZOFFSETFROM:-0500
TZOFFSETTO:-0400
TZNAME:EDT
DTSTART:20260308T070000
END:DAYLIGHT
BEGIN:STANDARD
TZOFFSETFROM:-0400
TZOFFSETTO:-0500
TZNAME:EST
DTSTART:20261101T060000
END:STANDARD
BEGIN:DAYLIGHT
TZOFFSETFROM:-0500
TZOFFSETTO:-0400
TZNAME:EDT
DTSTART:20270314T070000
END:DAYLIGHT
BEGIN:STANDARD
TZOFFSETFROM:-0400
TZOFFSETTO:-0500
TZNAME:EST
DTSTART:20271107T060000
END:STANDARD
END:VTIMEZONE
BEGIN:VEVENT
DTSTART;TZID=America/New_York:20260306T170000
DTEND;TZID=America/New_York:20260306T220000
DTSTAMP:20260424T034611
CREATED:20231107T172819Z
LAST-MODIFIED:20240406T140430Z
UID:10005230-1772816400-1772834400@gamemasterspgh.com
SUMMARY:The Heroes of Iridias
DESCRIPTION:A Private D&D Campaign
URL:https://gamemasterspgh.com/event/the-heroes-of-iridias/2026-03-06/
LOCATION:Regular Table\, 398 Perry Hwy\, Pittsburgh\, PA\, 15229\, United States
ORGANIZER;CN="Crow (Brian Rooker)":MAILTO:mrbrianrooker@gmail.com
END:VEVENT
BEGIN:VEVENT
DTSTART;TZID=America/New_York:20260306T183000
DTEND;TZID=America/New_York:20260306T220000
DTSTAMP:20260424T034611
CREATED:20250425T181546Z
LAST-MODIFIED:20250802T023138Z
UID:10010916-1772821800-1772834400@gamemasterspgh.com
SUMMARY:KeyForge | Bi-Weekly Sealed Play
DESCRIPTION:Entry: $20 (includes one sealed deck and table fee)\nFormat: Sealed (set TBD based on latest available sets)\nPrize: Sealed decks\, TBD based on number of entrants
URL:https://gamemasterspgh.com/event/keyforge-bi-weekly/2026-03-06/
LOCATION:Regular Table\, 398 Perry Hwy\, Pittsburgh\, PA\, 15229\, United States
CATEGORIES:Open
ATTACH;FMTTYPE=image/jpeg:https://gamemasterspgh.com/wp-content/uploads/2023/08/keyforge-red.jpg
ORGANIZER;CN="Matt Carulli":MAILTO:matthewcarulli@gmail.com
END:VEVENT
END:VCALENDAR