BEGIN:VCALENDAR
VERSION:2.0
PRODID:-//Game Masters - ECPv6.15.20//NONSGML v1.0//EN
CALSCALE:GREGORIAN
METHOD:PUBLISH
X-ORIGINAL-URL:https://gamemasterspgh.com
X-WR-CALDESC:Events for Game Masters
REFRESH-INTERVAL;VALUE=DURATION:PT1H
X-Robots-Tag:noindex
X-PUBLISHED-TTL:PT1H
BEGIN:VTIMEZONE
TZID:America/New_York
BEGIN:DAYLIGHT
TZOFFSETFROM:-0500
TZOFFSETTO:-0400
TZNAME:EDT
DTSTART:20250309T070000
END:DAYLIGHT
BEGIN:STANDARD
TZOFFSETFROM:-0400
TZOFFSETTO:-0500
TZNAME:EST
DTSTART:20251102T060000
END:STANDARD
BEGIN:DAYLIGHT
TZOFFSETFROM:-0500
TZOFFSETTO:-0400
TZNAME:EDT
DTSTART:20260308T070000
END:DAYLIGHT
BEGIN:STANDARD
TZOFFSETFROM:-0400
TZOFFSETTO:-0500
TZNAME:EST
DTSTART:20261101T060000
END:STANDARD
BEGIN:DAYLIGHT
TZOFFSETFROM:-0500
TZOFFSETTO:-0400
TZNAME:EDT
DTSTART:20270314T070000
END:DAYLIGHT
BEGIN:STANDARD
TZOFFSETFROM:-0400
TZOFFSETTO:-0500
TZNAME:EST
DTSTART:20271107T060000
END:STANDARD
END:VTIMEZONE
BEGIN:VEVENT
DTSTART;TZID=America/New_York:20260304T170000
DTEND;TZID=America/New_York:20260304T220000
DTSTAMP:20260424T010829
CREATED:20250916T170609Z
LAST-MODIFIED:20250927T115358Z
UID:10016453-1772643600-1772661600@gamemasterspgh.com
SUMMARY:Sarah's Daggerheart
DESCRIPTION:Biweekly meeting of the Daggerheart campaign
URL:https://gamemasterspgh.com/event/sarah-daggerheart/2026-03-04/
LOCATION:Regular Table\, 398 Perry Hwy\, Pittsburgh\, PA\, 15229\, United States
CATEGORIES:Closed,Tavern Table
ORGANIZER;CN="Sarah Holzapfel":MAILTO:sarah.j.holzapfel@gmail.com
END:VEVENT
BEGIN:VEVENT
DTSTART;TZID=America/New_York:20260304T180000
DTEND;TZID=America/New_York:20260304T213000
DTSTAMP:20260424T010829
CREATED:20250707T203621Z
LAST-MODIFIED:20260327T143758Z
UID:10013530-1772647200-1772659800@gamemasterspgh.com
SUMMARY:Delta Green and Call of Cthulhu
DESCRIPTION:We play Delta Green and Call of Cthulhu on alternating weeks. Sometimes we throw in one-shots and short campaigns of other games (mostly horror).
URL:https://gamemasterspgh.com/event/delta-green-call-of-cthulhu/2026-03-04/
LOCATION:Regular Table\, 398 Perry Hwy\, Pittsburgh\, PA\, 15229\, United States
CATEGORIES:Closed
ATTACH;FMTTYPE=image/png:https://gamemasterspgh.com/wp-content/uploads/2022/08/126.Red-Book.png
ORGANIZER;CN="Chad Perryman":MAILTO:caperryman91@gmail.com
END:VEVENT
BEGIN:VEVENT
DTSTART;TZID=America/New_York:20260304T180000
DTEND;TZID=America/New_York:20260304T220000
DTSTAMP:20260424T010829
CREATED:20220718T132701Z
LAST-MODIFIED:20260122T163359Z
UID:10018028-1772647200-1772661600@gamemasterspgh.com
SUMMARY:Magic: the Gathering | [Commander]
DESCRIPTION:A game of Magic the Gathering with Commander format being played.
URL:https://gamemasterspgh.com/event/mtg-commander-night/2026-03-04/
LOCATION:PA
CATEGORIES:Open
ATTACH;FMTTYPE=image/jpeg:https://gamemasterspgh.com/wp-content/uploads/2022/07/MTG-commander-header.jpg
END:VEVENT
BEGIN:VEVENT
DTSTART;TZID=America/New_York:20260304T180000
DTEND;TZID=America/New_York:20260304T220000
DTSTAMP:20260424T010829
CREATED:20230407T011722Z
LAST-MODIFIED:20230407T011722Z
UID:10010255-1772647200-1772661600@gamemasterspgh.com
SUMMARY:FrostHaven
DESCRIPTION:Frosthaven Campaign playthrough
URL:https://gamemasterspgh.com/event/frosthaven-2/2026-03-04/
LOCATION:Regular Table\, 398 Perry Hwy\, Pittsburgh\, PA\, 15229\, United States
ORGANIZER;CN="Cyril":MAILTO:gameduku@gmail.com
END:VEVENT
BEGIN:VEVENT
DTSTART;TZID=America/New_York:20260304T183000
DTEND;TZID=America/New_York:20260304T213000
DTSTAMP:20260424T010829
CREATED:20230126T132900Z
LAST-MODIFIED:20251225T035240Z
UID:10009186-1772649000-1772659800@gamemasterspgh.com
SUMMARY:Savage Worlds
DESCRIPTION:Savage Worlds with a rotating setting.
URL:https://gamemasterspgh.com/event/ian-savage-worlds/2026-03-04/
LOCATION:Regular Table\, 398 Perry Hwy\, Pittsburgh\, PA\, 15229\, United States
ORGANIZER;CN="Ian Powers":MAILTO:economypowers@gmail.com
END:VEVENT
BEGIN:VEVENT
DTSTART;TZID=America/New_York:20260304T190000
DTEND;TZID=America/New_York:20260304T220000
DTSTAMP:20260424T010829
CREATED:20230209T113528Z
LAST-MODIFIED:20251225T035225Z
UID:10009511-1772650800-1772661600@gamemasterspgh.com
SUMMARY:Pathfinder 1st Edition Rise of the Runelords Adventure Path
DESCRIPTION:A weekly campaign loosely following Paizo’s first published adventure path\, a campaign that spans six books from levels 1-18. A moderate amount of homebrew content is periodically introduced\, tested\, and iterated on.
URL:https://gamemasterspgh.com/event/pathfinder-1st-edition-rise-of-the-runelords-adventure-path/2026-03-04/
LOCATION:Regular Table\, 398 Perry Hwy\, Pittsburgh\, PA\, 15229\, United States
ATTACH;FMTTYPE=image/jpeg:https://gamemasterspgh.com/wp-content/uploads/2023/02/PZO1002_500.jpeg
ORGANIZER;CN="Victor Sapp":MAILTO:silvos.ruin@gmail.com
END:VEVENT
BEGIN:VEVENT
DTSTART;TZID=America/New_York:20260304T190000
DTEND;TZID=America/New_York:20260304T220000
DTSTAMP:20260424T010829
CREATED:20251119T183722Z
LAST-MODIFIED:20251225T035216Z
UID:10016914-1772650800-1772661600@gamemasterspgh.com
SUMMARY:Victor's Pathfinder Game
DESCRIPTION:Victor run a TTRPG every Wednesday (barring holidays and cancelations)\, the game is currently a Pathfinder Adventure Path/Homebrew though that is subject to change.
URL:https://gamemasterspgh.com/event/victors-pathfinder-game/2026-03-04/
LOCATION:Regular Table\, 398 Perry Hwy\, Pittsburgh\, PA\, 15229\, United States
CATEGORIES:Closed
ATTACH;FMTTYPE=image/jpeg:https://gamemasterspgh.com/wp-content/uploads/2025/11/ROTR.jpg
ORGANIZER;CN="Victor Sapp":MAILTO:silvos.ruin@gmail.com
END:VEVENT
END:VCALENDAR