BEGIN:VCALENDAR
VERSION:2.0
PRODID:-//Game Masters - ECPv6.15.20//NONSGML v1.0//EN
CALSCALE:GREGORIAN
METHOD:PUBLISH
X-WR-CALNAME:Game Masters
X-ORIGINAL-URL:https://gamemasterspgh.com
X-WR-CALDESC:Events for Game Masters
REFRESH-INTERVAL;VALUE=DURATION:PT1H
X-Robots-Tag:noindex
X-PUBLISHED-TTL:PT1H
BEGIN:VTIMEZONE
TZID:America/New_York
BEGIN:DAYLIGHT
TZOFFSETFROM:-0500
TZOFFSETTO:-0400
TZNAME:EDT
DTSTART:20250309T070000
END:DAYLIGHT
BEGIN:STANDARD
TZOFFSETFROM:-0400
TZOFFSETTO:-0500
TZNAME:EST
DTSTART:20251102T060000
END:STANDARD
BEGIN:DAYLIGHT
TZOFFSETFROM:-0500
TZOFFSETTO:-0400
TZNAME:EDT
DTSTART:20260308T070000
END:DAYLIGHT
BEGIN:STANDARD
TZOFFSETFROM:-0400
TZOFFSETTO:-0500
TZNAME:EST
DTSTART:20261101T060000
END:STANDARD
BEGIN:DAYLIGHT
TZOFFSETFROM:-0500
TZOFFSETTO:-0400
TZNAME:EDT
DTSTART:20270314T070000
END:DAYLIGHT
BEGIN:STANDARD
TZOFFSETFROM:-0400
TZOFFSETTO:-0500
TZNAME:EST
DTSTART:20271107T060000
END:STANDARD
END:VTIMEZONE
BEGIN:VEVENT
DTSTART;TZID=America/New_York:20260301T103000
DTEND;TZID=America/New_York:20260301T140000
DTSTAMP:20260424T034602
CREATED:20251103T202635Z
LAST-MODIFIED:20251107T150751Z
UID:10016867-1772361000-1772373600@gamemasterspgh.com
SUMMARY:Starfinder 2e: Society Games with Pittsburgh Lodge OPF
DESCRIPTION:Starfinder Society is a worldwide science fantasy campaign that puts you in the role of an agent of the Starfinder Society. The Society is a group of explorers who travel out into the galaxy in search of lost knowledge and technologies\, bringing what they learn back with them to share with the people of the Pact Worlds. \nWe will be doing a set of trial run games of Starfinder 2e’s Society Organized Play to see how it goes: \nhttps://paizo.com/starfindersociety \n\nRegular Pathfinder Society 2nd Edition Scenarios. Join Discord for channel #pathfinder-2e for the latest information on playing! Join the Discord Server!
URL:https://gamemasterspgh.com/event/starfinder-2e-society-games-with-pittsburgh-lodge-opf/2026-03-01/
LOCATION:Regular Table\, 398 Perry Hwy\, Pittsburgh\, PA\, 15229\, United States
CATEGORIES:Closed
ATTACH;FMTTYPE=image/jpeg:https://gamemasterspgh.com/wp-content/uploads/2025/11/358559433_168944892858083_3596475046138377887_n.jpg
ORGANIZER;CN="Steven Cook":MAILTO:ScubaSteve.PFS@gmail.com
END:VEVENT
BEGIN:VEVENT
DTSTART;TZID=America/New_York:20260301T110000
DTEND;TZID=America/New_York:20260301T140000
DTSTAMP:20260424T034602
CREATED:20260202T131825Z
LAST-MODIFIED:20260202T131952Z
UID:10018583-1772362800-1772373600@gamemasterspgh.com
SUMMARY:Pokémon | Pokemon Day Celebration Event!
DESCRIPTION:Join us for our Pokemon Day Celebration as we celebrate 30 years of Pokemon!\n– Earn an exclusive Pokemon Day Promo just for attending!\n– Earn a chance to win a prize by participating in any of our Pokemon Day Festivities!\n– Winners in any of our Tournaments that day will also be awarded a Pokemon Day Prize! \nPokemon Day Festivities: \nFor ALL Pokemon Trainers of any age/any skill level:\n– Show off your Pokemon Spirit by dressing up as your favorite Pokemon character or wear your favorite Pokemon attire.\nActivity Sheets – Coloring and Puzzle pages! \nFor the Trading Card Game\n– Aceless TCG Tournament – Read about the Aceless Format here: https://www.justinbasil.com/league/formats#aceless\n– Demo Deck Battle! – 30-card demo deck\, assigned at random. \nFor the Video Game\n– VG Pokemon Day Challenge – Standard VGC format tournament \nFor Pokemon GO:\n– GO Shuckle Cup – Great League – Bring a Team of Pokemon with CP Limit of 458(Highest CP for Shuckle)\n– Scavenger Hunt – More details will be available closer to the event date. Stay tuned!
URL:https://gamemasterspgh.com/event/pokemon-day-celebration-event/
LOCATION:Regular Table\, 398 Perry Hwy\, Pittsburgh\, PA\, 15229\, United States
CATEGORIES:Open
ATTACH;FMTTYPE=image/jpeg:https://gamemasterspgh.com/wp-content/uploads/2026/02/pokemon-day-e1770038371647.jpg
END:VEVENT
BEGIN:VEVENT
DTSTART;TZID=America/New_York:20260301T120000
DTEND;TZID=America/New_York:20260301T193000
DTSTAMP:20260424T034602
CREATED:20260310T191948Z
LAST-MODIFIED:20260310T191948Z
UID:10019203-1772366400-1772393400@gamemasterspgh.com
SUMMARY:Burning Wheel: The Sword
DESCRIPTION:Closed group TTRPG one shot campaign using the Burning Wheel System
URL:https://gamemasterspgh.com/event/burning-wheel-the-sword/
LOCATION:Regular Table\, 398 Perry Hwy\, Pittsburgh\, PA\, 15229\, United States
ORGANIZER;CN="Zach Pierce":MAILTO:lordoftherink726@gmail.com
END:VEVENT
END:VCALENDAR