BEGIN:VCALENDAR
VERSION:2.0
PRODID:-//Game Masters - ECPv6.15.20//NONSGML v1.0//EN
CALSCALE:GREGORIAN
METHOD:PUBLISH
X-ORIGINAL-URL:https://gamemasterspgh.com
X-WR-CALDESC:Events for Game Masters
REFRESH-INTERVAL;VALUE=DURATION:PT1H
X-Robots-Tag:noindex
X-PUBLISHED-TTL:PT1H
BEGIN:VTIMEZONE
TZID:America/New_York
BEGIN:DAYLIGHT
TZOFFSETFROM:-0500
TZOFFSETTO:-0400
TZNAME:EDT
DTSTART:20250309T070000
END:DAYLIGHT
BEGIN:STANDARD
TZOFFSETFROM:-0400
TZOFFSETTO:-0500
TZNAME:EST
DTSTART:20251102T060000
END:STANDARD
BEGIN:DAYLIGHT
TZOFFSETFROM:-0500
TZOFFSETTO:-0400
TZNAME:EDT
DTSTART:20260308T070000
END:DAYLIGHT
BEGIN:STANDARD
TZOFFSETFROM:-0400
TZOFFSETTO:-0500
TZNAME:EST
DTSTART:20261101T060000
END:STANDARD
BEGIN:DAYLIGHT
TZOFFSETFROM:-0500
TZOFFSETTO:-0400
TZNAME:EDT
DTSTART:20270314T070000
END:DAYLIGHT
BEGIN:STANDARD
TZOFFSETFROM:-0400
TZOFFSETTO:-0500
TZNAME:EST
DTSTART:20271107T060000
END:STANDARD
END:VTIMEZONE
BEGIN:VEVENT
DTSTART;TZID=America/New_York:20260221T120000
DTEND;TZID=America/New_York:20260221T180000
DTSTAMP:20260424T040031
CREATED:20260202T123528Z
LAST-MODIFIED:20260202T131543Z
UID:10007071-1771675200-1771696800@gamemasterspgh.com
SUMMARY:Pokémon | [Open Play And Weekly League]
DESCRIPTION:Come join in before the weekly tournament for casual play\, trading\, conversation\, or to help get you started with learning the rules to start your very own Pokémon collection. \nThis is completely free event to attend! \n\nStandard Tournament\n\nSign Up from 12pm-1pm\nRound 1 Start at 1pm – Ascended Heroes Proxies are allowed for this event\nOpen Play & Trade\nEarly Registration for our TCG League Cup opens
URL:https://gamemasterspgh.com/event/pokemon-openplay-weeklyleague/2026-02-21/
LOCATION:Regular Table\, 398 Perry Hwy\, Pittsburgh\, PA\, 15229\, United States
CATEGORIES:Open
ATTACH;FMTTYPE=image/jpeg:https://gamemasterspgh.com/wp-content/uploads/2023/07/pokemon-e1690852217372.jpg
ORGANIZER;CN="Phil Glotfelty":MAILTO:phil@gamemasterspgh.com
END:VEVENT
BEGIN:VEVENT
DTSTART;TZID=America/New_York:20260221T120000
DTEND;TZID=America/New_York:20260221T180000
DTSTAMP:20260424T040031
CREATED:20260202T125403Z
LAST-MODIFIED:20260202T125545Z
UID:10018579-1771675200-1771696800@gamemasterspgh.com
SUMMARY:Pokémon | [TCG League Challenge]
DESCRIPTION:Deck lists will be required. There will be Online Registration.\nFormat: Standard – Scarlet & Violet thru Phantasmal Flames\n(Regulation mark “G” thru “I”)\nMatches will be 30 mins Best of 1 \nPrizes: 100% of the entry will be paid out in prizes and/or store credit. \nTop Players in each age division will receive Championship Points based upon their placement in each age division. \nEach player will receive at least 1 Prize Series pack for participating.
URL:https://gamemasterspgh.com/event/pokemon-tcg-league-challenge/
LOCATION:Regular Table\, 398 Perry Hwy\, Pittsburgh\, PA\, 15229\, United States
CATEGORIES:Open
ATTACH;FMTTYPE=image/jpeg:https://gamemasterspgh.com/wp-content/uploads/2023/10/league-challenge.jpg
END:VEVENT
BEGIN:VEVENT
DTSTART;TZID=America/New_York:20260221T120000
DTEND;TZID=America/New_York:20260221T190000
DTSTAMP:20260424T040031
CREATED:20260203T154839Z
LAST-MODIFIED:20260203T154839Z
UID:10018593-1771675200-1771700400@gamemasterspgh.com
SUMMARY:Pokémon | [GO League Cup]
DESCRIPTION:Team Lists will be required. There will be blank Team Lists available day of.\nFormat: Standard – Great League\nPrizes: Store Credit will be awarded to Top Players.\nEach player will receive at least 1 Play Series Pack for participating. \nTop players in each age division will receive Championship Points based upon their placement.
URL:https://gamemasterspgh.com/event/pokemon-go-league-cup/
LOCATION:Regular Table\, 398 Perry Hwy\, Pittsburgh\, PA\, 15229\, United States
CATEGORIES:Open
ATTACH;FMTTYPE=image/png:https://gamemasterspgh.com/wp-content/uploads/2024/05/Pokemon_Go_logo-scaled-e1770037904174.png
END:VEVENT
BEGIN:VEVENT
DTSTART;TZID=America/New_York:20260221T120000
DTEND;TZID=America/New_York:20260221T220000
DTSTAMP:20260424T040031
CREATED:20220901T160903Z
LAST-MODIFIED:20250601T160541Z
UID:10004279-1771675200-1771711200@gamemasterspgh.com
SUMMARY:Saturday All-Day Board Gaming
DESCRIPTION:Every week for all day board games!
URL:https://gamemasterspgh.com/event/saturday-board-gaming/2026-02-21/
LOCATION:Regular Table\, 398 Perry Hwy\, Pittsburgh\, PA\, 15229\, United States
CATEGORIES:Open
ATTACH;FMTTYPE=image/png:https://gamemasterspgh.com/wp-content/uploads/2022/09/hexes.png
ORGANIZER;CN="Phil Glotfelty":MAILTO:phil@gamemasterspgh.com
END:VEVENT
BEGIN:VEVENT
DTSTART;TZID=America/New_York:20260221T130000
DTEND;TZID=America/New_York:20260221T160000
DTSTAMP:20260424T040031
CREATED:20250507T024601Z
LAST-MODIFIED:20250601T160330Z
UID:10011079-1771678800-1771689600@gamemasterspgh.com
SUMMARY:Flesh and Blood | [Armories]
DESCRIPTION:Store Link: https://fabtcg.com/en/locator/game-masters/ \n$15 buy-in\, three packs at the door. GEM pack for attendance.
URL:https://gamemasterspgh.com/event/flesh-and-blood-armories/2026-02-21/
LOCATION:Regular Table\, 398 Perry Hwy\, Pittsburgh\, PA\, 15229\, United States
CATEGORIES:Open
ATTACH;FMTTYPE=image/webp:https://gamemasterspgh.com/wp-content/uploads/2022/10/flesh-blood.webp
END:VEVENT
BEGIN:VEVENT
DTSTART;TZID=America/New_York:20260221T140000
DTEND;TZID=America/New_York:20260221T190000
DTSTAMP:20260424T040031
CREATED:20260202T130251Z
LAST-MODIFIED:20260203T155336Z
UID:10018580-1771682400-1771700400@gamemasterspgh.com
SUMMARY:Pokémon | [VG League Cup]
DESCRIPTION:Team Lists are required. Blank ones will be available day of the event. \nEntry: $5 \nFormat: VGC Standard \nPrizes: Store Credit\nEach player will receive at least 1 Play Series Pack for participating. \nTop players in each age division will receive Championship Points based upon their placement. \n 
URL:https://gamemasterspgh.com/event/pokemon-vg-league-cup-02212026/
LOCATION:Regular Table\, 398 Perry Hwy\, Pittsburgh\, PA\, 15229\, United States
CATEGORIES:Open
ATTACH;FMTTYPE=image/png:https://gamemasterspgh.com/wp-content/uploads/2025/04/logo-video-game-challenge-cup-e1770037796847.png
END:VEVENT
BEGIN:VEVENT
DTSTART;TZID=America/New_York:20260221T150000
DTEND;TZID=America/New_York:20260221T190000
DTSTAMP:20260424T040031
CREATED:20260202T130650Z
LAST-MODIFIED:20260203T155028Z
UID:10018582-1771686000-1771700400@gamemasterspgh.com
SUMMARY:Pokémon | [GO League Challenge]
DESCRIPTION:Team Lists will be required. There will be blank Team Lists available day of.\nFormat: Standard – Great League\nPrizes: Store Credit will be awarded to Top Players.\nEach player will receive at least 1 Play Series Pack for participating. \nTop players in each age division will receive Championship Points based upon their placement.
URL:https://gamemasterspgh.com/event/pokemon-go-league-challenge-2212026/
LOCATION:Regular Table\, 398 Perry Hwy\, Pittsburgh\, PA\, 15229\, United States
CATEGORIES:Open
ATTACH;FMTTYPE=image/png:https://gamemasterspgh.com/wp-content/uploads/2024/05/Pokemon_Go_logo-scaled-e1770037904174.png
END:VEVENT
BEGIN:VEVENT
DTSTART;TZID=America/New_York:20260221T150000
DTEND;TZID=America/New_York:20260221T190000
DTSTAMP:20260424T040031
CREATED:20260203T155330Z
LAST-MODIFIED:20260203T155331Z
UID:10018594-1771686000-1771700400@gamemasterspgh.com
SUMMARY:Pokémon | [VG League Challenge]
DESCRIPTION:This event will begin soon after the VG League Cup.\nTeam Lists are required. Blank ones will be available day of the event.\nFormat: VGC Standard\nPrizes: Store Credit\nEach player will receive at least 1 Play Series Pack for participating.\nTop players in each age division will receive Championship Points based upon their placement. \n  \n 
URL:https://gamemasterspgh.com/event/pokemon-vg-league-challenge-02212026/
LOCATION:Regular Table\, 398 Perry Hwy\, Pittsburgh\, PA\, 15229\, United States
CATEGORIES:Open
ATTACH;FMTTYPE=image/png:https://gamemasterspgh.com/wp-content/uploads/2025/04/logo-video-game-challenge-cup-e1770037796847.png
END:VEVENT
END:VCALENDAR